BEGIN:VCALENDAR
VERSION:2.0
PRODID:-//destination.one//NONSGML destination.meta API//DE
X-WR-CALDESC:A calendar powered by destination.meta
X-WR-CALNAME:kiel-sailing-city Kalender via destination.meta
BEGIN:VEVENT
CATEGORIES:Kultur
CATEGORIES:Kultursommer
DESCRIPTION:Keltische Harfe trifft auf ästhetische Bildwelten im Mediendom 
 Kiel und lädt zum Entspannen ein.\n\nmehr Informationen unter http://pages
 .destination.one/de/kiel-sailing-city/streaming/detail/Event/e_100292427/z
 auber-der-anderswelt-musik-f-r-die-seele
DTEND;TZID=Europe/Berlin:20210709T163000
DTSTAMP:20260421T125747Z
DTSTART;TZID=Europe/Berlin:20210709T153000
GEO:54.332809;10.181248
LOCATION:Mediendom\, Sokratesplatz 6\, Kiel
ORGANIZER;CN=Mediendom:mailto:service@mediendom.de
SEQUENCE:0
SUMMARY:Zauber der Anderswelt - Musik für die Seele
UID:e_100292427_iv0
URL:http://pages.destination.one/de/kiel-sailing-city/streaming/detail/Even
 t/e_100292427/zauber-der-anderswelt-musik-f-r-die-seele
END:VEVENT
BEGIN:VEVENT
CATEGORIES:Kultur
CATEGORIES:Kultursommer
DESCRIPTION:Keltische Harfe trifft auf ästhetische Bildwelten im Mediendom 
 Kiel und lädt zum Entspannen ein.\n\nmehr Informationen unter http://pages
 .destination.one/de/kiel-sailing-city/streaming/detail/Event/e_100292427/z
 auber-der-anderswelt-musik-f-r-die-seele
DTEND;TZID=Europe/Berlin:20210828T150000
DTSTAMP:20260421T125747Z
DTSTART;TZID=Europe/Berlin:20210828T140000
GEO:54.332809;10.181248
LOCATION:Mediendom\, Sokratesplatz 6\, Kiel
ORGANIZER;CN=Mediendom:mailto:service@mediendom.de
SEQUENCE:0
SUMMARY:Zauber der Anderswelt - Musik für die Seele
UID:e_100292427_iv1
URL:http://pages.destination.one/de/kiel-sailing-city/streaming/detail/Even
 t/e_100292427/zauber-der-anderswelt-musik-f-r-die-seele
END:VEVENT
BEGIN:VEVENT
CATEGORIES:Kultur
CATEGORIES:Kultursommer
DESCRIPTION:Keltische Harfe trifft auf ästhetische Bildwelten im Mediendom 
 Kiel und lädt zum Entspannen ein.\n\nmehr Informationen unter http://pages
 .destination.one/de/kiel-sailing-city/streaming/detail/Event/e_100292427/z
 auber-der-anderswelt-musik-f-r-die-seele
DTEND;TZID=Europe/Berlin:20221112T235900
DTSTAMP:20260421T125747Z
DTSTART;TZID=Europe/Berlin:20221112T140000
GEO:54.332809;10.181248
LOCATION:Mediendom\, Sokratesplatz 6\, Kiel
ORGANIZER;CN=Mediendom:mailto:service@mediendom.de
SEQUENCE:0
SUMMARY:Zauber der Anderswelt - Musik für die Seele
UID:e_100292427_iv2
URL:http://pages.destination.one/de/kiel-sailing-city/streaming/detail/Even
 t/e_100292427/zauber-der-anderswelt-musik-f-r-die-seele
END:VEVENT
BEGIN:VEVENT
CATEGORIES:Kultur
CATEGORIES:Kultursommer
DESCRIPTION:Keltische Harfe trifft auf ästhetische Bildwelten im Mediendom 
 Kiel und lädt zum Entspannen ein.\n\nmehr Informationen unter http://pages
 .destination.one/de/kiel-sailing-city/streaming/detail/Event/e_100292427/z
 auber-der-anderswelt-musik-f-r-die-seele
DTEND;TZID=Europe/Berlin:20221211T235900
DTSTAMP:20260421T125747Z
DTSTART;TZID=Europe/Berlin:20221211T140000
GEO:54.332809;10.181248
LOCATION:Mediendom\, Sokratesplatz 6\, Kiel
ORGANIZER;CN=Mediendom:mailto:service@mediendom.de
SEQUENCE:0
SUMMARY:Zauber der Anderswelt - Musik für die Seele
UID:e_100292427_iv3
URL:http://pages.destination.one/de/kiel-sailing-city/streaming/detail/Even
 t/e_100292427/zauber-der-anderswelt-musik-f-r-die-seele
END:VEVENT
BEGIN:VEVENT
CATEGORIES:Kultur
CATEGORIES:Kultursommer
DESCRIPTION:Keltische Harfe trifft auf ästhetische Bildwelten im Mediendom 
 Kiel und lädt zum Entspannen ein.\n\nmehr Informationen unter http://pages
 .destination.one/de/kiel-sailing-city/streaming/detail/Event/e_100292427/z
 auber-der-anderswelt-musik-f-r-die-seele
DTEND;TZID=Europe/Berlin:20230318T235900
DTSTAMP:20260421T125747Z
DTSTART;TZID=Europe/Berlin:20230318T170000
GEO:54.332809;10.181248
LOCATION:Mediendom\, Sokratesplatz 6\, Kiel
ORGANIZER;CN=Mediendom:mailto:service@mediendom.de
SEQUENCE:0
SUMMARY:Zauber der Anderswelt - Musik für die Seele
UID:e_100292427_iv4
URL:http://pages.destination.one/de/kiel-sailing-city/streaming/detail/Even
 t/e_100292427/zauber-der-anderswelt-musik-f-r-die-seele
END:VEVENT
BEGIN:VEVENT
CATEGORIES:Kultur
CATEGORIES:Kultursommer
DESCRIPTION:Keltische Harfe trifft auf ästhetische Bildwelten im Mediendom 
 Kiel und lädt zum Entspannen ein.\n\nmehr Informationen unter http://pages
 .destination.one/de/kiel-sailing-city/streaming/detail/Event/e_100292427/z
 auber-der-anderswelt-musik-f-r-die-seele
DTEND;TZID=Europe/Berlin:20230610T235900
DTSTAMP:20260421T125747Z
DTSTART;TZID=Europe/Berlin:20230610T140000
GEO:54.332809;10.181248
LOCATION:Mediendom\, Sokratesplatz 6\, Kiel
ORGANIZER;CN=Mediendom:mailto:service@mediendom.de
SEQUENCE:0
SUMMARY:Zauber der Anderswelt - Musik für die Seele
UID:e_100292427_iv5
URL:http://pages.destination.one/de/kiel-sailing-city/streaming/detail/Even
 t/e_100292427/zauber-der-anderswelt-musik-f-r-die-seele
END:VEVENT
BEGIN:VEVENT
CATEGORIES:Kultur
CATEGORIES:Kultursommer
DESCRIPTION:Keltische Harfe trifft auf ästhetische Bildwelten im Mediendom 
 Kiel und lädt zum Entspannen ein.\n\nmehr Informationen unter http://pages
 .destination.one/de/kiel-sailing-city/streaming/detail/Event/e_100292427/z
 auber-der-anderswelt-musik-f-r-die-seele
DTEND;TZID=Europe/Berlin:20240310T235900
DTSTAMP:20260421T125747Z
DTSTART;TZID=Europe/Berlin:20240310T140000
GEO:54.332809;10.181248
LOCATION:Mediendom\, Sokratesplatz 6\, Kiel
ORGANIZER;CN=Mediendom:mailto:service@mediendom.de
SEQUENCE:0
SUMMARY:Zauber der Anderswelt - Musik für die Seele
UID:e_100292427_iv6
URL:http://pages.destination.one/de/kiel-sailing-city/streaming/detail/Even
 t/e_100292427/zauber-der-anderswelt-musik-f-r-die-seele
END:VEVENT
BEGIN:VEVENT
CATEGORIES:Kultur
CATEGORIES:Kultursommer
DESCRIPTION:Keltische Harfe trifft auf ästhetische Bildwelten im Mediendom 
 Kiel und lädt zum Entspannen ein.\n\nmehr Informationen unter http://pages
 .destination.one/de/kiel-sailing-city/streaming/detail/Event/e_100292427/z
 auber-der-anderswelt-musik-f-r-die-seele
DTEND;TZID=Europe/Berlin:20240811T180000
DTSTAMP:20260421T125747Z
DTSTART;TZID=Europe/Berlin:20240811T170000
GEO:54.332809;10.181248
LOCATION:Mediendom\, Sokratesplatz 6\, Kiel
ORGANIZER;CN=Mediendom:mailto:service@mediendom.de
SEQUENCE:0
SUMMARY:Zauber der Anderswelt - Musik für die Seele
UID:e_100292427_iv7
URL:http://pages.destination.one/de/kiel-sailing-city/streaming/detail/Even
 t/e_100292427/zauber-der-anderswelt-musik-f-r-die-seele
END:VEVENT
BEGIN:VEVENT
CATEGORIES:Kultur
CATEGORIES:Kultursommer
DESCRIPTION:Keltische Harfe trifft auf ästhetische Bildwelten im Mediendom 
 Kiel und lädt zum Entspannen ein.\n\nmehr Informationen unter http://pages
 .destination.one/de/kiel-sailing-city/streaming/detail/Event/e_100292427/z
 auber-der-anderswelt-musik-f-r-die-seele
DTEND;TZID=Europe/Berlin:20241013T150000
DTSTAMP:20260421T125747Z
DTSTART;TZID=Europe/Berlin:20241013T140000
GEO:54.332809;10.181248
LOCATION:Mediendom\, Sokratesplatz 6\, Kiel
ORGANIZER;CN=Mediendom:mailto:service@mediendom.de
SEQUENCE:0
SUMMARY:Zauber der Anderswelt - Musik für die Seele
UID:e_100292427_iv8
URL:http://pages.destination.one/de/kiel-sailing-city/streaming/detail/Even
 t/e_100292427/zauber-der-anderswelt-musik-f-r-die-seele
END:VEVENT
BEGIN:VEVENT
CATEGORIES:Kultur
CATEGORIES:Kultursommer
DESCRIPTION:Keltische Harfe trifft auf ästhetische Bildwelten im Mediendom 
 Kiel und lädt zum Entspannen ein.\n\nmehr Informationen unter http://pages
 .destination.one/de/kiel-sailing-city/streaming/detail/Event/e_100292427/z
 auber-der-anderswelt-musik-f-r-die-seele
DTEND;TZID=Europe/Berlin:20250316T150000
DTSTAMP:20260421T125747Z
DTSTART;TZID=Europe/Berlin:20250316T140000
GEO:54.332809;10.181248
LOCATION:Mediendom\, Sokratesplatz 6\, Kiel
ORGANIZER;CN=Mediendom:mailto:service@mediendom.de
SEQUENCE:0
SUMMARY:Zauber der Anderswelt - Musik für die Seele
UID:e_100292427_iv9
URL:http://pages.destination.one/de/kiel-sailing-city/streaming/detail/Even
 t/e_100292427/zauber-der-anderswelt-musik-f-r-die-seele
END:VEVENT
BEGIN:VEVENT
CATEGORIES:Kultur
CATEGORIES:Kultursommer
DESCRIPTION:Keltische Harfe trifft auf ästhetische Bildwelten im Mediendom 
 Kiel und lädt zum Entspannen ein.\n\nmehr Informationen unter http://pages
 .destination.one/de/kiel-sailing-city/streaming/detail/Event/e_100292427/z
 auber-der-anderswelt-musik-f-r-die-seele
DTEND;TZID=Europe/Berlin:20250427T150000
DTSTAMP:20260421T125747Z
DTSTART;TZID=Europe/Berlin:20250427T140000
GEO:54.332809;10.181248
LOCATION:Mediendom\, Sokratesplatz 6\, Kiel
ORGANIZER;CN=Mediendom:mailto:service@mediendom.de
SEQUENCE:0
SUMMARY:Zauber der Anderswelt - Musik für die Seele
UID:e_100292427_iv10
URL:http://pages.destination.one/de/kiel-sailing-city/streaming/detail/Even
 t/e_100292427/zauber-der-anderswelt-musik-f-r-die-seele
END:VEVENT
BEGIN:VEVENT
CATEGORIES:Kultur
CATEGORIES:Kultursommer
DESCRIPTION:Keltische Harfe trifft auf ästhetische Bildwelten im Mediendom 
 Kiel und lädt zum Entspannen ein.\n\nmehr Informationen unter http://pages
 .destination.one/de/kiel-sailing-city/streaming/detail/Event/e_100292427/z
 auber-der-anderswelt-musik-f-r-die-seele
DTEND;TZID=Europe/Berlin:20250727T150000
DTSTAMP:20260421T125747Z
DTSTART;TZID=Europe/Berlin:20250727T140000
GEO:54.332809;10.181248
LOCATION:Mediendom\, Sokratesplatz 6\, Kiel
ORGANIZER;CN=Mediendom:mailto:service@mediendom.de
SEQUENCE:0
SUMMARY:Zauber der Anderswelt - Musik für die Seele
UID:e_100292427_iv11
URL:http://pages.destination.one/de/kiel-sailing-city/streaming/detail/Even
 t/e_100292427/zauber-der-anderswelt-musik-f-r-die-seele
END:VEVENT
BEGIN:VEVENT
CATEGORIES:Kultur
CATEGORIES:Kultursommer
DESCRIPTION:Keltische Harfe trifft auf ästhetische Bildwelten im Mediendom 
 Kiel und lädt zum Entspannen ein.\n\nmehr Informationen unter http://pages
 .destination.one/de/kiel-sailing-city/streaming/detail/Event/e_100292427/z
 auber-der-anderswelt-musik-f-r-die-seele
DTEND;TZID=Europe/Berlin:20250824T150000
DTSTAMP:20260421T125747Z
DTSTART;TZID=Europe/Berlin:20250824T140000
GEO:54.332809;10.181248
LOCATION:Mediendom\, Sokratesplatz 6\, Kiel
ORGANIZER;CN=Mediendom:mailto:service@mediendom.de
SEQUENCE:0
SUMMARY:Zauber der Anderswelt - Musik für die Seele
UID:e_100292427_iv12
URL:http://pages.destination.one/de/kiel-sailing-city/streaming/detail/Even
 t/e_100292427/zauber-der-anderswelt-musik-f-r-die-seele
END:VEVENT
BEGIN:VEVENT
CATEGORIES:Kultur
CATEGORIES:Kultursommer
DESCRIPTION:Keltische Harfe trifft auf ästhetische Bildwelten im Mediendom 
 Kiel und lädt zum Entspannen ein.\n\nmehr Informationen unter http://pages
 .destination.one/de/kiel-sailing-city/streaming/detail/Event/e_100292427/z
 auber-der-anderswelt-musik-f-r-die-seele
DTEND;TZID=Europe/Berlin:20251123T150000
DTSTAMP:20260421T125747Z
DTSTART;TZID=Europe/Berlin:20251123T140000
GEO:54.332809;10.181248
LOCATION:Mediendom\, Sokratesplatz 6\, Kiel
ORGANIZER;CN=Mediendom:mailto:service@mediendom.de
SEQUENCE:0
SUMMARY:Zauber der Anderswelt - Musik für die Seele
UID:e_100292427_iv13
URL:http://pages.destination.one/de/kiel-sailing-city/streaming/detail/Even
 t/e_100292427/zauber-der-anderswelt-musik-f-r-die-seele
END:VEVENT
BEGIN:VEVENT
CATEGORIES:Kultur
CATEGORIES:Kultursommer
DESCRIPTION:Keltische Harfe trifft auf ästhetische Bildwelten im Mediendom 
 Kiel und lädt zum Entspannen ein.\n\nmehr Informationen unter http://pages
 .destination.one/de/kiel-sailing-city/streaming/detail/Event/e_100292427/z
 auber-der-anderswelt-musik-f-r-die-seele
DTEND;TZID=Europe/Berlin:20260222T150000
DTSTAMP:20260421T125747Z
DTSTART;TZID=Europe/Berlin:20260222T140000
GEO:54.332809;10.181248
LOCATION:Mediendom\, Sokratesplatz 6\, Kiel
ORGANIZER;CN=Mediendom:mailto:service@mediendom.de
SEQUENCE:0
SUMMARY:Zauber der Anderswelt - Musik für die Seele
UID:e_100292427_iv14
URL:http://pages.destination.one/de/kiel-sailing-city/streaming/detail/Even
 t/e_100292427/zauber-der-anderswelt-musik-f-r-die-seele
END:VEVENT
BEGIN:VEVENT
CATEGORIES:Kultur
CATEGORIES:Kultursommer
DESCRIPTION:Keltische Harfe trifft auf ästhetische Bildwelten im Mediendom 
 Kiel und lädt zum Entspannen ein.\n\nmehr Informationen unter http://pages
 .destination.one/de/kiel-sailing-city/streaming/detail/Event/e_100292427/z
 auber-der-anderswelt-musik-f-r-die-seele
DTEND;TZID=Europe/Berlin:20260503T150000
DTSTAMP:20260421T125747Z
DTSTART;TZID=Europe/Berlin:20260503T140000
GEO:54.332809;10.181248
LOCATION:Mediendom\, Sokratesplatz 6\, Kiel
ORGANIZER;CN=Mediendom:mailto:service@mediendom.de
SEQUENCE:0
SUMMARY:Zauber der Anderswelt - Musik für die Seele
UID:e_100292427_iv15
URL:http://pages.destination.one/de/kiel-sailing-city/streaming/detail/Even
 t/e_100292427/zauber-der-anderswelt-musik-f-r-die-seele
END:VEVENT
BEGIN:VEVENT
CATEGORIES:Kultur
CATEGORIES:Kultursommer
DESCRIPTION:Keltische Harfe trifft auf ästhetische Bildwelten im Mediendom 
 Kiel und lädt zum Entspannen ein.\n\nmehr Informationen unter http://pages
 .destination.one/de/kiel-sailing-city/streaming/detail/Event/e_100292427/z
 auber-der-anderswelt-musik-f-r-die-seele
DTEND;TZID=Europe/Berlin:20260607T150000
DTSTAMP:20260421T125747Z
DTSTART;TZID=Europe/Berlin:20260607T140000
GEO:54.332809;10.181248
LOCATION:Mediendom\, Sokratesplatz 6\, Kiel
ORGANIZER;CN=Mediendom:mailto:service@mediendom.de
SEQUENCE:0
SUMMARY:Zauber der Anderswelt - Musik für die Seele
UID:e_100292427_iv16
URL:http://pages.destination.one/de/kiel-sailing-city/streaming/detail/Even
 t/e_100292427/zauber-der-anderswelt-musik-f-r-die-seele
END:VEVENT
BEGIN:VTIMEZONE
TZID:Europe/Berlin
X-LIC-LOCATION:Europe/Berlin
BEGIN:DAYLIGHT
DTSTART:19700329T020000
RRULE:FREQ=YEARLY;BYDAY=-1SU;BYMONTH=3
TZNAME:CEST
TZOFFSETFROM:+0100
TZOFFSETTO:+0200
END:DAYLIGHT
BEGIN:STANDARD
DTSTART:19701025T030000
RRULE:FREQ=YEARLY;BYDAY=-1SU;BYMONTH=10
TZNAME:CET
TZOFFSETFROM:+0200
TZOFFSETTO:+0100
END:STANDARD
END:VTIMEZONE
END:VCALENDAR
