BEGIN:VCALENDAR
VERSION:2.0
PRODID:-//destination.one//NONSGML destination.meta API//DE
X-WR-CALDESC:A calendar powered by destination.meta
X-WR-CALNAME:kiel-sailing-city Kalender via destination.meta
BEGIN:VEVENT
CATEGORIES:Kieler-Woche
CATEGORIES:Segeln
CATEGORIES:Kultur
CATEGORIES:Sport/Freizeit
CATEGORIES:Kinderprogramm
CATEGORIES:Kultursommer
DESCRIPTION:Open Camp - Segeln für alle! Die Kieler Woche vom Wasser aus er
 leben: Komm an Bord und Leinen los!\n\nmehr Informationen unter http://pag
 es.destination.one/de/kiel-sailing-city/streaming/detail/Event/e_100616037
 /schnuppersegeln-zur-kieler-woche-im-segelcamp
DTEND;TZID=Europe/Berlin:20230616T180000
DTSTAMP:20260423T160703Z
DTSTART;TZID=Europe/Berlin:20230616T090000
GEO:54.332322;10.151378
LOCATION:Segelcamp powered by Stadtwerke Kiel\, Kiellinie\, Kiel
PRIORITY:4
RRULE:FREQ=DAILY;UNTIL=20230630T160000
SEQUENCE:0
SUMMARY:Schnuppersegeln zur Kieler Woche im Segelcamp 
UID:e_100616037_iv0
URL:http://pages.destination.one/de/kiel-sailing-city/streaming/detail/Even
 t/e_100616037/schnuppersegeln-zur-kieler-woche-im-segelcamp
END:VEVENT
BEGIN:VEVENT
CATEGORIES:Kieler-Woche
CATEGORIES:Segeln
CATEGORIES:Kultur
CATEGORIES:Sport/Freizeit
CATEGORIES:Kinderprogramm
CATEGORIES:Kultursommer
DESCRIPTION:Open Camp - Segeln für alle! Die Kieler Woche vom Wasser aus er
 leben: Komm an Bord und Leinen los!\n\nmehr Informationen unter http://pag
 es.destination.one/de/kiel-sailing-city/streaming/detail/Event/e_100616037
 /schnuppersegeln-zur-kieler-woche-im-segelcamp
DTEND;TZID=Europe/Berlin:20250621T180000
DTSTAMP:20260423T160703Z
DTSTART;TZID=Europe/Berlin:20250621T083000
GEO:54.332322;10.151378
LOCATION:Segelcamp powered by Stadtwerke Kiel\, Kiellinie\, Kiel
PRIORITY:4
RRULE:FREQ=DAILY;UNTIL=20250629T160000
SEQUENCE:0
SUMMARY:Schnuppersegeln zur Kieler Woche im Segelcamp 
UID:e_100616037_iv1
URL:http://pages.destination.one/de/kiel-sailing-city/streaming/detail/Even
 t/e_100616037/schnuppersegeln-zur-kieler-woche-im-segelcamp
END:VEVENT
BEGIN:VEVENT
CATEGORIES:Kieler-Woche
CATEGORIES:Segeln
CATEGORIES:Kultur
CATEGORIES:Sport/Freizeit
CATEGORIES:Kinderprogramm
CATEGORIES:Kultursommer
DESCRIPTION:Open Camp - Segeln für alle! Die Kieler Woche vom Wasser aus er
 leben: Komm an Bord und Leinen los!\n\nmehr Informationen unter http://pag
 es.destination.one/de/kiel-sailing-city/streaming/detail/Event/e_100616037
 /schnuppersegeln-zur-kieler-woche-im-segelcamp
DTEND;TZID=Europe/Berlin:20260619T235900
DTSTAMP:20260423T160703Z
DTSTART;TZID=Europe/Berlin:20260619T100000
GEO:54.332322;10.151378
LOCATION:Segelcamp powered by Stadtwerke Kiel\, Kiellinie\, Kiel
PRIORITY:4
RRULE:FREQ=WEEKLY;UNTIL=20260628T215900;BYDAY=MO,TU,WE,TH,FR,SA,SU
SEQUENCE:0
SUMMARY:Schnuppersegeln zur Kieler Woche im Segelcamp 
UID:e_100616037_iv2
URL:http://pages.destination.one/de/kiel-sailing-city/streaming/detail/Even
 t/e_100616037/schnuppersegeln-zur-kieler-woche-im-segelcamp
END:VEVENT
BEGIN:VEVENT
CATEGORIES:Kieler-Woche
CATEGORIES:Segeln
CATEGORIES:Kultur
CATEGORIES:Sport/Freizeit
CATEGORIES:Kinderprogramm
CATEGORIES:Kultursommer
DESCRIPTION:Open Camp - Segeln für alle! Die Kieler Woche vom Wasser aus er
 leben: Komm an Bord und Leinen los!\n\nmehr Informationen unter http://pag
 es.destination.one/de/kiel-sailing-city/streaming/detail/Event/e_100616037
 /schnuppersegeln-zur-kieler-woche-im-segelcamp
DTEND;TZID=Europe/Berlin:20260619T235900
DTSTAMP:20260423T160703Z
DTSTART;TZID=Europe/Berlin:20260619T113000
GEO:54.332322;10.151378
LOCATION:Segelcamp powered by Stadtwerke Kiel\, Kiellinie\, Kiel
PRIORITY:4
RRULE:FREQ=WEEKLY;UNTIL=20260628T215900;BYDAY=MO,TU,WE,TH,FR,SA,SU
SEQUENCE:0
SUMMARY:Schnuppersegeln zur Kieler Woche im Segelcamp 
UID:e_100616037_iv3
URL:http://pages.destination.one/de/kiel-sailing-city/streaming/detail/Even
 t/e_100616037/schnuppersegeln-zur-kieler-woche-im-segelcamp
END:VEVENT
BEGIN:VEVENT
CATEGORIES:Kieler-Woche
CATEGORIES:Segeln
CATEGORIES:Kultur
CATEGORIES:Sport/Freizeit
CATEGORIES:Kinderprogramm
CATEGORIES:Kultursommer
DESCRIPTION:Open Camp - Segeln für alle! Die Kieler Woche vom Wasser aus er
 leben: Komm an Bord und Leinen los!\n\nmehr Informationen unter http://pag
 es.destination.one/de/kiel-sailing-city/streaming/detail/Event/e_100616037
 /schnuppersegeln-zur-kieler-woche-im-segelcamp
DTEND;TZID=Europe/Berlin:20260619T235900
DTSTAMP:20260423T160703Z
DTSTART;TZID=Europe/Berlin:20260619T133000
GEO:54.332322;10.151378
LOCATION:Segelcamp powered by Stadtwerke Kiel\, Kiellinie\, Kiel
PRIORITY:4
RRULE:FREQ=WEEKLY;UNTIL=20260628T215900;BYDAY=MO,TU,WE,TH,FR,SA,SU
SEQUENCE:0
SUMMARY:Schnuppersegeln zur Kieler Woche im Segelcamp 
UID:e_100616037_iv4
URL:http://pages.destination.one/de/kiel-sailing-city/streaming/detail/Even
 t/e_100616037/schnuppersegeln-zur-kieler-woche-im-segelcamp
END:VEVENT
BEGIN:VEVENT
CATEGORIES:Kieler-Woche
CATEGORIES:Segeln
CATEGORIES:Kultur
CATEGORIES:Sport/Freizeit
CATEGORIES:Kinderprogramm
CATEGORIES:Kultursommer
DESCRIPTION:Open Camp - Segeln für alle! Die Kieler Woche vom Wasser aus er
 leben: Komm an Bord und Leinen los!\n\nmehr Informationen unter http://pag
 es.destination.one/de/kiel-sailing-city/streaming/detail/Event/e_100616037
 /schnuppersegeln-zur-kieler-woche-im-segelcamp
DTEND;TZID=Europe/Berlin:20260619T235900
DTSTAMP:20260423T160703Z
DTSTART;TZID=Europe/Berlin:20260619T140000
GEO:54.332322;10.151378
LOCATION:Segelcamp powered by Stadtwerke Kiel\, Kiellinie\, Kiel
PRIORITY:4
RRULE:FREQ=WEEKLY;UNTIL=20260628T215900;BYDAY=MO,TU,WE,TH,FR,SA,SU
SEQUENCE:0
SUMMARY:Schnuppersegeln zur Kieler Woche im Segelcamp 
UID:e_100616037_iv5
URL:http://pages.destination.one/de/kiel-sailing-city/streaming/detail/Even
 t/e_100616037/schnuppersegeln-zur-kieler-woche-im-segelcamp
END:VEVENT
BEGIN:VEVENT
CATEGORIES:Kieler-Woche
CATEGORIES:Segeln
CATEGORIES:Kultur
CATEGORIES:Sport/Freizeit
CATEGORIES:Kinderprogramm
CATEGORIES:Kultursommer
DESCRIPTION:Open Camp - Segeln für alle! Die Kieler Woche vom Wasser aus er
 leben: Komm an Bord und Leinen los!\n\nmehr Informationen unter http://pag
 es.destination.one/de/kiel-sailing-city/streaming/detail/Event/e_100616037
 /schnuppersegeln-zur-kieler-woche-im-segelcamp
DTEND;TZID=Europe/Berlin:20260619T235900
DTSTAMP:20260423T160703Z
DTSTART;TZID=Europe/Berlin:20260619T153000
GEO:54.332322;10.151378
LOCATION:Segelcamp powered by Stadtwerke Kiel\, Kiellinie\, Kiel
PRIORITY:4
RRULE:FREQ=WEEKLY;UNTIL=20260628T215900;BYDAY=MO,TU,WE,TH,FR,SA,SU
SEQUENCE:0
SUMMARY:Schnuppersegeln zur Kieler Woche im Segelcamp 
UID:e_100616037_iv6
URL:http://pages.destination.one/de/kiel-sailing-city/streaming/detail/Even
 t/e_100616037/schnuppersegeln-zur-kieler-woche-im-segelcamp
END:VEVENT
BEGIN:VEVENT
CATEGORIES:Kieler-Woche
CATEGORIES:Segeln
CATEGORIES:Kultur
CATEGORIES:Sport/Freizeit
CATEGORIES:Kinderprogramm
CATEGORIES:Kultursommer
DESCRIPTION:Open Camp - Segeln für alle! Die Kieler Woche vom Wasser aus er
 leben: Komm an Bord und Leinen los!\n\nmehr Informationen unter http://pag
 es.destination.one/de/kiel-sailing-city/streaming/detail/Event/e_100616037
 /schnuppersegeln-zur-kieler-woche-im-segelcamp
DTEND;TZID=Europe/Berlin:20260619T235900
DTSTAMP:20260423T160703Z
DTSTART;TZID=Europe/Berlin:20260619T170000
GEO:54.332322;10.151378
LOCATION:Segelcamp powered by Stadtwerke Kiel\, Kiellinie\, Kiel
PRIORITY:4
RRULE:FREQ=WEEKLY;UNTIL=20260628T215900;BYDAY=MO,TU,WE,TH,FR,SA,SU
SEQUENCE:0
SUMMARY:Schnuppersegeln zur Kieler Woche im Segelcamp 
UID:e_100616037_iv7
URL:http://pages.destination.one/de/kiel-sailing-city/streaming/detail/Even
 t/e_100616037/schnuppersegeln-zur-kieler-woche-im-segelcamp
END:VEVENT
BEGIN:VTIMEZONE
TZID:Europe/Berlin
X-LIC-LOCATION:Europe/Berlin
BEGIN:DAYLIGHT
DTSTART:19700329T020000
RRULE:FREQ=YEARLY;BYDAY=-1SU;BYMONTH=3
TZNAME:CEST
TZOFFSETFROM:+0100
TZOFFSETTO:+0200
END:DAYLIGHT
BEGIN:STANDARD
DTSTART:19701025T030000
RRULE:FREQ=YEARLY;BYDAY=-1SU;BYMONTH=10
TZNAME:CET
TZOFFSETFROM:+0200
TZOFFSETTO:+0100
END:STANDARD
END:VTIMEZONE
END:VCALENDAR
