BEGIN:VCALENDAR
VERSION:2.0
PRODID:-//destination.one//NONSGML destination.meta API//DE
X-WR-CALDESC:A calendar powered by destination.meta
X-WR-CALNAME:kiel-sailing-city Kalender via destination.meta
BEGIN:VEVENT
CATEGORIES:Segeln
CATEGORIES:Sport/Freizeit
CATEGORIES:Kultursommer
CATEGORIES:Kultur
DESCRIPTION:Bundesliga-Segeln vom Feinsten wird auf der Kieler (Innen-)förd
 e geboten.\n\nmehr Informationen unter http://pages.destination.one/de/kie
 l-sailing-city/streaming/detail/Event/e_100616823/deutsche-segel-bundeslig
 a
DTEND;TZID=Europe/Berlin;VALUE=DATE:20230819
DTSTAMP:20260423T160644Z
DTSTART;TZID=Europe/Berlin;VALUE=DATE:20230818
GEO:54.343390;10.154516
LOCATION:Kieler Förde \, Kiellinie 90\, Kiel
RRULE:FREQ=WEEKLY;UNTIL=20230819T220000;BYDAY=FR,SA,SU
SEQUENCE:0
SUMMARY:Deutsche Segel-Bundesliga
UID:e_100616823_iv0
URL:http://pages.destination.one/de/kiel-sailing-city/streaming/detail/Even
 t/e_100616823/deutsche-segel-bundesliga
END:VEVENT
BEGIN:VEVENT
CATEGORIES:Segeln
CATEGORIES:Sport/Freizeit
CATEGORIES:Kultursommer
CATEGORIES:Kultur
DESCRIPTION:Bundesliga-Segeln vom Feinsten wird auf der Kieler (Innen-)förd
 e geboten.\n\nmehr Informationen unter http://pages.destination.one/de/kie
 l-sailing-city/streaming/detail/Event/e_100616823/deutsche-segel-bundeslig
 a
DTEND;TZID=Europe/Berlin;VALUE=DATE:20240727
DTSTAMP:20260423T160644Z
DTSTART;TZID=Europe/Berlin;VALUE=DATE:20240726
GEO:54.343390;10.154516
LOCATION:Kieler Förde \, Kiellinie 90\, Kiel
RRULE:FREQ=DAILY;UNTIL=20240727T220000
SEQUENCE:0
SUMMARY:Deutsche Segel-Bundesliga
UID:e_100616823_iv1
URL:http://pages.destination.one/de/kiel-sailing-city/streaming/detail/Even
 t/e_100616823/deutsche-segel-bundesliga
END:VEVENT
BEGIN:VEVENT
CATEGORIES:Segeln
CATEGORIES:Sport/Freizeit
CATEGORIES:Kultursommer
CATEGORIES:Kultur
DESCRIPTION:Bundesliga-Segeln vom Feinsten wird auf der Kieler (Innen-)förd
 e geboten.\n\nmehr Informationen unter http://pages.destination.one/de/kie
 l-sailing-city/streaming/detail/Event/e_100616823/deutsche-segel-bundeslig
 a
DTEND;TZID=Europe/Berlin;VALUE=DATE:20240831
DTSTAMP:20260423T160644Z
DTSTART;TZID=Europe/Berlin;VALUE=DATE:20240830
GEO:54.343390;10.154516
LOCATION:Kieler Förde \, Kiellinie 90\, Kiel
RRULE:FREQ=DAILY;UNTIL=20240831T220000
SEQUENCE:0
SUMMARY:Deutsche Segel-Bundesliga
UID:e_100616823_iv2
URL:http://pages.destination.one/de/kiel-sailing-city/streaming/detail/Even
 t/e_100616823/deutsche-segel-bundesliga
END:VEVENT
BEGIN:VEVENT
CATEGORIES:Segeln
CATEGORIES:Sport/Freizeit
CATEGORIES:Kultursommer
CATEGORIES:Kultur
DESCRIPTION:Bundesliga-Segeln vom Feinsten wird auf der Kieler (Innen-)förd
 e geboten.\n\nmehr Informationen unter http://pages.destination.one/de/kie
 l-sailing-city/streaming/detail/Event/e_100616823/deutsche-segel-bundeslig
 a
DTEND;TZID=Europe/Berlin;VALUE=DATE:20250510
DTSTAMP:20260423T160644Z
DTSTART;TZID=Europe/Berlin;VALUE=DATE:20250509
GEO:54.343390;10.154516
LOCATION:Kieler Förde \, Kiellinie 90\, Kiel
RRULE:FREQ=DAILY;UNTIL=20250510T220000
SEQUENCE:0
SUMMARY:Deutsche Segel-Bundesliga
UID:e_100616823_iv3
URL:http://pages.destination.one/de/kiel-sailing-city/streaming/detail/Even
 t/e_100616823/deutsche-segel-bundesliga
END:VEVENT
BEGIN:VEVENT
CATEGORIES:Segeln
CATEGORIES:Sport/Freizeit
CATEGORIES:Kultursommer
CATEGORIES:Kultur
DESCRIPTION:Bundesliga-Segeln vom Feinsten wird auf der Kieler (Innen-)förd
 e geboten.\n\nmehr Informationen unter http://pages.destination.one/de/kie
 l-sailing-city/streaming/detail/Event/e_100616823/deutsche-segel-bundeslig
 a
DTEND;TZID=Europe/Berlin;VALUE=DATE:20250524
DTSTAMP:20260423T160644Z
DTSTART;TZID=Europe/Berlin;VALUE=DATE:20250523
GEO:54.343390;10.154516
LOCATION:Kieler Förde \, Kiellinie 90\, Kiel
RRULE:FREQ=DAILY;UNTIL=20250524T220000
SEQUENCE:0
SUMMARY:Deutsche Segel-Bundesliga
UID:e_100616823_iv4
URL:http://pages.destination.one/de/kiel-sailing-city/streaming/detail/Even
 t/e_100616823/deutsche-segel-bundesliga
END:VEVENT
BEGIN:VEVENT
CATEGORIES:Segeln
CATEGORIES:Sport/Freizeit
CATEGORIES:Kultursommer
CATEGORIES:Kultur
DESCRIPTION:Bundesliga-Segeln vom Feinsten wird auf der Kieler (Innen-)förd
 e geboten.\n\nmehr Informationen unter http://pages.destination.one/de/kie
 l-sailing-city/streaming/detail/Event/e_100616823/deutsche-segel-bundeslig
 a
DTEND;TZID=Europe/Berlin;VALUE=DATE:20250608
DTSTAMP:20260423T160644Z
DTSTART;TZID=Europe/Berlin;VALUE=DATE:20250607
GEO:54.343390;10.154516
LOCATION:Kieler Förde \, Kiellinie 90\, Kiel
RRULE:FREQ=DAILY;UNTIL=20250608T220000
SEQUENCE:0
SUMMARY:Deutsche Segel-Bundesliga
UID:e_100616823_iv5
URL:http://pages.destination.one/de/kiel-sailing-city/streaming/detail/Even
 t/e_100616823/deutsche-segel-bundesliga
END:VEVENT
BEGIN:VEVENT
CATEGORIES:Segeln
CATEGORIES:Sport/Freizeit
CATEGORIES:Kultursommer
CATEGORIES:Kultur
DESCRIPTION:Bundesliga-Segeln vom Feinsten wird auf der Kieler (Innen-)förd
 e geboten.\n\nmehr Informationen unter http://pages.destination.one/de/kie
 l-sailing-city/streaming/detail/Event/e_100616823/deutsche-segel-bundeslig
 a
DTEND;TZID=Europe/Berlin;VALUE=DATE:20260713
DTSTAMP:20260423T160644Z
DTSTART;TZID=Europe/Berlin;VALUE=DATE:20260710
GEO:54.343390;10.154516
LOCATION:Kieler Förde \, Kiellinie 90\, Kiel
SEQUENCE:0
SUMMARY:Deutsche Segel-Bundesliga
UID:e_100616823_iv6
URL:http://pages.destination.one/de/kiel-sailing-city/streaming/detail/Even
 t/e_100616823/deutsche-segel-bundesliga
END:VEVENT
BEGIN:VTIMEZONE
TZID:Europe/Berlin
X-LIC-LOCATION:Europe/Berlin
BEGIN:DAYLIGHT
DTSTART:19700329T020000
RRULE:FREQ=YEARLY;BYDAY=-1SU;BYMONTH=3
TZNAME:CEST
TZOFFSETFROM:+0100
TZOFFSETTO:+0200
END:DAYLIGHT
BEGIN:STANDARD
DTSTART:19701025T030000
RRULE:FREQ=YEARLY;BYDAY=-1SU;BYMONTH=10
TZNAME:CET
TZOFFSETFROM:+0200
TZOFFSETTO:+0100
END:STANDARD
END:VTIMEZONE
END:VCALENDAR
