BEGIN:VCALENDAR
VERSION:2.0
PRODID:-//destination.one//NONSGML destination.meta API//DE
X-WR-CALDESC:A calendar powered by destination.meta
X-WR-CALNAME:kiel-sailing-city Kalender via destination.meta
BEGIN:VEVENT
CATEGORIES:Sport/Freizeit
CATEGORIES:Segeln
DESCRIPTION:Entdecke die schönsten Seiten Kiels vom Wasser aus und erfahre 
 Wissenswertes über die Stadt\n\nmehr Informationen unter http://pages.dest
 ination.one/de/kiel-sailing-city/streaming/detail/Event/e_100815390/gesege
 lte-stadtrundfahrt
DTEND;TZID=Europe/Berlin:20240518T235900
DTSTAMP:20260422T094241Z
DTSTART;TZID=Europe/Berlin:20240518T123000
GEO:54.332322;10.151378
LOCATION:Segelcamp powered by Stadtwerke Kiel\, Kiellinie\, Kiel
SEQUENCE:0
SUMMARY:Gesegelte Stadtrundfahrt
UID:e_100815390_iv0
URL:http://pages.destination.one/de/kiel-sailing-city/streaming/detail/Even
 t/e_100815390/gesegelte-stadtrundfahrt
END:VEVENT
BEGIN:VEVENT
CATEGORIES:Sport/Freizeit
CATEGORIES:Segeln
DESCRIPTION:Entdecke die schönsten Seiten Kiels vom Wasser aus und erfahre 
 Wissenswertes über die Stadt\n\nmehr Informationen unter http://pages.dest
 ination.one/de/kiel-sailing-city/streaming/detail/Event/e_100815390/gesege
 lte-stadtrundfahrt
DTEND;TZID=Europe/Berlin:20240519T235900
DTSTAMP:20260422T094241Z
DTSTART;TZID=Europe/Berlin:20240519T123000
GEO:54.332322;10.151378
LOCATION:Segelcamp powered by Stadtwerke Kiel\, Kiellinie\, Kiel
SEQUENCE:0
SUMMARY:Gesegelte Stadtrundfahrt
UID:e_100815390_iv1
URL:http://pages.destination.one/de/kiel-sailing-city/streaming/detail/Even
 t/e_100815390/gesegelte-stadtrundfahrt
END:VEVENT
BEGIN:VEVENT
CATEGORIES:Sport/Freizeit
CATEGORIES:Segeln
DESCRIPTION:Entdecke die schönsten Seiten Kiels vom Wasser aus und erfahre 
 Wissenswertes über die Stadt\n\nmehr Informationen unter http://pages.dest
 ination.one/de/kiel-sailing-city/streaming/detail/Event/e_100815390/gesege
 lte-stadtrundfahrt
DTEND;TZID=Europe/Berlin:20240520T235900
DTSTAMP:20260422T094241Z
DTSTART;TZID=Europe/Berlin:20240520T123000
GEO:54.332322;10.151378
LOCATION:Segelcamp powered by Stadtwerke Kiel\, Kiellinie\, Kiel
SEQUENCE:0
SUMMARY:Gesegelte Stadtrundfahrt
UID:e_100815390_iv2
URL:http://pages.destination.one/de/kiel-sailing-city/streaming/detail/Even
 t/e_100815390/gesegelte-stadtrundfahrt
END:VEVENT
BEGIN:VEVENT
CATEGORIES:Sport/Freizeit
CATEGORIES:Segeln
DESCRIPTION:Entdecke die schönsten Seiten Kiels vom Wasser aus und erfahre 
 Wissenswertes über die Stadt\n\nmehr Informationen unter http://pages.dest
 ination.one/de/kiel-sailing-city/streaming/detail/Event/e_100815390/gesege
 lte-stadtrundfahrt
DTEND;TZID=Europe/Berlin:20240525T235900
DTSTAMP:20260422T094241Z
DTSTART;TZID=Europe/Berlin:20240525T123000
GEO:54.332322;10.151378
LOCATION:Segelcamp powered by Stadtwerke Kiel\, Kiellinie\, Kiel
SEQUENCE:0
SUMMARY:Gesegelte Stadtrundfahrt
UID:e_100815390_iv3
URL:http://pages.destination.one/de/kiel-sailing-city/streaming/detail/Even
 t/e_100815390/gesegelte-stadtrundfahrt
END:VEVENT
BEGIN:VEVENT
CATEGORIES:Sport/Freizeit
CATEGORIES:Segeln
DESCRIPTION:Entdecke die schönsten Seiten Kiels vom Wasser aus und erfahre 
 Wissenswertes über die Stadt\n\nmehr Informationen unter http://pages.dest
 ination.one/de/kiel-sailing-city/streaming/detail/Event/e_100815390/gesege
 lte-stadtrundfahrt
DTEND;TZID=Europe/Berlin:20240526T235900
DTSTAMP:20260422T094241Z
DTSTART;TZID=Europe/Berlin:20240526T123000
GEO:54.332322;10.151378
LOCATION:Segelcamp powered by Stadtwerke Kiel\, Kiellinie\, Kiel
SEQUENCE:0
SUMMARY:Gesegelte Stadtrundfahrt
UID:e_100815390_iv4
URL:http://pages.destination.one/de/kiel-sailing-city/streaming/detail/Even
 t/e_100815390/gesegelte-stadtrundfahrt
END:VEVENT
BEGIN:VEVENT
CATEGORIES:Sport/Freizeit
CATEGORIES:Segeln
DESCRIPTION:Entdecke die schönsten Seiten Kiels vom Wasser aus und erfahre 
 Wissenswertes über die Stadt\n\nmehr Informationen unter http://pages.dest
 ination.one/de/kiel-sailing-city/streaming/detail/Event/e_100815390/gesege
 lte-stadtrundfahrt
DTEND;TZID=Europe/Berlin:20240601T235900
DTSTAMP:20260422T094241Z
DTSTART;TZID=Europe/Berlin:20240601T123000
GEO:54.332322;10.151378
LOCATION:Segelcamp powered by Stadtwerke Kiel\, Kiellinie\, Kiel
SEQUENCE:0
SUMMARY:Gesegelte Stadtrundfahrt
UID:e_100815390_iv5
URL:http://pages.destination.one/de/kiel-sailing-city/streaming/detail/Even
 t/e_100815390/gesegelte-stadtrundfahrt
END:VEVENT
BEGIN:VEVENT
CATEGORIES:Sport/Freizeit
CATEGORIES:Segeln
DESCRIPTION:Entdecke die schönsten Seiten Kiels vom Wasser aus und erfahre 
 Wissenswertes über die Stadt\n\nmehr Informationen unter http://pages.dest
 ination.one/de/kiel-sailing-city/streaming/detail/Event/e_100815390/gesege
 lte-stadtrundfahrt
DTEND;TZID=Europe/Berlin:20240602T235900
DTSTAMP:20260422T094241Z
DTSTART;TZID=Europe/Berlin:20240602T123000
GEO:54.332322;10.151378
LOCATION:Segelcamp powered by Stadtwerke Kiel\, Kiellinie\, Kiel
SEQUENCE:0
SUMMARY:Gesegelte Stadtrundfahrt
UID:e_100815390_iv6
URL:http://pages.destination.one/de/kiel-sailing-city/streaming/detail/Even
 t/e_100815390/gesegelte-stadtrundfahrt
END:VEVENT
BEGIN:VEVENT
CATEGORIES:Sport/Freizeit
CATEGORIES:Segeln
DESCRIPTION:Entdecke die schönsten Seiten Kiels vom Wasser aus und erfahre 
 Wissenswertes über die Stadt\n\nmehr Informationen unter http://pages.dest
 ination.one/de/kiel-sailing-city/streaming/detail/Event/e_100815390/gesege
 lte-stadtrundfahrt
DTEND;TZID=Europe/Berlin:20240609T235900
DTSTAMP:20260422T094241Z
DTSTART;TZID=Europe/Berlin:20240609T123000
GEO:54.332322;10.151378
LOCATION:Segelcamp powered by Stadtwerke Kiel\, Kiellinie\, Kiel
SEQUENCE:0
SUMMARY:Gesegelte Stadtrundfahrt
UID:e_100815390_iv7
URL:http://pages.destination.one/de/kiel-sailing-city/streaming/detail/Even
 t/e_100815390/gesegelte-stadtrundfahrt
END:VEVENT
BEGIN:VEVENT
CATEGORIES:Sport/Freizeit
CATEGORIES:Segeln
DESCRIPTION:Entdecke die schönsten Seiten Kiels vom Wasser aus und erfahre 
 Wissenswertes über die Stadt\n\nmehr Informationen unter http://pages.dest
 ination.one/de/kiel-sailing-city/streaming/detail/Event/e_100815390/gesege
 lte-stadtrundfahrt
DTEND;TZID=Europe/Berlin:20240616T235900
DTSTAMP:20260422T094241Z
DTSTART;TZID=Europe/Berlin:20240616T123000
GEO:54.332322;10.151378
LOCATION:Segelcamp powered by Stadtwerke Kiel\, Kiellinie\, Kiel
SEQUENCE:0
SUMMARY:Gesegelte Stadtrundfahrt
UID:e_100815390_iv8
URL:http://pages.destination.one/de/kiel-sailing-city/streaming/detail/Even
 t/e_100815390/gesegelte-stadtrundfahrt
END:VEVENT
BEGIN:VEVENT
CATEGORIES:Sport/Freizeit
CATEGORIES:Segeln
DESCRIPTION:Entdecke die schönsten Seiten Kiels vom Wasser aus und erfahre 
 Wissenswertes über die Stadt\n\nmehr Informationen unter http://pages.dest
 ination.one/de/kiel-sailing-city/streaming/detail/Event/e_100815390/gesege
 lte-stadtrundfahrt
DTEND;TZID=Europe/Berlin:20240706T235900
DTSTAMP:20260422T094241Z
DTSTART;TZID=Europe/Berlin:20240706T123000
GEO:54.332322;10.151378
LOCATION:Segelcamp powered by Stadtwerke Kiel\, Kiellinie\, Kiel
SEQUENCE:0
SUMMARY:Gesegelte Stadtrundfahrt
UID:e_100815390_iv9
URL:http://pages.destination.one/de/kiel-sailing-city/streaming/detail/Even
 t/e_100815390/gesegelte-stadtrundfahrt
END:VEVENT
BEGIN:VEVENT
CATEGORIES:Sport/Freizeit
CATEGORIES:Segeln
DESCRIPTION:Entdecke die schönsten Seiten Kiels vom Wasser aus und erfahre 
 Wissenswertes über die Stadt\n\nmehr Informationen unter http://pages.dest
 ination.one/de/kiel-sailing-city/streaming/detail/Event/e_100815390/gesege
 lte-stadtrundfahrt
DTEND;TZID=Europe/Berlin:20240714T235900
DTSTAMP:20260422T094241Z
DTSTART;TZID=Europe/Berlin:20240714T123000
GEO:54.332322;10.151378
LOCATION:Segelcamp powered by Stadtwerke Kiel\, Kiellinie\, Kiel
SEQUENCE:0
SUMMARY:Gesegelte Stadtrundfahrt
UID:e_100815390_iv10
URL:http://pages.destination.one/de/kiel-sailing-city/streaming/detail/Even
 t/e_100815390/gesegelte-stadtrundfahrt
END:VEVENT
BEGIN:VEVENT
CATEGORIES:Sport/Freizeit
CATEGORIES:Segeln
DESCRIPTION:Entdecke die schönsten Seiten Kiels vom Wasser aus und erfahre 
 Wissenswertes über die Stadt\n\nmehr Informationen unter http://pages.dest
 ination.one/de/kiel-sailing-city/streaming/detail/Event/e_100815390/gesege
 lte-stadtrundfahrt
DTEND;TZID=Europe/Berlin:20240720T235900
DTSTAMP:20260422T094241Z
DTSTART;TZID=Europe/Berlin:20240720T123000
GEO:54.332322;10.151378
LOCATION:Segelcamp powered by Stadtwerke Kiel\, Kiellinie\, Kiel
SEQUENCE:0
SUMMARY:Gesegelte Stadtrundfahrt
UID:e_100815390_iv11
URL:http://pages.destination.one/de/kiel-sailing-city/streaming/detail/Even
 t/e_100815390/gesegelte-stadtrundfahrt
END:VEVENT
BEGIN:VEVENT
CATEGORIES:Sport/Freizeit
CATEGORIES:Segeln
DESCRIPTION:Entdecke die schönsten Seiten Kiels vom Wasser aus und erfahre 
 Wissenswertes über die Stadt\n\nmehr Informationen unter http://pages.dest
 ination.one/de/kiel-sailing-city/streaming/detail/Event/e_100815390/gesege
 lte-stadtrundfahrt
DTEND;TZID=Europe/Berlin:20240721T235900
DTSTAMP:20260422T094241Z
DTSTART;TZID=Europe/Berlin:20240721T123000
GEO:54.332322;10.151378
LOCATION:Segelcamp powered by Stadtwerke Kiel\, Kiellinie\, Kiel
SEQUENCE:0
SUMMARY:Gesegelte Stadtrundfahrt
UID:e_100815390_iv12
URL:http://pages.destination.one/de/kiel-sailing-city/streaming/detail/Even
 t/e_100815390/gesegelte-stadtrundfahrt
END:VEVENT
BEGIN:VEVENT
CATEGORIES:Sport/Freizeit
CATEGORIES:Segeln
DESCRIPTION:Entdecke die schönsten Seiten Kiels vom Wasser aus und erfahre 
 Wissenswertes über die Stadt\n\nmehr Informationen unter http://pages.dest
 ination.one/de/kiel-sailing-city/streaming/detail/Event/e_100815390/gesege
 lte-stadtrundfahrt
DTEND;TZID=Europe/Berlin:20240727T235900
DTSTAMP:20260422T094241Z
DTSTART;TZID=Europe/Berlin:20240727T123000
GEO:54.332322;10.151378
LOCATION:Segelcamp powered by Stadtwerke Kiel\, Kiellinie\, Kiel
SEQUENCE:0
SUMMARY:Gesegelte Stadtrundfahrt
UID:e_100815390_iv13
URL:http://pages.destination.one/de/kiel-sailing-city/streaming/detail/Even
 t/e_100815390/gesegelte-stadtrundfahrt
END:VEVENT
BEGIN:VEVENT
CATEGORIES:Sport/Freizeit
CATEGORIES:Segeln
DESCRIPTION:Entdecke die schönsten Seiten Kiels vom Wasser aus und erfahre 
 Wissenswertes über die Stadt\n\nmehr Informationen unter http://pages.dest
 ination.one/de/kiel-sailing-city/streaming/detail/Event/e_100815390/gesege
 lte-stadtrundfahrt
DTEND;TZID=Europe/Berlin:20240728T235900
DTSTAMP:20260422T094241Z
DTSTART;TZID=Europe/Berlin:20240728T123000
GEO:54.332322;10.151378
LOCATION:Segelcamp powered by Stadtwerke Kiel\, Kiellinie\, Kiel
SEQUENCE:0
SUMMARY:Gesegelte Stadtrundfahrt
UID:e_100815390_iv14
URL:http://pages.destination.one/de/kiel-sailing-city/streaming/detail/Even
 t/e_100815390/gesegelte-stadtrundfahrt
END:VEVENT
BEGIN:VEVENT
CATEGORIES:Sport/Freizeit
CATEGORIES:Segeln
DESCRIPTION:Entdecke die schönsten Seiten Kiels vom Wasser aus und erfahre 
 Wissenswertes über die Stadt\n\nmehr Informationen unter http://pages.dest
 ination.one/de/kiel-sailing-city/streaming/detail/Event/e_100815390/gesege
 lte-stadtrundfahrt
DTEND;TZID=Europe/Berlin:20240803T235900
DTSTAMP:20260422T094241Z
DTSTART;TZID=Europe/Berlin:20240803T123000
GEO:54.332322;10.151378
LOCATION:Segelcamp powered by Stadtwerke Kiel\, Kiellinie\, Kiel
SEQUENCE:0
SUMMARY:Gesegelte Stadtrundfahrt
UID:e_100815390_iv15
URL:http://pages.destination.one/de/kiel-sailing-city/streaming/detail/Even
 t/e_100815390/gesegelte-stadtrundfahrt
END:VEVENT
BEGIN:VEVENT
CATEGORIES:Sport/Freizeit
CATEGORIES:Segeln
DESCRIPTION:Entdecke die schönsten Seiten Kiels vom Wasser aus und erfahre 
 Wissenswertes über die Stadt\n\nmehr Informationen unter http://pages.dest
 ination.one/de/kiel-sailing-city/streaming/detail/Event/e_100815390/gesege
 lte-stadtrundfahrt
DTEND;TZID=Europe/Berlin:20240804T235900
DTSTAMP:20260422T094241Z
DTSTART;TZID=Europe/Berlin:20240804T123000
GEO:54.332322;10.151378
LOCATION:Segelcamp powered by Stadtwerke Kiel\, Kiellinie\, Kiel
SEQUENCE:0
SUMMARY:Gesegelte Stadtrundfahrt
UID:e_100815390_iv16
URL:http://pages.destination.one/de/kiel-sailing-city/streaming/detail/Even
 t/e_100815390/gesegelte-stadtrundfahrt
END:VEVENT
BEGIN:VEVENT
CATEGORIES:Sport/Freizeit
CATEGORIES:Segeln
DESCRIPTION:Entdecke die schönsten Seiten Kiels vom Wasser aus und erfahre 
 Wissenswertes über die Stadt\n\nmehr Informationen unter http://pages.dest
 ination.one/de/kiel-sailing-city/streaming/detail/Event/e_100815390/gesege
 lte-stadtrundfahrt
DTEND;TZID=Europe/Berlin:20240817T235900
DTSTAMP:20260422T094241Z
DTSTART;TZID=Europe/Berlin:20240817T123000
GEO:54.332322;10.151378
LOCATION:Segelcamp powered by Stadtwerke Kiel\, Kiellinie\, Kiel
SEQUENCE:0
SUMMARY:Gesegelte Stadtrundfahrt
UID:e_100815390_iv17
URL:http://pages.destination.one/de/kiel-sailing-city/streaming/detail/Even
 t/e_100815390/gesegelte-stadtrundfahrt
END:VEVENT
BEGIN:VEVENT
CATEGORIES:Sport/Freizeit
CATEGORIES:Segeln
DESCRIPTION:Entdecke die schönsten Seiten Kiels vom Wasser aus und erfahre 
 Wissenswertes über die Stadt\n\nmehr Informationen unter http://pages.dest
 ination.one/de/kiel-sailing-city/streaming/detail/Event/e_100815390/gesege
 lte-stadtrundfahrt
DTEND;TZID=Europe/Berlin:20240825T235900
DTSTAMP:20260422T094241Z
DTSTART;TZID=Europe/Berlin:20240825T123000
GEO:54.332322;10.151378
LOCATION:Segelcamp powered by Stadtwerke Kiel\, Kiellinie\, Kiel
SEQUENCE:0
SUMMARY:Gesegelte Stadtrundfahrt
UID:e_100815390_iv18
URL:http://pages.destination.one/de/kiel-sailing-city/streaming/detail/Even
 t/e_100815390/gesegelte-stadtrundfahrt
END:VEVENT
BEGIN:VEVENT
CATEGORIES:Sport/Freizeit
CATEGORIES:Segeln
DESCRIPTION:Entdecke die schönsten Seiten Kiels vom Wasser aus und erfahre 
 Wissenswertes über die Stadt\n\nmehr Informationen unter http://pages.dest
 ination.one/de/kiel-sailing-city/streaming/detail/Event/e_100815390/gesege
 lte-stadtrundfahrt
DTEND;TZID=Europe/Berlin:20240901T235900
DTSTAMP:20260422T094241Z
DTSTART;TZID=Europe/Berlin:20240901T123000
GEO:54.332322;10.151378
LOCATION:Segelcamp powered by Stadtwerke Kiel\, Kiellinie\, Kiel
SEQUENCE:0
SUMMARY:Gesegelte Stadtrundfahrt
UID:e_100815390_iv19
URL:http://pages.destination.one/de/kiel-sailing-city/streaming/detail/Even
 t/e_100815390/gesegelte-stadtrundfahrt
END:VEVENT
BEGIN:VEVENT
CATEGORIES:Sport/Freizeit
CATEGORIES:Segeln
DESCRIPTION:Entdecke die schönsten Seiten Kiels vom Wasser aus und erfahre 
 Wissenswertes über die Stadt\n\nmehr Informationen unter http://pages.dest
 ination.one/de/kiel-sailing-city/streaming/detail/Event/e_100815390/gesege
 lte-stadtrundfahrt
DTEND;TZID=Europe/Berlin:20240908T235900
DTSTAMP:20260422T094241Z
DTSTART;TZID=Europe/Berlin:20240908T123000
GEO:54.332322;10.151378
LOCATION:Segelcamp powered by Stadtwerke Kiel\, Kiellinie\, Kiel
SEQUENCE:0
SUMMARY:Gesegelte Stadtrundfahrt
UID:e_100815390_iv20
URL:http://pages.destination.one/de/kiel-sailing-city/streaming/detail/Even
 t/e_100815390/gesegelte-stadtrundfahrt
END:VEVENT
BEGIN:VEVENT
CATEGORIES:Sport/Freizeit
CATEGORIES:Segeln
DESCRIPTION:Entdecke die schönsten Seiten Kiels vom Wasser aus und erfahre 
 Wissenswertes über die Stadt\n\nmehr Informationen unter http://pages.dest
 ination.one/de/kiel-sailing-city/streaming/detail/Event/e_100815390/gesege
 lte-stadtrundfahrt
DTEND;TZID=Europe/Berlin:20240914T235900
DTSTAMP:20260422T094241Z
DTSTART;TZID=Europe/Berlin:20240914T123000
GEO:54.332322;10.151378
LOCATION:Segelcamp powered by Stadtwerke Kiel\, Kiellinie\, Kiel
SEQUENCE:0
SUMMARY:Gesegelte Stadtrundfahrt
UID:e_100815390_iv21
URL:http://pages.destination.one/de/kiel-sailing-city/streaming/detail/Even
 t/e_100815390/gesegelte-stadtrundfahrt
END:VEVENT
BEGIN:VEVENT
CATEGORIES:Sport/Freizeit
CATEGORIES:Segeln
DESCRIPTION:Entdecke die schönsten Seiten Kiels vom Wasser aus und erfahre 
 Wissenswertes über die Stadt\n\nmehr Informationen unter http://pages.dest
 ination.one/de/kiel-sailing-city/streaming/detail/Event/e_100815390/gesege
 lte-stadtrundfahrt
DTEND;TZID=Europe/Berlin:20250524T140000
DTSTAMP:20260422T094241Z
DTSTART;TZID=Europe/Berlin:20250524T121500
GEO:54.332322;10.151378
LOCATION:Segelcamp powered by Stadtwerke Kiel\, Kiellinie\, Kiel
SEQUENCE:0
SUMMARY:Gesegelte Stadtrundfahrt
UID:e_100815390_iv22
URL:http://pages.destination.one/de/kiel-sailing-city/streaming/detail/Even
 t/e_100815390/gesegelte-stadtrundfahrt
END:VEVENT
BEGIN:VEVENT
CATEGORIES:Sport/Freizeit
CATEGORIES:Segeln
DESCRIPTION:Entdecke die schönsten Seiten Kiels vom Wasser aus und erfahre 
 Wissenswertes über die Stadt\n\nmehr Informationen unter http://pages.dest
 ination.one/de/kiel-sailing-city/streaming/detail/Event/e_100815390/gesege
 lte-stadtrundfahrt
DTEND;TZID=Europe/Berlin:20250525T140000
DTSTAMP:20260422T094241Z
DTSTART;TZID=Europe/Berlin:20250525T121500
GEO:54.332322;10.151378
LOCATION:Segelcamp powered by Stadtwerke Kiel\, Kiellinie\, Kiel
SEQUENCE:0
SUMMARY:Gesegelte Stadtrundfahrt
UID:e_100815390_iv23
URL:http://pages.destination.one/de/kiel-sailing-city/streaming/detail/Even
 t/e_100815390/gesegelte-stadtrundfahrt
END:VEVENT
BEGIN:VEVENT
CATEGORIES:Sport/Freizeit
CATEGORIES:Segeln
DESCRIPTION:Entdecke die schönsten Seiten Kiels vom Wasser aus und erfahre 
 Wissenswertes über die Stadt\n\nmehr Informationen unter http://pages.dest
 ination.one/de/kiel-sailing-city/streaming/detail/Event/e_100815390/gesege
 lte-stadtrundfahrt
DTEND;TZID=Europe/Berlin:20250529T140000
DTSTAMP:20260422T094241Z
DTSTART;TZID=Europe/Berlin:20250529T121500
GEO:54.332322;10.151378
LOCATION:Segelcamp powered by Stadtwerke Kiel\, Kiellinie\, Kiel
SEQUENCE:0
SUMMARY:Gesegelte Stadtrundfahrt
UID:e_100815390_iv24
URL:http://pages.destination.one/de/kiel-sailing-city/streaming/detail/Even
 t/e_100815390/gesegelte-stadtrundfahrt
END:VEVENT
BEGIN:VEVENT
CATEGORIES:Sport/Freizeit
CATEGORIES:Segeln
DESCRIPTION:Entdecke die schönsten Seiten Kiels vom Wasser aus und erfahre 
 Wissenswertes über die Stadt\n\nmehr Informationen unter http://pages.dest
 ination.one/de/kiel-sailing-city/streaming/detail/Event/e_100815390/gesege
 lte-stadtrundfahrt
DTEND;TZID=Europe/Berlin:20250614T140000
DTSTAMP:20260422T094241Z
DTSTART;TZID=Europe/Berlin:20250614T121500
GEO:54.332322;10.151378
LOCATION:Segelcamp powered by Stadtwerke Kiel\, Kiellinie\, Kiel
SEQUENCE:0
SUMMARY:Gesegelte Stadtrundfahrt
UID:e_100815390_iv25
URL:http://pages.destination.one/de/kiel-sailing-city/streaming/detail/Even
 t/e_100815390/gesegelte-stadtrundfahrt
END:VEVENT
BEGIN:VEVENT
CATEGORIES:Sport/Freizeit
CATEGORIES:Segeln
DESCRIPTION:Entdecke die schönsten Seiten Kiels vom Wasser aus und erfahre 
 Wissenswertes über die Stadt\n\nmehr Informationen unter http://pages.dest
 ination.one/de/kiel-sailing-city/streaming/detail/Event/e_100815390/gesege
 lte-stadtrundfahrt
DTEND;TZID=Europe/Berlin:20250712T140000
DTSTAMP:20260422T094241Z
DTSTART;TZID=Europe/Berlin:20250712T121500
GEO:54.332322;10.151378
LOCATION:Segelcamp powered by Stadtwerke Kiel\, Kiellinie\, Kiel
SEQUENCE:0
SUMMARY:Gesegelte Stadtrundfahrt
UID:e_100815390_iv26
URL:http://pages.destination.one/de/kiel-sailing-city/streaming/detail/Even
 t/e_100815390/gesegelte-stadtrundfahrt
END:VEVENT
BEGIN:VEVENT
CATEGORIES:Sport/Freizeit
CATEGORIES:Segeln
DESCRIPTION:Entdecke die schönsten Seiten Kiels vom Wasser aus und erfahre 
 Wissenswertes über die Stadt\n\nmehr Informationen unter http://pages.dest
 ination.one/de/kiel-sailing-city/streaming/detail/Event/e_100815390/gesege
 lte-stadtrundfahrt
DTEND;TZID=Europe/Berlin:20250719T140000
DTSTAMP:20260422T094241Z
DTSTART;TZID=Europe/Berlin:20250719T121500
GEO:54.332322;10.151378
LOCATION:Segelcamp powered by Stadtwerke Kiel\, Kiellinie\, Kiel
SEQUENCE:0
SUMMARY:Gesegelte Stadtrundfahrt
UID:e_100815390_iv27
URL:http://pages.destination.one/de/kiel-sailing-city/streaming/detail/Even
 t/e_100815390/gesegelte-stadtrundfahrt
END:VEVENT
BEGIN:VEVENT
CATEGORIES:Sport/Freizeit
CATEGORIES:Segeln
DESCRIPTION:Entdecke die schönsten Seiten Kiels vom Wasser aus und erfahre 
 Wissenswertes über die Stadt\n\nmehr Informationen unter http://pages.dest
 ination.one/de/kiel-sailing-city/streaming/detail/Event/e_100815390/gesege
 lte-stadtrundfahrt
DTEND;TZID=Europe/Berlin:20250720T140000
DTSTAMP:20260422T094241Z
DTSTART;TZID=Europe/Berlin:20250720T121500
GEO:54.332322;10.151378
LOCATION:Segelcamp powered by Stadtwerke Kiel\, Kiellinie\, Kiel
SEQUENCE:0
SUMMARY:Gesegelte Stadtrundfahrt
UID:e_100815390_iv28
URL:http://pages.destination.one/de/kiel-sailing-city/streaming/detail/Even
 t/e_100815390/gesegelte-stadtrundfahrt
END:VEVENT
BEGIN:VEVENT
CATEGORIES:Sport/Freizeit
CATEGORIES:Segeln
DESCRIPTION:Entdecke die schönsten Seiten Kiels vom Wasser aus und erfahre 
 Wissenswertes über die Stadt\n\nmehr Informationen unter http://pages.dest
 ination.one/de/kiel-sailing-city/streaming/detail/Event/e_100815390/gesege
 lte-stadtrundfahrt
DTEND;TZID=Europe/Berlin:20250727T140000
DTSTAMP:20260422T094241Z
DTSTART;TZID=Europe/Berlin:20250727T121500
GEO:54.332322;10.151378
LOCATION:Segelcamp powered by Stadtwerke Kiel\, Kiellinie\, Kiel
SEQUENCE:0
SUMMARY:Gesegelte Stadtrundfahrt
UID:e_100815390_iv29
URL:http://pages.destination.one/de/kiel-sailing-city/streaming/detail/Even
 t/e_100815390/gesegelte-stadtrundfahrt
END:VEVENT
BEGIN:VEVENT
CATEGORIES:Sport/Freizeit
CATEGORIES:Segeln
DESCRIPTION:Entdecke die schönsten Seiten Kiels vom Wasser aus und erfahre 
 Wissenswertes über die Stadt\n\nmehr Informationen unter http://pages.dest
 ination.one/de/kiel-sailing-city/streaming/detail/Event/e_100815390/gesege
 lte-stadtrundfahrt
DTEND;TZID=Europe/Berlin:20250824T140000
DTSTAMP:20260422T094241Z
DTSTART;TZID=Europe/Berlin:20250824T121500
GEO:54.332322;10.151378
LOCATION:Segelcamp powered by Stadtwerke Kiel\, Kiellinie\, Kiel
SEQUENCE:0
SUMMARY:Gesegelte Stadtrundfahrt
UID:e_100815390_iv30
URL:http://pages.destination.one/de/kiel-sailing-city/streaming/detail/Even
 t/e_100815390/gesegelte-stadtrundfahrt
END:VEVENT
BEGIN:VEVENT
CATEGORIES:Sport/Freizeit
CATEGORIES:Segeln
DESCRIPTION:Entdecke die schönsten Seiten Kiels vom Wasser aus und erfahre 
 Wissenswertes über die Stadt\n\nmehr Informationen unter http://pages.dest
 ination.one/de/kiel-sailing-city/streaming/detail/Event/e_100815390/gesege
 lte-stadtrundfahrt
DTEND;TZID=Europe/Berlin:20250830T140000
DTSTAMP:20260422T094241Z
DTSTART;TZID=Europe/Berlin:20250830T121500
GEO:54.332322;10.151378
LOCATION:Segelcamp powered by Stadtwerke Kiel\, Kiellinie\, Kiel
SEQUENCE:0
SUMMARY:Gesegelte Stadtrundfahrt
UID:e_100815390_iv31
URL:http://pages.destination.one/de/kiel-sailing-city/streaming/detail/Even
 t/e_100815390/gesegelte-stadtrundfahrt
END:VEVENT
BEGIN:VEVENT
CATEGORIES:Sport/Freizeit
CATEGORIES:Segeln
DESCRIPTION:Entdecke die schönsten Seiten Kiels vom Wasser aus und erfahre 
 Wissenswertes über die Stadt\n\nmehr Informationen unter http://pages.dest
 ination.one/de/kiel-sailing-city/streaming/detail/Event/e_100815390/gesege
 lte-stadtrundfahrt
DTEND;TZID=Europe/Berlin:20250907T140000
DTSTAMP:20260422T094241Z
DTSTART;TZID=Europe/Berlin:20250907T121500
GEO:54.332322;10.151378
LOCATION:Segelcamp powered by Stadtwerke Kiel\, Kiellinie\, Kiel
SEQUENCE:0
SUMMARY:Gesegelte Stadtrundfahrt
UID:e_100815390_iv32
URL:http://pages.destination.one/de/kiel-sailing-city/streaming/detail/Even
 t/e_100815390/gesegelte-stadtrundfahrt
END:VEVENT
BEGIN:VEVENT
CATEGORIES:Sport/Freizeit
CATEGORIES:Segeln
DESCRIPTION:Entdecke die schönsten Seiten Kiels vom Wasser aus und erfahre 
 Wissenswertes über die Stadt\n\nmehr Informationen unter http://pages.dest
 ination.one/de/kiel-sailing-city/streaming/detail/Event/e_100815390/gesege
 lte-stadtrundfahrt
DTEND;TZID=Europe/Berlin:20250913T140000
DTSTAMP:20260422T094241Z
DTSTART;TZID=Europe/Berlin:20250913T121500
GEO:54.332322;10.151378
LOCATION:Segelcamp powered by Stadtwerke Kiel\, Kiellinie\, Kiel
SEQUENCE:0
SUMMARY:Gesegelte Stadtrundfahrt
UID:e_100815390_iv33
URL:http://pages.destination.one/de/kiel-sailing-city/streaming/detail/Even
 t/e_100815390/gesegelte-stadtrundfahrt
END:VEVENT
BEGIN:VEVENT
CATEGORIES:Sport/Freizeit
CATEGORIES:Segeln
DESCRIPTION:Entdecke die schönsten Seiten Kiels vom Wasser aus und erfahre 
 Wissenswertes über die Stadt\n\nmehr Informationen unter http://pages.dest
 ination.one/de/kiel-sailing-city/streaming/detail/Event/e_100815390/gesege
 lte-stadtrundfahrt
DTEND;TZID=Europe/Berlin:20250921T140000
DTSTAMP:20260422T094241Z
DTSTART;TZID=Europe/Berlin:20250921T121500
GEO:54.332322;10.151378
LOCATION:Segelcamp powered by Stadtwerke Kiel\, Kiellinie\, Kiel
SEQUENCE:0
SUMMARY:Gesegelte Stadtrundfahrt
UID:e_100815390_iv34
URL:http://pages.destination.one/de/kiel-sailing-city/streaming/detail/Even
 t/e_100815390/gesegelte-stadtrundfahrt
END:VEVENT
BEGIN:VEVENT
CATEGORIES:Sport/Freizeit
CATEGORIES:Segeln
DESCRIPTION:Entdecke die schönsten Seiten Kiels vom Wasser aus und erfahre 
 Wissenswertes über die Stadt\n\nmehr Informationen unter http://pages.dest
 ination.one/de/kiel-sailing-city/streaming/detail/Event/e_100815390/gesege
 lte-stadtrundfahrt
DTEND;TZID=Europe/Berlin:20260517T235900
DTSTAMP:20260422T094241Z
DTSTART;TZID=Europe/Berlin:20260517T121500
GEO:54.332322;10.151378
LOCATION:Segelcamp powered by Stadtwerke Kiel\, Kiellinie\, Kiel
RRULE:FREQ=WEEKLY;UNTIL=20260913T215900;BYDAY=SA,SU
SEQUENCE:0
SUMMARY:Gesegelte Stadtrundfahrt
UID:e_100815390_iv35
URL:http://pages.destination.one/de/kiel-sailing-city/streaming/detail/Even
 t/e_100815390/gesegelte-stadtrundfahrt
END:VEVENT
BEGIN:VEVENT
CATEGORIES:Sport/Freizeit
CATEGORIES:Segeln
DESCRIPTION:Entdecke die schönsten Seiten Kiels vom Wasser aus und erfahre 
 Wissenswertes über die Stadt\n\nmehr Informationen unter http://pages.dest
 ination.one/de/kiel-sailing-city/streaming/detail/Event/e_100815390/gesege
 lte-stadtrundfahrt
DTEND;TZID=Europe/Berlin:20260525T235900
DTSTAMP:20260422T094241Z
DTSTART;TZID=Europe/Berlin:20260525T121500
GEO:54.332322;10.151378
LOCATION:Segelcamp powered by Stadtwerke Kiel\, Kiellinie\, Kiel
SEQUENCE:0
SUMMARY:Gesegelte Stadtrundfahrt
UID:e_100815390_iv36
URL:http://pages.destination.one/de/kiel-sailing-city/streaming/detail/Even
 t/e_100815390/gesegelte-stadtrundfahrt
END:VEVENT
BEGIN:VTIMEZONE
TZID:Europe/Berlin
X-LIC-LOCATION:Europe/Berlin
BEGIN:DAYLIGHT
DTSTART:19700329T020000
RRULE:FREQ=YEARLY;BYDAY=-1SU;BYMONTH=3
TZNAME:CEST
TZOFFSETFROM:+0100
TZOFFSETTO:+0200
END:DAYLIGHT
BEGIN:STANDARD
DTSTART:19701025T030000
RRULE:FREQ=YEARLY;BYDAY=-1SU;BYMONTH=10
TZNAME:CET
TZOFFSETFROM:+0200
TZOFFSETTO:+0100
END:STANDARD
END:VTIMEZONE
END:VCALENDAR
