BEGIN:VCALENDAR
VERSION:2.0
PRODID:-//destination.one//NONSGML destination.meta API//DE
X-WR-CALDESC:A calendar powered by destination.meta
X-WR-CALNAME:kiel-sailing-city Kalender via destination.meta
BEGIN:VEVENT
CATEGORIES:Sport/Freizeit
CATEGORIES:Segeln
CATEGORIES:Kultursommer
CATEGORIES:Kultur
DESCRIPTION:Segele doch einfach mal die Kiellinie entlang\, anstatt anderen
  dabei zu zusehen!\n\nmehr Informationen unter http://pages.destination.on
 e/de/kiel-sailing-city/streaming/detail/Event/e_100815402/schnuppert-rn-ki
 elbootsegeln
DTEND;TZID=Europe/Berlin:20240509T235900
DTSTAMP:20260422T125738Z
DTSTART;TZID=Europe/Berlin:20240509T093000
GEO:54.332322;10.151378
LOCATION:Segelcamp powered by Stadtwerke Kiel\, Kiellinie\, Kiel
SEQUENCE:0
SUMMARY:Schnuppertörn Kielbootsegeln
UID:e_100815402_iv0
URL:http://pages.destination.one/de/kiel-sailing-city/streaming/detail/Even
 t/e_100815402/schnuppert-rn-kielbootsegeln
END:VEVENT
BEGIN:VEVENT
CATEGORIES:Sport/Freizeit
CATEGORIES:Segeln
CATEGORIES:Kultursommer
CATEGORIES:Kultur
DESCRIPTION:Segele doch einfach mal die Kiellinie entlang\, anstatt anderen
  dabei zu zusehen!\n\nmehr Informationen unter http://pages.destination.on
 e/de/kiel-sailing-city/streaming/detail/Event/e_100815402/schnuppert-rn-ki
 elbootsegeln
DTEND;TZID=Europe/Berlin:20240510T235900
DTSTAMP:20260422T125738Z
DTSTART;TZID=Europe/Berlin:20240510T093000
GEO:54.332322;10.151378
LOCATION:Segelcamp powered by Stadtwerke Kiel\, Kiellinie\, Kiel
SEQUENCE:0
SUMMARY:Schnuppertörn Kielbootsegeln
UID:e_100815402_iv1
URL:http://pages.destination.one/de/kiel-sailing-city/streaming/detail/Even
 t/e_100815402/schnuppert-rn-kielbootsegeln
END:VEVENT
BEGIN:VEVENT
CATEGORIES:Sport/Freizeit
CATEGORIES:Segeln
CATEGORIES:Kultursommer
CATEGORIES:Kultur
DESCRIPTION:Segele doch einfach mal die Kiellinie entlang\, anstatt anderen
  dabei zu zusehen!\n\nmehr Informationen unter http://pages.destination.on
 e/de/kiel-sailing-city/streaming/detail/Event/e_100815402/schnuppert-rn-ki
 elbootsegeln
DTEND;TZID=Europe/Berlin:20240518T235900
DTSTAMP:20260422T125738Z
DTSTART;TZID=Europe/Berlin:20240518T093000
GEO:54.332322;10.151378
LOCATION:Segelcamp powered by Stadtwerke Kiel\, Kiellinie\, Kiel
SEQUENCE:0
SUMMARY:Schnuppertörn Kielbootsegeln
UID:e_100815402_iv2
URL:http://pages.destination.one/de/kiel-sailing-city/streaming/detail/Even
 t/e_100815402/schnuppert-rn-kielbootsegeln
END:VEVENT
BEGIN:VEVENT
CATEGORIES:Sport/Freizeit
CATEGORIES:Segeln
CATEGORIES:Kultursommer
CATEGORIES:Kultur
DESCRIPTION:Segele doch einfach mal die Kiellinie entlang\, anstatt anderen
  dabei zu zusehen!\n\nmehr Informationen unter http://pages.destination.on
 e/de/kiel-sailing-city/streaming/detail/Event/e_100815402/schnuppert-rn-ki
 elbootsegeln
DTEND;TZID=Europe/Berlin:20240525T235900
DTSTAMP:20260422T125738Z
DTSTART;TZID=Europe/Berlin:20240525T093000
GEO:54.332322;10.151378
LOCATION:Segelcamp powered by Stadtwerke Kiel\, Kiellinie\, Kiel
SEQUENCE:0
SUMMARY:Schnuppertörn Kielbootsegeln
UID:e_100815402_iv3
URL:http://pages.destination.one/de/kiel-sailing-city/streaming/detail/Even
 t/e_100815402/schnuppert-rn-kielbootsegeln
END:VEVENT
BEGIN:VEVENT
CATEGORIES:Sport/Freizeit
CATEGORIES:Segeln
CATEGORIES:Kultursommer
CATEGORIES:Kultur
DESCRIPTION:Segele doch einfach mal die Kiellinie entlang\, anstatt anderen
  dabei zu zusehen!\n\nmehr Informationen unter http://pages.destination.on
 e/de/kiel-sailing-city/streaming/detail/Event/e_100815402/schnuppert-rn-ki
 elbootsegeln
DTEND;TZID=Europe/Berlin:20240526T235900
DTSTAMP:20260422T125738Z
DTSTART;TZID=Europe/Berlin:20240526T093000
GEO:54.332322;10.151378
LOCATION:Segelcamp powered by Stadtwerke Kiel\, Kiellinie\, Kiel
SEQUENCE:0
SUMMARY:Schnuppertörn Kielbootsegeln
UID:e_100815402_iv4
URL:http://pages.destination.one/de/kiel-sailing-city/streaming/detail/Even
 t/e_100815402/schnuppert-rn-kielbootsegeln
END:VEVENT
BEGIN:VEVENT
CATEGORIES:Sport/Freizeit
CATEGORIES:Segeln
CATEGORIES:Kultursommer
CATEGORIES:Kultur
DESCRIPTION:Segele doch einfach mal die Kiellinie entlang\, anstatt anderen
  dabei zu zusehen!\n\nmehr Informationen unter http://pages.destination.on
 e/de/kiel-sailing-city/streaming/detail/Event/e_100815402/schnuppert-rn-ki
 elbootsegeln
DTEND;TZID=Europe/Berlin:20240602T235900
DTSTAMP:20260422T125738Z
DTSTART;TZID=Europe/Berlin:20240602T093000
GEO:54.332322;10.151378
LOCATION:Segelcamp powered by Stadtwerke Kiel\, Kiellinie\, Kiel
SEQUENCE:0
SUMMARY:Schnuppertörn Kielbootsegeln
UID:e_100815402_iv5
URL:http://pages.destination.one/de/kiel-sailing-city/streaming/detail/Even
 t/e_100815402/schnuppert-rn-kielbootsegeln
END:VEVENT
BEGIN:VEVENT
CATEGORIES:Sport/Freizeit
CATEGORIES:Segeln
CATEGORIES:Kultursommer
CATEGORIES:Kultur
DESCRIPTION:Segele doch einfach mal die Kiellinie entlang\, anstatt anderen
  dabei zu zusehen!\n\nmehr Informationen unter http://pages.destination.on
 e/de/kiel-sailing-city/streaming/detail/Event/e_100815402/schnuppert-rn-ki
 elbootsegeln
DTEND;TZID=Europe/Berlin:20240609T235900
DTSTAMP:20260422T125738Z
DTSTART;TZID=Europe/Berlin:20240609T093000
GEO:54.332322;10.151378
LOCATION:Segelcamp powered by Stadtwerke Kiel\, Kiellinie\, Kiel
SEQUENCE:0
SUMMARY:Schnuppertörn Kielbootsegeln
UID:e_100815402_iv6
URL:http://pages.destination.one/de/kiel-sailing-city/streaming/detail/Even
 t/e_100815402/schnuppert-rn-kielbootsegeln
END:VEVENT
BEGIN:VEVENT
CATEGORIES:Sport/Freizeit
CATEGORIES:Segeln
CATEGORIES:Kultursommer
CATEGORIES:Kultur
DESCRIPTION:Segele doch einfach mal die Kiellinie entlang\, anstatt anderen
  dabei zu zusehen!\n\nmehr Informationen unter http://pages.destination.on
 e/de/kiel-sailing-city/streaming/detail/Event/e_100815402/schnuppert-rn-ki
 elbootsegeln
DTEND;TZID=Europe/Berlin:20240706T235900
DTSTAMP:20260422T125738Z
DTSTART;TZID=Europe/Berlin:20240706T093000
GEO:54.332322;10.151378
LOCATION:Segelcamp powered by Stadtwerke Kiel\, Kiellinie\, Kiel
SEQUENCE:0
SUMMARY:Schnuppertörn Kielbootsegeln
UID:e_100815402_iv7
URL:http://pages.destination.one/de/kiel-sailing-city/streaming/detail/Even
 t/e_100815402/schnuppert-rn-kielbootsegeln
END:VEVENT
BEGIN:VEVENT
CATEGORIES:Sport/Freizeit
CATEGORIES:Segeln
CATEGORIES:Kultursommer
CATEGORIES:Kultur
DESCRIPTION:Segele doch einfach mal die Kiellinie entlang\, anstatt anderen
  dabei zu zusehen!\n\nmehr Informationen unter http://pages.destination.on
 e/de/kiel-sailing-city/streaming/detail/Event/e_100815402/schnuppert-rn-ki
 elbootsegeln
DTEND;TZID=Europe/Berlin:20240707T235900
DTSTAMP:20260422T125738Z
DTSTART;TZID=Europe/Berlin:20240707T093000
GEO:54.332322;10.151378
LOCATION:Segelcamp powered by Stadtwerke Kiel\, Kiellinie\, Kiel
SEQUENCE:0
SUMMARY:Schnuppertörn Kielbootsegeln
UID:e_100815402_iv8
URL:http://pages.destination.one/de/kiel-sailing-city/streaming/detail/Even
 t/e_100815402/schnuppert-rn-kielbootsegeln
END:VEVENT
BEGIN:VEVENT
CATEGORIES:Sport/Freizeit
CATEGORIES:Segeln
CATEGORIES:Kultursommer
CATEGORIES:Kultur
DESCRIPTION:Segele doch einfach mal die Kiellinie entlang\, anstatt anderen
  dabei zu zusehen!\n\nmehr Informationen unter http://pages.destination.on
 e/de/kiel-sailing-city/streaming/detail/Event/e_100815402/schnuppert-rn-ki
 elbootsegeln
DTEND;TZID=Europe/Berlin:20240714T235900
DTSTAMP:20260422T125738Z
DTSTART;TZID=Europe/Berlin:20240714T093000
GEO:54.332322;10.151378
LOCATION:Segelcamp powered by Stadtwerke Kiel\, Kiellinie\, Kiel
SEQUENCE:0
SUMMARY:Schnuppertörn Kielbootsegeln
UID:e_100815402_iv9
URL:http://pages.destination.one/de/kiel-sailing-city/streaming/detail/Even
 t/e_100815402/schnuppert-rn-kielbootsegeln
END:VEVENT
BEGIN:VEVENT
CATEGORIES:Sport/Freizeit
CATEGORIES:Segeln
CATEGORIES:Kultursommer
CATEGORIES:Kultur
DESCRIPTION:Segele doch einfach mal die Kiellinie entlang\, anstatt anderen
  dabei zu zusehen!\n\nmehr Informationen unter http://pages.destination.on
 e/de/kiel-sailing-city/streaming/detail/Event/e_100815402/schnuppert-rn-ki
 elbootsegeln
DTEND;TZID=Europe/Berlin:20240803T235900
DTSTAMP:20260422T125738Z
DTSTART;TZID=Europe/Berlin:20240803T093000
GEO:54.332322;10.151378
LOCATION:Segelcamp powered by Stadtwerke Kiel\, Kiellinie\, Kiel
SEQUENCE:0
SUMMARY:Schnuppertörn Kielbootsegeln
UID:e_100815402_iv10
URL:http://pages.destination.one/de/kiel-sailing-city/streaming/detail/Even
 t/e_100815402/schnuppert-rn-kielbootsegeln
END:VEVENT
BEGIN:VEVENT
CATEGORIES:Sport/Freizeit
CATEGORIES:Segeln
CATEGORIES:Kultursommer
CATEGORIES:Kultur
DESCRIPTION:Segele doch einfach mal die Kiellinie entlang\, anstatt anderen
  dabei zu zusehen!\n\nmehr Informationen unter http://pages.destination.on
 e/de/kiel-sailing-city/streaming/detail/Event/e_100815402/schnuppert-rn-ki
 elbootsegeln
DTEND;TZID=Europe/Berlin:20240804T235900
DTSTAMP:20260422T125738Z
DTSTART;TZID=Europe/Berlin:20240804T093000
GEO:54.332322;10.151378
LOCATION:Segelcamp powered by Stadtwerke Kiel\, Kiellinie\, Kiel
SEQUENCE:0
SUMMARY:Schnuppertörn Kielbootsegeln
UID:e_100815402_iv11
URL:http://pages.destination.one/de/kiel-sailing-city/streaming/detail/Even
 t/e_100815402/schnuppert-rn-kielbootsegeln
END:VEVENT
BEGIN:VEVENT
CATEGORIES:Sport/Freizeit
CATEGORIES:Segeln
CATEGORIES:Kultursommer
CATEGORIES:Kultur
DESCRIPTION:Segele doch einfach mal die Kiellinie entlang\, anstatt anderen
  dabei zu zusehen!\n\nmehr Informationen unter http://pages.destination.on
 e/de/kiel-sailing-city/streaming/detail/Event/e_100815402/schnuppert-rn-ki
 elbootsegeln
DTEND;TZID=Europe/Berlin:20240825T235900
DTSTAMP:20260422T125738Z
DTSTART;TZID=Europe/Berlin:20240825T093000
GEO:54.332322;10.151378
LOCATION:Segelcamp powered by Stadtwerke Kiel\, Kiellinie\, Kiel
SEQUENCE:0
SUMMARY:Schnuppertörn Kielbootsegeln
UID:e_100815402_iv12
URL:http://pages.destination.one/de/kiel-sailing-city/streaming/detail/Even
 t/e_100815402/schnuppert-rn-kielbootsegeln
END:VEVENT
BEGIN:VEVENT
CATEGORIES:Sport/Freizeit
CATEGORIES:Segeln
CATEGORIES:Kultursommer
CATEGORIES:Kultur
DESCRIPTION:Segele doch einfach mal die Kiellinie entlang\, anstatt anderen
  dabei zu zusehen!\n\nmehr Informationen unter http://pages.destination.on
 e/de/kiel-sailing-city/streaming/detail/Event/e_100815402/schnuppert-rn-ki
 elbootsegeln
DTEND;TZID=Europe/Berlin:20240907T235900
DTSTAMP:20260422T125738Z
DTSTART;TZID=Europe/Berlin:20240907T093000
GEO:54.332322;10.151378
LOCATION:Segelcamp powered by Stadtwerke Kiel\, Kiellinie\, Kiel
SEQUENCE:0
SUMMARY:Schnuppertörn Kielbootsegeln
UID:e_100815402_iv13
URL:http://pages.destination.one/de/kiel-sailing-city/streaming/detail/Even
 t/e_100815402/schnuppert-rn-kielbootsegeln
END:VEVENT
BEGIN:VEVENT
CATEGORIES:Sport/Freizeit
CATEGORIES:Segeln
CATEGORIES:Kultursommer
CATEGORIES:Kultur
DESCRIPTION:Segele doch einfach mal die Kiellinie entlang\, anstatt anderen
  dabei zu zusehen!\n\nmehr Informationen unter http://pages.destination.on
 e/de/kiel-sailing-city/streaming/detail/Event/e_100815402/schnuppert-rn-ki
 elbootsegeln
DTEND;TZID=Europe/Berlin:20240908T235900
DTSTAMP:20260422T125738Z
DTSTART;TZID=Europe/Berlin:20240908T093000
GEO:54.332322;10.151378
LOCATION:Segelcamp powered by Stadtwerke Kiel\, Kiellinie\, Kiel
SEQUENCE:0
SUMMARY:Schnuppertörn Kielbootsegeln
UID:e_100815402_iv14
URL:http://pages.destination.one/de/kiel-sailing-city/streaming/detail/Even
 t/e_100815402/schnuppert-rn-kielbootsegeln
END:VEVENT
BEGIN:VEVENT
CATEGORIES:Sport/Freizeit
CATEGORIES:Segeln
CATEGORIES:Kultursommer
CATEGORIES:Kultur
DESCRIPTION:Segele doch einfach mal die Kiellinie entlang\, anstatt anderen
  dabei zu zusehen!\n\nmehr Informationen unter http://pages.destination.on
 e/de/kiel-sailing-city/streaming/detail/Event/e_100815402/schnuppert-rn-ki
 elbootsegeln
DTEND;TZID=Europe/Berlin:20250529T111500
DTSTAMP:20260422T125738Z
DTSTART;TZID=Europe/Berlin:20250529T093000
GEO:54.332322;10.151378
LOCATION:Segelcamp powered by Stadtwerke Kiel\, Kiellinie\, Kiel
SEQUENCE:0
SUMMARY:Schnuppertörn Kielbootsegeln
UID:e_100815402_iv15
URL:http://pages.destination.one/de/kiel-sailing-city/streaming/detail/Even
 t/e_100815402/schnuppert-rn-kielbootsegeln
END:VEVENT
BEGIN:VEVENT
CATEGORIES:Sport/Freizeit
CATEGORIES:Segeln
CATEGORIES:Kultursommer
CATEGORIES:Kultur
DESCRIPTION:Segele doch einfach mal die Kiellinie entlang\, anstatt anderen
  dabei zu zusehen!\n\nmehr Informationen unter http://pages.destination.on
 e/de/kiel-sailing-city/streaming/detail/Event/e_100815402/schnuppert-rn-ki
 elbootsegeln
DTEND;TZID=Europe/Berlin:20250531T111500
DTSTAMP:20260422T125738Z
DTSTART;TZID=Europe/Berlin:20250531T093000
GEO:54.332322;10.151378
LOCATION:Segelcamp powered by Stadtwerke Kiel\, Kiellinie\, Kiel
SEQUENCE:0
SUMMARY:Schnuppertörn Kielbootsegeln
UID:e_100815402_iv16
URL:http://pages.destination.one/de/kiel-sailing-city/streaming/detail/Even
 t/e_100815402/schnuppert-rn-kielbootsegeln
END:VEVENT
BEGIN:VEVENT
CATEGORIES:Sport/Freizeit
CATEGORIES:Segeln
CATEGORIES:Kultursommer
CATEGORIES:Kultur
DESCRIPTION:Segele doch einfach mal die Kiellinie entlang\, anstatt anderen
  dabei zu zusehen!\n\nmehr Informationen unter http://pages.destination.on
 e/de/kiel-sailing-city/streaming/detail/Event/e_100815402/schnuppert-rn-ki
 elbootsegeln
DTEND;TZID=Europe/Berlin:20250601T111500
DTSTAMP:20260422T125738Z
DTSTART;TZID=Europe/Berlin:20250601T093000
GEO:54.332322;10.151378
LOCATION:Segelcamp powered by Stadtwerke Kiel\, Kiellinie\, Kiel
SEQUENCE:0
SUMMARY:Schnuppertörn Kielbootsegeln
UID:e_100815402_iv17
URL:http://pages.destination.one/de/kiel-sailing-city/streaming/detail/Even
 t/e_100815402/schnuppert-rn-kielbootsegeln
END:VEVENT
BEGIN:VEVENT
CATEGORIES:Sport/Freizeit
CATEGORIES:Segeln
CATEGORIES:Kultursommer
CATEGORIES:Kultur
DESCRIPTION:Segele doch einfach mal die Kiellinie entlang\, anstatt anderen
  dabei zu zusehen!\n\nmehr Informationen unter http://pages.destination.on
 e/de/kiel-sailing-city/streaming/detail/Event/e_100815402/schnuppert-rn-ki
 elbootsegeln
DTEND;TZID=Europe/Berlin:20250614T111500
DTSTAMP:20260422T125738Z
DTSTART;TZID=Europe/Berlin:20250614T093000
GEO:54.332322;10.151378
LOCATION:Segelcamp powered by Stadtwerke Kiel\, Kiellinie\, Kiel
SEQUENCE:0
SUMMARY:Schnuppertörn Kielbootsegeln
UID:e_100815402_iv18
URL:http://pages.destination.one/de/kiel-sailing-city/streaming/detail/Even
 t/e_100815402/schnuppert-rn-kielbootsegeln
END:VEVENT
BEGIN:VEVENT
CATEGORIES:Sport/Freizeit
CATEGORIES:Segeln
CATEGORIES:Kultursommer
CATEGORIES:Kultur
DESCRIPTION:Segele doch einfach mal die Kiellinie entlang\, anstatt anderen
  dabei zu zusehen!\n\nmehr Informationen unter http://pages.destination.on
 e/de/kiel-sailing-city/streaming/detail/Event/e_100815402/schnuppert-rn-ki
 elbootsegeln
DTEND;TZID=Europe/Berlin:20250719T111500
DTSTAMP:20260422T125738Z
DTSTART;TZID=Europe/Berlin:20250719T093000
GEO:54.332322;10.151378
LOCATION:Segelcamp powered by Stadtwerke Kiel\, Kiellinie\, Kiel
SEQUENCE:0
SUMMARY:Schnuppertörn Kielbootsegeln
UID:e_100815402_iv19
URL:http://pages.destination.one/de/kiel-sailing-city/streaming/detail/Even
 t/e_100815402/schnuppert-rn-kielbootsegeln
END:VEVENT
BEGIN:VEVENT
CATEGORIES:Sport/Freizeit
CATEGORIES:Segeln
CATEGORIES:Kultursommer
CATEGORIES:Kultur
DESCRIPTION:Segele doch einfach mal die Kiellinie entlang\, anstatt anderen
  dabei zu zusehen!\n\nmehr Informationen unter http://pages.destination.on
 e/de/kiel-sailing-city/streaming/detail/Event/e_100815402/schnuppert-rn-ki
 elbootsegeln
DTEND;TZID=Europe/Berlin:20250720T111500
DTSTAMP:20260422T125738Z
DTSTART;TZID=Europe/Berlin:20250720T093000
GEO:54.332322;10.151378
LOCATION:Segelcamp powered by Stadtwerke Kiel\, Kiellinie\, Kiel
SEQUENCE:0
SUMMARY:Schnuppertörn Kielbootsegeln
UID:e_100815402_iv20
URL:http://pages.destination.one/de/kiel-sailing-city/streaming/detail/Even
 t/e_100815402/schnuppert-rn-kielbootsegeln
END:VEVENT
BEGIN:VEVENT
CATEGORIES:Sport/Freizeit
CATEGORIES:Segeln
CATEGORIES:Kultursommer
CATEGORIES:Kultur
DESCRIPTION:Segele doch einfach mal die Kiellinie entlang\, anstatt anderen
  dabei zu zusehen!\n\nmehr Informationen unter http://pages.destination.on
 e/de/kiel-sailing-city/streaming/detail/Event/e_100815402/schnuppert-rn-ki
 elbootsegeln
DTEND;TZID=Europe/Berlin:20250830T111500
DTSTAMP:20260422T125738Z
DTSTART;TZID=Europe/Berlin:20250830T093000
GEO:54.332322;10.151378
LOCATION:Segelcamp powered by Stadtwerke Kiel\, Kiellinie\, Kiel
SEQUENCE:0
SUMMARY:Schnuppertörn Kielbootsegeln
UID:e_100815402_iv21
URL:http://pages.destination.one/de/kiel-sailing-city/streaming/detail/Even
 t/e_100815402/schnuppert-rn-kielbootsegeln
END:VEVENT
BEGIN:VEVENT
CATEGORIES:Sport/Freizeit
CATEGORIES:Segeln
CATEGORIES:Kultursommer
CATEGORIES:Kultur
DESCRIPTION:Segele doch einfach mal die Kiellinie entlang\, anstatt anderen
  dabei zu zusehen!\n\nmehr Informationen unter http://pages.destination.on
 e/de/kiel-sailing-city/streaming/detail/Event/e_100815402/schnuppert-rn-ki
 elbootsegeln
DTEND;TZID=Europe/Berlin:20250831T111500
DTSTAMP:20260422T125738Z
DTSTART;TZID=Europe/Berlin:20250831T093000
GEO:54.332322;10.151378
LOCATION:Segelcamp powered by Stadtwerke Kiel\, Kiellinie\, Kiel
SEQUENCE:0
SUMMARY:Schnuppertörn Kielbootsegeln
UID:e_100815402_iv22
URL:http://pages.destination.one/de/kiel-sailing-city/streaming/detail/Even
 t/e_100815402/schnuppert-rn-kielbootsegeln
END:VEVENT
BEGIN:VEVENT
CATEGORIES:Sport/Freizeit
CATEGORIES:Segeln
CATEGORIES:Kultursommer
CATEGORIES:Kultur
DESCRIPTION:Segele doch einfach mal die Kiellinie entlang\, anstatt anderen
  dabei zu zusehen!\n\nmehr Informationen unter http://pages.destination.on
 e/de/kiel-sailing-city/streaming/detail/Event/e_100815402/schnuppert-rn-ki
 elbootsegeln
DTEND;TZID=Europe/Berlin:20250913T111500
DTSTAMP:20260422T125738Z
DTSTART;TZID=Europe/Berlin:20250913T093000
GEO:54.332322;10.151378
LOCATION:Segelcamp powered by Stadtwerke Kiel\, Kiellinie\, Kiel
SEQUENCE:0
SUMMARY:Schnuppertörn Kielbootsegeln
UID:e_100815402_iv23
URL:http://pages.destination.one/de/kiel-sailing-city/streaming/detail/Even
 t/e_100815402/schnuppert-rn-kielbootsegeln
END:VEVENT
BEGIN:VEVENT
CATEGORIES:Sport/Freizeit
CATEGORIES:Segeln
CATEGORIES:Kultursommer
CATEGORIES:Kultur
DESCRIPTION:Segele doch einfach mal die Kiellinie entlang\, anstatt anderen
  dabei zu zusehen!\n\nmehr Informationen unter http://pages.destination.on
 e/de/kiel-sailing-city/streaming/detail/Event/e_100815402/schnuppert-rn-ki
 elbootsegeln
DTEND;TZID=Europe/Berlin:20260517T235900
DTSTAMP:20260422T125738Z
DTSTART;TZID=Europe/Berlin:20260517T093000
GEO:54.332322;10.151378
LOCATION:Segelcamp powered by Stadtwerke Kiel\, Kiellinie\, Kiel
SEQUENCE:0
SUMMARY:Schnuppertörn Kielbootsegeln
UID:e_100815402_iv24
URL:http://pages.destination.one/de/kiel-sailing-city/streaming/detail/Even
 t/e_100815402/schnuppert-rn-kielbootsegeln
END:VEVENT
BEGIN:VEVENT
CATEGORIES:Sport/Freizeit
CATEGORIES:Segeln
CATEGORIES:Kultursommer
CATEGORIES:Kultur
DESCRIPTION:Segele doch einfach mal die Kiellinie entlang\, anstatt anderen
  dabei zu zusehen!\n\nmehr Informationen unter http://pages.destination.on
 e/de/kiel-sailing-city/streaming/detail/Event/e_100815402/schnuppert-rn-ki
 elbootsegeln
DTEND;TZID=Europe/Berlin:20260525T235900
DTSTAMP:20260422T125738Z
DTSTART;TZID=Europe/Berlin:20260525T093000
GEO:54.332322;10.151378
LOCATION:Segelcamp powered by Stadtwerke Kiel\, Kiellinie\, Kiel
SEQUENCE:0
SUMMARY:Schnuppertörn Kielbootsegeln
UID:e_100815402_iv25
URL:http://pages.destination.one/de/kiel-sailing-city/streaming/detail/Even
 t/e_100815402/schnuppert-rn-kielbootsegeln
END:VEVENT
BEGIN:VEVENT
CATEGORIES:Sport/Freizeit
CATEGORIES:Segeln
CATEGORIES:Kultursommer
CATEGORIES:Kultur
DESCRIPTION:Segele doch einfach mal die Kiellinie entlang\, anstatt anderen
  dabei zu zusehen!\n\nmehr Informationen unter http://pages.destination.on
 e/de/kiel-sailing-city/streaming/detail/Event/e_100815402/schnuppert-rn-ki
 elbootsegeln
DTEND;TZID=Europe/Berlin:20260530T235900
DTSTAMP:20260422T125738Z
DTSTART;TZID=Europe/Berlin:20260530T093000
GEO:54.332322;10.151378
LOCATION:Segelcamp powered by Stadtwerke Kiel\, Kiellinie\, Kiel
SEQUENCE:0
SUMMARY:Schnuppertörn Kielbootsegeln
UID:e_100815402_iv26
URL:http://pages.destination.one/de/kiel-sailing-city/streaming/detail/Even
 t/e_100815402/schnuppert-rn-kielbootsegeln
END:VEVENT
BEGIN:VEVENT
CATEGORIES:Sport/Freizeit
CATEGORIES:Segeln
CATEGORIES:Kultursommer
CATEGORIES:Kultur
DESCRIPTION:Segele doch einfach mal die Kiellinie entlang\, anstatt anderen
  dabei zu zusehen!\n\nmehr Informationen unter http://pages.destination.on
 e/de/kiel-sailing-city/streaming/detail/Event/e_100815402/schnuppert-rn-ki
 elbootsegeln
DTEND;TZID=Europe/Berlin:20260531T235900
DTSTAMP:20260422T125738Z
DTSTART;TZID=Europe/Berlin:20260531T093000
GEO:54.332322;10.151378
LOCATION:Segelcamp powered by Stadtwerke Kiel\, Kiellinie\, Kiel
SEQUENCE:0
SUMMARY:Schnuppertörn Kielbootsegeln
UID:e_100815402_iv27
URL:http://pages.destination.one/de/kiel-sailing-city/streaming/detail/Even
 t/e_100815402/schnuppert-rn-kielbootsegeln
END:VEVENT
BEGIN:VEVENT
CATEGORIES:Sport/Freizeit
CATEGORIES:Segeln
CATEGORIES:Kultursommer
CATEGORIES:Kultur
DESCRIPTION:Segele doch einfach mal die Kiellinie entlang\, anstatt anderen
  dabei zu zusehen!\n\nmehr Informationen unter http://pages.destination.on
 e/de/kiel-sailing-city/streaming/detail/Event/e_100815402/schnuppert-rn-ki
 elbootsegeln
DTEND;TZID=Europe/Berlin:20260725T235900
DTSTAMP:20260422T125738Z
DTSTART;TZID=Europe/Berlin:20260725T093000
GEO:54.332322;10.151378
LOCATION:Segelcamp powered by Stadtwerke Kiel\, Kiellinie\, Kiel
SEQUENCE:0
SUMMARY:Schnuppertörn Kielbootsegeln
UID:e_100815402_iv28
URL:http://pages.destination.one/de/kiel-sailing-city/streaming/detail/Even
 t/e_100815402/schnuppert-rn-kielbootsegeln
END:VEVENT
BEGIN:VEVENT
CATEGORIES:Sport/Freizeit
CATEGORIES:Segeln
CATEGORIES:Kultursommer
CATEGORIES:Kultur
DESCRIPTION:Segele doch einfach mal die Kiellinie entlang\, anstatt anderen
  dabei zu zusehen!\n\nmehr Informationen unter http://pages.destination.on
 e/de/kiel-sailing-city/streaming/detail/Event/e_100815402/schnuppert-rn-ki
 elbootsegeln
DTEND;TZID=Europe/Berlin:20260726T235900
DTSTAMP:20260422T125738Z
DTSTART;TZID=Europe/Berlin:20260726T093000
GEO:54.332322;10.151378
LOCATION:Segelcamp powered by Stadtwerke Kiel\, Kiellinie\, Kiel
SEQUENCE:0
SUMMARY:Schnuppertörn Kielbootsegeln
UID:e_100815402_iv29
URL:http://pages.destination.one/de/kiel-sailing-city/streaming/detail/Even
 t/e_100815402/schnuppert-rn-kielbootsegeln
END:VEVENT
BEGIN:VEVENT
CATEGORIES:Sport/Freizeit
CATEGORIES:Segeln
CATEGORIES:Kultursommer
CATEGORIES:Kultur
DESCRIPTION:Segele doch einfach mal die Kiellinie entlang\, anstatt anderen
  dabei zu zusehen!\n\nmehr Informationen unter http://pages.destination.on
 e/de/kiel-sailing-city/streaming/detail/Event/e_100815402/schnuppert-rn-ki
 elbootsegeln
DTEND;TZID=Europe/Berlin:20260823T235900
DTSTAMP:20260422T125738Z
DTSTART;TZID=Europe/Berlin:20260823T093000
GEO:54.332322;10.151378
LOCATION:Segelcamp powered by Stadtwerke Kiel\, Kiellinie\, Kiel
SEQUENCE:0
SUMMARY:Schnuppertörn Kielbootsegeln
UID:e_100815402_iv30
URL:http://pages.destination.one/de/kiel-sailing-city/streaming/detail/Even
 t/e_100815402/schnuppert-rn-kielbootsegeln
END:VEVENT
BEGIN:VEVENT
CATEGORIES:Sport/Freizeit
CATEGORIES:Segeln
CATEGORIES:Kultursommer
CATEGORIES:Kultur
DESCRIPTION:Segele doch einfach mal die Kiellinie entlang\, anstatt anderen
  dabei zu zusehen!\n\nmehr Informationen unter http://pages.destination.on
 e/de/kiel-sailing-city/streaming/detail/Event/e_100815402/schnuppert-rn-ki
 elbootsegeln
DTEND;TZID=Europe/Berlin:20260919T235900
DTSTAMP:20260422T125738Z
DTSTART;TZID=Europe/Berlin:20260919T093000
GEO:54.332322;10.151378
LOCATION:Segelcamp powered by Stadtwerke Kiel\, Kiellinie\, Kiel
SEQUENCE:0
SUMMARY:Schnuppertörn Kielbootsegeln
UID:e_100815402_iv31
URL:http://pages.destination.one/de/kiel-sailing-city/streaming/detail/Even
 t/e_100815402/schnuppert-rn-kielbootsegeln
END:VEVENT
BEGIN:VEVENT
CATEGORIES:Sport/Freizeit
CATEGORIES:Segeln
CATEGORIES:Kultursommer
CATEGORIES:Kultur
DESCRIPTION:Segele doch einfach mal die Kiellinie entlang\, anstatt anderen
  dabei zu zusehen!\n\nmehr Informationen unter http://pages.destination.on
 e/de/kiel-sailing-city/streaming/detail/Event/e_100815402/schnuppert-rn-ki
 elbootsegeln
DTEND;TZID=Europe/Berlin:20260920T235900
DTSTAMP:20260422T125738Z
DTSTART;TZID=Europe/Berlin:20260920T093000
GEO:54.332322;10.151378
LOCATION:Segelcamp powered by Stadtwerke Kiel\, Kiellinie\, Kiel
SEQUENCE:0
SUMMARY:Schnuppertörn Kielbootsegeln
UID:e_100815402_iv32
URL:http://pages.destination.one/de/kiel-sailing-city/streaming/detail/Even
 t/e_100815402/schnuppert-rn-kielbootsegeln
END:VEVENT
BEGIN:VTIMEZONE
TZID:Europe/Berlin
X-LIC-LOCATION:Europe/Berlin
BEGIN:DAYLIGHT
DTSTART:19700329T020000
RRULE:FREQ=YEARLY;BYDAY=-1SU;BYMONTH=3
TZNAME:CEST
TZOFFSETFROM:+0100
TZOFFSETTO:+0200
END:DAYLIGHT
BEGIN:STANDARD
DTSTART:19701025T030000
RRULE:FREQ=YEARLY;BYDAY=-1SU;BYMONTH=10
TZNAME:CET
TZOFFSETFROM:+0200
TZOFFSETTO:+0100
END:STANDARD
END:VTIMEZONE
END:VCALENDAR
