BEGIN:VCALENDAR
VERSION:2.0
PRODID:-//destination.one//NONSGML destination.meta API//DE
X-WR-CALDESC:A calendar powered by destination.meta
X-WR-CALNAME:kiel-sailing-city Kalender via destination.meta
BEGIN:VEVENT
CATEGORIES:Sport/Freizeit
CATEGORIES:Segeln
CATEGORIES:Kultursommer
CATEGORIES:Kultur
DESCRIPTION:Segele mit bis zu 4 Personen auf einer sportlichen Aira 22 in d
 en Sonnenuntergang.\n\nmehr Informationen unter http://pages.destination.o
 ne/de/kiel-sailing-city/streaming/detail/Event/e_100815409/sunset-sailing
DTEND;TZID=Europe/Berlin:20240513T235900
DTSTAMP:20260422T084035Z
DTSTART;TZID=Europe/Berlin:20240513T183000
GEO:54.332322;10.151378
LOCATION:Segelcamp powered by Stadtwerke Kiel\, Kiellinie\, Kiel
PRIORITY:4
RRULE:FREQ=WEEKLY;UNTIL=20240827T215900;BYDAY=MO,TU
SEQUENCE:0
SUMMARY:Sunset Sailing
UID:e_100815409_iv0
URL:http://pages.destination.one/de/kiel-sailing-city/streaming/detail/Even
 t/e_100815409/sunset-sailing
END:VEVENT
BEGIN:VEVENT
CATEGORIES:Sport/Freizeit
CATEGORIES:Segeln
CATEGORIES:Kultursommer
CATEGORIES:Kultur
DESCRIPTION:Segele mit bis zu 4 Personen auf einer sportlichen Aira 22 in d
 en Sonnenuntergang.\n\nmehr Informationen unter http://pages.destination.o
 ne/de/kiel-sailing-city/streaming/detail/Event/e_100815409/sunset-sailing
DTEND;TZID=Europe/Berlin:20250519T235900
DTSTAMP:20260422T084035Z
DTSTART;TZID=Europe/Berlin:20250519T183000
GEO:54.332322;10.151378
LOCATION:Segelcamp powered by Stadtwerke Kiel\, Kiellinie\, Kiel
PRIORITY:4
SEQUENCE:0
SUMMARY:Sunset Sailing
UID:e_100815409_iv1
URL:http://pages.destination.one/de/kiel-sailing-city/streaming/detail/Even
 t/e_100815409/sunset-sailing
END:VEVENT
BEGIN:VEVENT
CATEGORIES:Sport/Freizeit
CATEGORIES:Segeln
CATEGORIES:Kultursommer
CATEGORIES:Kultur
DESCRIPTION:Segele mit bis zu 4 Personen auf einer sportlichen Aira 22 in d
 en Sonnenuntergang.\n\nmehr Informationen unter http://pages.destination.o
 ne/de/kiel-sailing-city/streaming/detail/Event/e_100815409/sunset-sailing
DTEND;TZID=Europe/Berlin:20250520T235900
DTSTAMP:20260422T084035Z
DTSTART;TZID=Europe/Berlin:20250520T183000
GEO:54.332322;10.151378
LOCATION:Segelcamp powered by Stadtwerke Kiel\, Kiellinie\, Kiel
PRIORITY:4
SEQUENCE:0
SUMMARY:Sunset Sailing
UID:e_100815409_iv2
URL:http://pages.destination.one/de/kiel-sailing-city/streaming/detail/Even
 t/e_100815409/sunset-sailing
END:VEVENT
BEGIN:VEVENT
CATEGORIES:Sport/Freizeit
CATEGORIES:Segeln
CATEGORIES:Kultursommer
CATEGORIES:Kultur
DESCRIPTION:Segele mit bis zu 4 Personen auf einer sportlichen Aira 22 in d
 en Sonnenuntergang.\n\nmehr Informationen unter http://pages.destination.o
 ne/de/kiel-sailing-city/streaming/detail/Event/e_100815409/sunset-sailing
DTEND;TZID=Europe/Berlin:20250526T235900
DTSTAMP:20260422T084035Z
DTSTART;TZID=Europe/Berlin:20250526T183000
GEO:54.332322;10.151378
LOCATION:Segelcamp powered by Stadtwerke Kiel\, Kiellinie\, Kiel
PRIORITY:4
SEQUENCE:0
SUMMARY:Sunset Sailing
UID:e_100815409_iv3
URL:http://pages.destination.one/de/kiel-sailing-city/streaming/detail/Even
 t/e_100815409/sunset-sailing
END:VEVENT
BEGIN:VEVENT
CATEGORIES:Sport/Freizeit
CATEGORIES:Segeln
CATEGORIES:Kultursommer
CATEGORIES:Kultur
DESCRIPTION:Segele mit bis zu 4 Personen auf einer sportlichen Aira 22 in d
 en Sonnenuntergang.\n\nmehr Informationen unter http://pages.destination.o
 ne/de/kiel-sailing-city/streaming/detail/Event/e_100815409/sunset-sailing
DTEND;TZID=Europe/Berlin:20250527T235900
DTSTAMP:20260422T084035Z
DTSTART;TZID=Europe/Berlin:20250527T183000
GEO:54.332322;10.151378
LOCATION:Segelcamp powered by Stadtwerke Kiel\, Kiellinie\, Kiel
PRIORITY:4
SEQUENCE:0
SUMMARY:Sunset Sailing
UID:e_100815409_iv4
URL:http://pages.destination.one/de/kiel-sailing-city/streaming/detail/Even
 t/e_100815409/sunset-sailing
END:VEVENT
BEGIN:VEVENT
CATEGORIES:Sport/Freizeit
CATEGORIES:Segeln
CATEGORIES:Kultursommer
CATEGORIES:Kultur
DESCRIPTION:Segele mit bis zu 4 Personen auf einer sportlichen Aira 22 in d
 en Sonnenuntergang.\n\nmehr Informationen unter http://pages.destination.o
 ne/de/kiel-sailing-city/streaming/detail/Event/e_100815409/sunset-sailing
DTEND;TZID=Europe/Berlin:20250602T235900
DTSTAMP:20260422T084035Z
DTSTART;TZID=Europe/Berlin:20250602T183000
GEO:54.332322;10.151378
LOCATION:Segelcamp powered by Stadtwerke Kiel\, Kiellinie\, Kiel
PRIORITY:4
RRULE:FREQ=WEEKLY;UNTIL=20250608T215900;BYDAY=MO,TU
SEQUENCE:0
SUMMARY:Sunset Sailing
UID:e_100815409_iv5
URL:http://pages.destination.one/de/kiel-sailing-city/streaming/detail/Even
 t/e_100815409/sunset-sailing
END:VEVENT
BEGIN:VEVENT
CATEGORIES:Sport/Freizeit
CATEGORIES:Segeln
CATEGORIES:Kultursommer
CATEGORIES:Kultur
DESCRIPTION:Segele mit bis zu 4 Personen auf einer sportlichen Aira 22 in d
 en Sonnenuntergang.\n\nmehr Informationen unter http://pages.destination.o
 ne/de/kiel-sailing-city/streaming/detail/Event/e_100815409/sunset-sailing
DTEND;TZID=Europe/Berlin:20250610T235900
DTSTAMP:20260422T084035Z
DTSTART;TZID=Europe/Berlin:20250610T183000
GEO:54.332322;10.151378
LOCATION:Segelcamp powered by Stadtwerke Kiel\, Kiellinie\, Kiel
PRIORITY:4
RRULE:FREQ=WEEKLY;UNTIL=20250622T215900;BYDAY=MO,TU
SEQUENCE:0
SUMMARY:Sunset Sailing
UID:e_100815409_iv6
URL:http://pages.destination.one/de/kiel-sailing-city/streaming/detail/Even
 t/e_100815409/sunset-sailing
END:VEVENT
BEGIN:VEVENT
CATEGORIES:Sport/Freizeit
CATEGORIES:Segeln
CATEGORIES:Kultursommer
CATEGORIES:Kultur
DESCRIPTION:Segele mit bis zu 4 Personen auf einer sportlichen Aira 22 in d
 en Sonnenuntergang.\n\nmehr Informationen unter http://pages.destination.o
 ne/de/kiel-sailing-city/streaming/detail/Event/e_100815409/sunset-sailing
DTEND;TZID=Europe/Berlin:20250630T235900
DTSTAMP:20260422T084035Z
DTSTART;TZID=Europe/Berlin:20250630T183000
GEO:54.332322;10.151378
LOCATION:Segelcamp powered by Stadtwerke Kiel\, Kiellinie\, Kiel
PRIORITY:4
RRULE:FREQ=WEEKLY;UNTIL=20250721T215900;BYDAY=MO,TU
SEQUENCE:0
SUMMARY:Sunset Sailing
UID:e_100815409_iv7
URL:http://pages.destination.one/de/kiel-sailing-city/streaming/detail/Even
 t/e_100815409/sunset-sailing
END:VEVENT
BEGIN:VEVENT
CATEGORIES:Sport/Freizeit
CATEGORIES:Segeln
CATEGORIES:Kultursommer
CATEGORIES:Kultur
DESCRIPTION:Segele mit bis zu 4 Personen auf einer sportlichen Aira 22 in d
 en Sonnenuntergang.\n\nmehr Informationen unter http://pages.destination.o
 ne/de/kiel-sailing-city/streaming/detail/Event/e_100815409/sunset-sailing
DTEND;TZID=Europe/Berlin:20250728T235900
DTSTAMP:20260422T084035Z
DTSTART;TZID=Europe/Berlin:20250728T180000
GEO:54.332322;10.151378
LOCATION:Segelcamp powered by Stadtwerke Kiel\, Kiellinie\, Kiel
PRIORITY:4
RRULE:FREQ=WEEKLY;UNTIL=20250803T215900;BYDAY=MO,TU
SEQUENCE:0
SUMMARY:Sunset Sailing
UID:e_100815409_iv8
URL:http://pages.destination.one/de/kiel-sailing-city/streaming/detail/Even
 t/e_100815409/sunset-sailing
END:VEVENT
BEGIN:VEVENT
CATEGORIES:Sport/Freizeit
CATEGORIES:Segeln
CATEGORIES:Kultursommer
CATEGORIES:Kultur
DESCRIPTION:Segele mit bis zu 4 Personen auf einer sportlichen Aira 22 in d
 en Sonnenuntergang.\n\nmehr Informationen unter http://pages.destination.o
 ne/de/kiel-sailing-city/streaming/detail/Event/e_100815409/sunset-sailing
DTEND;TZID=Europe/Berlin:20250818T235900
DTSTAMP:20260422T084035Z
DTSTART;TZID=Europe/Berlin:20250818T180000
GEO:54.332322;10.151378
LOCATION:Segelcamp powered by Stadtwerke Kiel\, Kiellinie\, Kiel
PRIORITY:4
RRULE:FREQ=WEEKLY;UNTIL=20250902T215900;BYDAY=MO,TU
SEQUENCE:0
SUMMARY:Sunset Sailing
UID:e_100815409_iv9
URL:http://pages.destination.one/de/kiel-sailing-city/streaming/detail/Even
 t/e_100815409/sunset-sailing
END:VEVENT
BEGIN:VEVENT
CATEGORIES:Sport/Freizeit
CATEGORIES:Segeln
CATEGORIES:Kultursommer
CATEGORIES:Kultur
DESCRIPTION:Segele mit bis zu 4 Personen auf einer sportlichen Aira 22 in d
 en Sonnenuntergang.\n\nmehr Informationen unter http://pages.destination.o
 ne/de/kiel-sailing-city/streaming/detail/Event/e_100815409/sunset-sailing
DTEND;TZID=Europe/Berlin:20250908T235900
DTSTAMP:20260422T084035Z
DTSTART;TZID=Europe/Berlin:20250908T173000
GEO:54.332322;10.151378
LOCATION:Segelcamp powered by Stadtwerke Kiel\, Kiellinie\, Kiel
PRIORITY:4
RRULE:FREQ=WEEKLY;UNTIL=20250916T215900;BYDAY=MO,TU
SEQUENCE:0
SUMMARY:Sunset Sailing
UID:e_100815409_iv10
URL:http://pages.destination.one/de/kiel-sailing-city/streaming/detail/Even
 t/e_100815409/sunset-sailing
END:VEVENT
BEGIN:VEVENT
CATEGORIES:Sport/Freizeit
CATEGORIES:Segeln
CATEGORIES:Kultursommer
CATEGORIES:Kultur
DESCRIPTION:Segele mit bis zu 4 Personen auf einer sportlichen Aira 22 in d
 en Sonnenuntergang.\n\nmehr Informationen unter http://pages.destination.o
 ne/de/kiel-sailing-city/streaming/detail/Event/e_100815409/sunset-sailing
DTEND;TZID=Europe/Berlin:20260518T235900
DTSTAMP:20260422T084035Z
DTSTART;TZID=Europe/Berlin:20260518T173000
GEO:54.332322;10.151378
LOCATION:Segelcamp powered by Stadtwerke Kiel\, Kiellinie\, Kiel
PRIORITY:4
RRULE:FREQ=WEEKLY;UNTIL=20260915T215900;BYDAY=MO,TU
SEQUENCE:0
SUMMARY:Sunset Sailing
UID:e_100815409_iv11
URL:http://pages.destination.one/de/kiel-sailing-city/streaming/detail/Even
 t/e_100815409/sunset-sailing
END:VEVENT
BEGIN:VEVENT
CATEGORIES:Sport/Freizeit
CATEGORIES:Segeln
CATEGORIES:Kultursommer
CATEGORIES:Kultur
DESCRIPTION:Segele mit bis zu 4 Personen auf einer sportlichen Aira 22 in d
 en Sonnenuntergang.\n\nmehr Informationen unter http://pages.destination.o
 ne/de/kiel-sailing-city/streaming/detail/Event/e_100815409/sunset-sailing
DTEND;TZID=Europe/Berlin:20260518T235900
DTSTAMP:20260422T084035Z
DTSTART;TZID=Europe/Berlin:20260518T180000
GEO:54.332322;10.151378
LOCATION:Segelcamp powered by Stadtwerke Kiel\, Kiellinie\, Kiel
PRIORITY:4
RRULE:FREQ=WEEKLY;UNTIL=20260915T215900;BYDAY=MO,TU
SEQUENCE:0
SUMMARY:Sunset Sailing
UID:e_100815409_iv12
URL:http://pages.destination.one/de/kiel-sailing-city/streaming/detail/Even
 t/e_100815409/sunset-sailing
END:VEVENT
BEGIN:VEVENT
CATEGORIES:Sport/Freizeit
CATEGORIES:Segeln
CATEGORIES:Kultursommer
CATEGORIES:Kultur
DESCRIPTION:Segele mit bis zu 4 Personen auf einer sportlichen Aira 22 in d
 en Sonnenuntergang.\n\nmehr Informationen unter http://pages.destination.o
 ne/de/kiel-sailing-city/streaming/detail/Event/e_100815409/sunset-sailing
DTEND;TZID=Europe/Berlin:20260518T235900
DTSTAMP:20260422T084035Z
DTSTART;TZID=Europe/Berlin:20260518T183000
GEO:54.332322;10.151378
LOCATION:Segelcamp powered by Stadtwerke Kiel\, Kiellinie\, Kiel
PRIORITY:4
RRULE:FREQ=WEEKLY;UNTIL=20260915T215900;BYDAY=MO,TU
SEQUENCE:0
SUMMARY:Sunset Sailing
UID:e_100815409_iv13
URL:http://pages.destination.one/de/kiel-sailing-city/streaming/detail/Even
 t/e_100815409/sunset-sailing
END:VEVENT
BEGIN:VTIMEZONE
TZID:Europe/Berlin
X-LIC-LOCATION:Europe/Berlin
BEGIN:DAYLIGHT
DTSTART:19700329T020000
RRULE:FREQ=YEARLY;BYDAY=-1SU;BYMONTH=3
TZNAME:CEST
TZOFFSETFROM:+0100
TZOFFSETTO:+0200
END:DAYLIGHT
BEGIN:STANDARD
DTSTART:19701025T030000
RRULE:FREQ=YEARLY;BYDAY=-1SU;BYMONTH=10
TZNAME:CET
TZOFFSETFROM:+0200
TZOFFSETTO:+0100
END:STANDARD
END:VTIMEZONE
END:VCALENDAR
