BEGIN:VCALENDAR
VERSION:2.0
PRODID:-//destination.one//NONSGML destination.meta API//DE
X-WR-CALDESC:A calendar powered by destination.meta
X-WR-CALNAME:kiel-sailing-city Kalender via destination.meta
BEGIN:VEVENT
CATEGORIES:Segeln
CATEGORIES:Sport/Freizeit
CATEGORIES:Kultursommer
CATEGORIES:Kultur
DESCRIPTION:Schnuppersegeln auf der Kieler-Förde als Familie\n\nmehr Inform
 ationen unter http://pages.destination.one/de/kiel-sailing-city/streaming/
 detail/Event/e_100815432/eltern-kind-segeln
DTEND;TZID=Europe/Berlin:20240511T113000
DTSTAMP:20260423T171542Z
DTSTART;TZID=Europe/Berlin:20240511T093000
GEO:54.332322;10.151378
LOCATION:Segelcamp powered by Stadtwerke Kiel\, Kiellinie\, Kiel
PRIORITY:4
SEQUENCE:0
SUMMARY:Eltern-Kind-Segeln
UID:e_100815432_iv0
URL:http://pages.destination.one/de/kiel-sailing-city/streaming/detail/Even
 t/e_100815432/eltern-kind-segeln
END:VEVENT
BEGIN:VEVENT
CATEGORIES:Segeln
CATEGORIES:Sport/Freizeit
CATEGORIES:Kultursommer
CATEGORIES:Kultur
DESCRIPTION:Schnuppersegeln auf der Kieler-Förde als Familie\n\nmehr Inform
 ationen unter http://pages.destination.one/de/kiel-sailing-city/streaming/
 detail/Event/e_100815432/eltern-kind-segeln
DTEND;TZID=Europe/Berlin:20240519T113000
DTSTAMP:20260423T171542Z
DTSTART;TZID=Europe/Berlin:20240519T093000
GEO:54.332322;10.151378
LOCATION:Segelcamp powered by Stadtwerke Kiel\, Kiellinie\, Kiel
PRIORITY:4
SEQUENCE:0
SUMMARY:Eltern-Kind-Segeln
UID:e_100815432_iv1
URL:http://pages.destination.one/de/kiel-sailing-city/streaming/detail/Even
 t/e_100815432/eltern-kind-segeln
END:VEVENT
BEGIN:VEVENT
CATEGORIES:Segeln
CATEGORIES:Sport/Freizeit
CATEGORIES:Kultursommer
CATEGORIES:Kultur
DESCRIPTION:Schnuppersegeln auf der Kieler-Förde als Familie\n\nmehr Inform
 ationen unter http://pages.destination.one/de/kiel-sailing-city/streaming/
 detail/Event/e_100815432/eltern-kind-segeln
DTEND;TZID=Europe/Berlin:20240615T113000
DTSTAMP:20260423T171542Z
DTSTART;TZID=Europe/Berlin:20240615T093000
GEO:54.332322;10.151378
LOCATION:Segelcamp powered by Stadtwerke Kiel\, Kiellinie\, Kiel
PRIORITY:4
SEQUENCE:0
SUMMARY:Eltern-Kind-Segeln
UID:e_100815432_iv2
URL:http://pages.destination.one/de/kiel-sailing-city/streaming/detail/Even
 t/e_100815432/eltern-kind-segeln
END:VEVENT
BEGIN:VEVENT
CATEGORIES:Segeln
CATEGORIES:Sport/Freizeit
CATEGORIES:Kultursommer
CATEGORIES:Kultur
DESCRIPTION:Schnuppersegeln auf der Kieler-Förde als Familie\n\nmehr Inform
 ationen unter http://pages.destination.one/de/kiel-sailing-city/streaming/
 detail/Event/e_100815432/eltern-kind-segeln
DTEND;TZID=Europe/Berlin:20240817T113000
DTSTAMP:20260423T171542Z
DTSTART;TZID=Europe/Berlin:20240817T093000
GEO:54.332322;10.151378
LOCATION:Segelcamp powered by Stadtwerke Kiel\, Kiellinie\, Kiel
PRIORITY:4
SEQUENCE:0
SUMMARY:Eltern-Kind-Segeln
UID:e_100815432_iv3
URL:http://pages.destination.one/de/kiel-sailing-city/streaming/detail/Even
 t/e_100815432/eltern-kind-segeln
END:VEVENT
BEGIN:VEVENT
CATEGORIES:Segeln
CATEGORIES:Sport/Freizeit
CATEGORIES:Kultursommer
CATEGORIES:Kultur
DESCRIPTION:Schnuppersegeln auf der Kieler-Förde als Familie\n\nmehr Inform
 ationen unter http://pages.destination.one/de/kiel-sailing-city/streaming/
 detail/Event/e_100815432/eltern-kind-segeln
DTEND;TZID=Europe/Berlin:20240831T113000
DTSTAMP:20260423T171542Z
DTSTART;TZID=Europe/Berlin:20240831T093000
GEO:54.332322;10.151378
LOCATION:Segelcamp powered by Stadtwerke Kiel\, Kiellinie\, Kiel
PRIORITY:4
SEQUENCE:0
SUMMARY:Eltern-Kind-Segeln
UID:e_100815432_iv4
URL:http://pages.destination.one/de/kiel-sailing-city/streaming/detail/Even
 t/e_100815432/eltern-kind-segeln
END:VEVENT
BEGIN:VEVENT
CATEGORIES:Segeln
CATEGORIES:Sport/Freizeit
CATEGORIES:Kultursommer
CATEGORIES:Kultur
DESCRIPTION:Schnuppersegeln auf der Kieler-Förde als Familie\n\nmehr Inform
 ationen unter http://pages.destination.one/de/kiel-sailing-city/streaming/
 detail/Event/e_100815432/eltern-kind-segeln
DTEND;TZID=Europe/Berlin:20240914T113000
DTSTAMP:20260423T171542Z
DTSTART;TZID=Europe/Berlin:20240914T093000
GEO:54.332322;10.151378
LOCATION:Segelcamp powered by Stadtwerke Kiel\, Kiellinie\, Kiel
PRIORITY:4
SEQUENCE:0
SUMMARY:Eltern-Kind-Segeln
UID:e_100815432_iv5
URL:http://pages.destination.one/de/kiel-sailing-city/streaming/detail/Even
 t/e_100815432/eltern-kind-segeln
END:VEVENT
BEGIN:VEVENT
CATEGORIES:Segeln
CATEGORIES:Sport/Freizeit
CATEGORIES:Kultursommer
CATEGORIES:Kultur
DESCRIPTION:Schnuppersegeln auf der Kieler-Förde als Familie\n\nmehr Inform
 ationen unter http://pages.destination.one/de/kiel-sailing-city/streaming/
 detail/Event/e_100815432/eltern-kind-segeln
DTEND;TZID=Europe/Berlin:20250823T111500
DTSTAMP:20260423T171542Z
DTSTART;TZID=Europe/Berlin:20250823T093000
GEO:54.332322;10.151378
LOCATION:Segelcamp powered by Stadtwerke Kiel\, Kiellinie\, Kiel
PRIORITY:4
SEQUENCE:0
SUMMARY:Eltern-Kind-Segeln
UID:e_100815432_iv6
URL:http://pages.destination.one/de/kiel-sailing-city/streaming/detail/Even
 t/e_100815432/eltern-kind-segeln
END:VEVENT
BEGIN:VEVENT
CATEGORIES:Segeln
CATEGORIES:Sport/Freizeit
CATEGORIES:Kultursommer
CATEGORIES:Kultur
DESCRIPTION:Schnuppersegeln auf der Kieler-Förde als Familie\n\nmehr Inform
 ationen unter http://pages.destination.one/de/kiel-sailing-city/streaming/
 detail/Event/e_100815432/eltern-kind-segeln
DTEND;TZID=Europe/Berlin:20250906T111500
DTSTAMP:20260423T171542Z
DTSTART;TZID=Europe/Berlin:20250906T093000
GEO:54.332322;10.151378
LOCATION:Segelcamp powered by Stadtwerke Kiel\, Kiellinie\, Kiel
PRIORITY:4
SEQUENCE:0
SUMMARY:Eltern-Kind-Segeln
UID:e_100815432_iv7
URL:http://pages.destination.one/de/kiel-sailing-city/streaming/detail/Even
 t/e_100815432/eltern-kind-segeln
END:VEVENT
BEGIN:VEVENT
CATEGORIES:Segeln
CATEGORIES:Sport/Freizeit
CATEGORIES:Kultursommer
CATEGORIES:Kultur
DESCRIPTION:Schnuppersegeln auf der Kieler-Förde als Familie\n\nmehr Inform
 ationen unter http://pages.destination.one/de/kiel-sailing-city/streaming/
 detail/Event/e_100815432/eltern-kind-segeln
DTEND;TZID=Europe/Berlin:20250920T111500
DTSTAMP:20260423T171542Z
DTSTART;TZID=Europe/Berlin:20250920T093000
GEO:54.332322;10.151378
LOCATION:Segelcamp powered by Stadtwerke Kiel\, Kiellinie\, Kiel
PRIORITY:4
SEQUENCE:0
SUMMARY:Eltern-Kind-Segeln
UID:e_100815432_iv8
URL:http://pages.destination.one/de/kiel-sailing-city/streaming/detail/Even
 t/e_100815432/eltern-kind-segeln
END:VEVENT
BEGIN:VEVENT
CATEGORIES:Segeln
CATEGORIES:Sport/Freizeit
CATEGORIES:Kultursommer
CATEGORIES:Kultur
DESCRIPTION:Schnuppersegeln auf der Kieler-Förde als Familie\n\nmehr Inform
 ationen unter http://pages.destination.one/de/kiel-sailing-city/streaming/
 detail/Event/e_100815432/eltern-kind-segeln
DTEND;TZID=Europe/Berlin:20260606T235900
DTSTAMP:20260423T171542Z
DTSTART;TZID=Europe/Berlin:20260606T093000
GEO:54.332322;10.151378
LOCATION:Segelcamp powered by Stadtwerke Kiel\, Kiellinie\, Kiel
PRIORITY:4
SEQUENCE:0
SUMMARY:Eltern-Kind-Segeln
UID:e_100815432_iv9
URL:http://pages.destination.one/de/kiel-sailing-city/streaming/detail/Even
 t/e_100815432/eltern-kind-segeln
END:VEVENT
BEGIN:VEVENT
CATEGORIES:Segeln
CATEGORIES:Sport/Freizeit
CATEGORIES:Kultursommer
CATEGORIES:Kultur
DESCRIPTION:Schnuppersegeln auf der Kieler-Förde als Familie\n\nmehr Inform
 ationen unter http://pages.destination.one/de/kiel-sailing-city/streaming/
 detail/Event/e_100815432/eltern-kind-segeln
DTEND;TZID=Europe/Berlin:20260613T235900
DTSTAMP:20260423T171542Z
DTSTART;TZID=Europe/Berlin:20260613T093000
GEO:54.332322;10.151378
LOCATION:Segelcamp powered by Stadtwerke Kiel\, Kiellinie\, Kiel
PRIORITY:4
SEQUENCE:0
SUMMARY:Eltern-Kind-Segeln
UID:e_100815432_iv10
URL:http://pages.destination.one/de/kiel-sailing-city/streaming/detail/Even
 t/e_100815432/eltern-kind-segeln
END:VEVENT
BEGIN:VEVENT
CATEGORIES:Segeln
CATEGORIES:Sport/Freizeit
CATEGORIES:Kultursommer
CATEGORIES:Kultur
DESCRIPTION:Schnuppersegeln auf der Kieler-Förde als Familie\n\nmehr Inform
 ationen unter http://pages.destination.one/de/kiel-sailing-city/streaming/
 detail/Event/e_100815432/eltern-kind-segeln
DTEND;TZID=Europe/Berlin:20260711T235900
DTSTAMP:20260423T171542Z
DTSTART;TZID=Europe/Berlin:20260711T093000
GEO:54.332322;10.151378
LOCATION:Segelcamp powered by Stadtwerke Kiel\, Kiellinie\, Kiel
PRIORITY:4
SEQUENCE:0
SUMMARY:Eltern-Kind-Segeln
UID:e_100815432_iv11
URL:http://pages.destination.one/de/kiel-sailing-city/streaming/detail/Even
 t/e_100815432/eltern-kind-segeln
END:VEVENT
BEGIN:VEVENT
CATEGORIES:Segeln
CATEGORIES:Sport/Freizeit
CATEGORIES:Kultursommer
CATEGORIES:Kultur
DESCRIPTION:Schnuppersegeln auf der Kieler-Förde als Familie\n\nmehr Inform
 ationen unter http://pages.destination.one/de/kiel-sailing-city/streaming/
 detail/Event/e_100815432/eltern-kind-segeln
DTEND;TZID=Europe/Berlin:20260718T235900
DTSTAMP:20260423T171542Z
DTSTART;TZID=Europe/Berlin:20260718T093000
GEO:54.332322;10.151378
LOCATION:Segelcamp powered by Stadtwerke Kiel\, Kiellinie\, Kiel
PRIORITY:4
SEQUENCE:0
SUMMARY:Eltern-Kind-Segeln
UID:e_100815432_iv12
URL:http://pages.destination.one/de/kiel-sailing-city/streaming/detail/Even
 t/e_100815432/eltern-kind-segeln
END:VEVENT
BEGIN:VEVENT
CATEGORIES:Segeln
CATEGORIES:Sport/Freizeit
CATEGORIES:Kultursommer
CATEGORIES:Kultur
DESCRIPTION:Schnuppersegeln auf der Kieler-Förde als Familie\n\nmehr Inform
 ationen unter http://pages.destination.one/de/kiel-sailing-city/streaming/
 detail/Event/e_100815432/eltern-kind-segeln
DTEND;TZID=Europe/Berlin:20260808T235900
DTSTAMP:20260423T171542Z
DTSTART;TZID=Europe/Berlin:20260808T093000
GEO:54.332322;10.151378
LOCATION:Segelcamp powered by Stadtwerke Kiel\, Kiellinie\, Kiel
PRIORITY:4
SEQUENCE:0
SUMMARY:Eltern-Kind-Segeln
UID:e_100815432_iv13
URL:http://pages.destination.one/de/kiel-sailing-city/streaming/detail/Even
 t/e_100815432/eltern-kind-segeln
END:VEVENT
BEGIN:VEVENT
CATEGORIES:Segeln
CATEGORIES:Sport/Freizeit
CATEGORIES:Kultursommer
CATEGORIES:Kultur
DESCRIPTION:Schnuppersegeln auf der Kieler-Förde als Familie\n\nmehr Inform
 ationen unter http://pages.destination.one/de/kiel-sailing-city/streaming/
 detail/Event/e_100815432/eltern-kind-segeln
DTEND;TZID=Europe/Berlin:20260815T235900
DTSTAMP:20260423T171542Z
DTSTART;TZID=Europe/Berlin:20260815T093000
GEO:54.332322;10.151378
LOCATION:Segelcamp powered by Stadtwerke Kiel\, Kiellinie\, Kiel
PRIORITY:4
SEQUENCE:0
SUMMARY:Eltern-Kind-Segeln
UID:e_100815432_iv14
URL:http://pages.destination.one/de/kiel-sailing-city/streaming/detail/Even
 t/e_100815432/eltern-kind-segeln
END:VEVENT
BEGIN:VEVENT
CATEGORIES:Segeln
CATEGORIES:Sport/Freizeit
CATEGORIES:Kultursommer
CATEGORIES:Kultur
DESCRIPTION:Schnuppersegeln auf der Kieler-Förde als Familie\n\nmehr Inform
 ationen unter http://pages.destination.one/de/kiel-sailing-city/streaming/
 detail/Event/e_100815432/eltern-kind-segeln
DTEND;TZID=Europe/Berlin:20260829T235900
DTSTAMP:20260423T171542Z
DTSTART;TZID=Europe/Berlin:20260829T093000
GEO:54.332322;10.151378
LOCATION:Segelcamp powered by Stadtwerke Kiel\, Kiellinie\, Kiel
PRIORITY:4
SEQUENCE:0
SUMMARY:Eltern-Kind-Segeln
UID:e_100815432_iv15
URL:http://pages.destination.one/de/kiel-sailing-city/streaming/detail/Even
 t/e_100815432/eltern-kind-segeln
END:VEVENT
BEGIN:VEVENT
CATEGORIES:Segeln
CATEGORIES:Sport/Freizeit
CATEGORIES:Kultursommer
CATEGORIES:Kultur
DESCRIPTION:Schnuppersegeln auf der Kieler-Förde als Familie\n\nmehr Inform
 ationen unter http://pages.destination.one/de/kiel-sailing-city/streaming/
 detail/Event/e_100815432/eltern-kind-segeln
DTEND;TZID=Europe/Berlin:20260905T235900
DTSTAMP:20260423T171542Z
DTSTART;TZID=Europe/Berlin:20260905T093000
GEO:54.332322;10.151378
LOCATION:Segelcamp powered by Stadtwerke Kiel\, Kiellinie\, Kiel
PRIORITY:4
SEQUENCE:0
SUMMARY:Eltern-Kind-Segeln
UID:e_100815432_iv16
URL:http://pages.destination.one/de/kiel-sailing-city/streaming/detail/Even
 t/e_100815432/eltern-kind-segeln
END:VEVENT
BEGIN:VEVENT
CATEGORIES:Segeln
CATEGORIES:Sport/Freizeit
CATEGORIES:Kultursommer
CATEGORIES:Kultur
DESCRIPTION:Schnuppersegeln auf der Kieler-Förde als Familie\n\nmehr Inform
 ationen unter http://pages.destination.one/de/kiel-sailing-city/streaming/
 detail/Event/e_100815432/eltern-kind-segeln
DTEND;TZID=Europe/Berlin:20260912T235900
DTSTAMP:20260423T171542Z
DTSTART;TZID=Europe/Berlin:20260912T093000
GEO:54.332322;10.151378
LOCATION:Segelcamp powered by Stadtwerke Kiel\, Kiellinie\, Kiel
PRIORITY:4
SEQUENCE:0
SUMMARY:Eltern-Kind-Segeln
UID:e_100815432_iv17
URL:http://pages.destination.one/de/kiel-sailing-city/streaming/detail/Even
 t/e_100815432/eltern-kind-segeln
END:VEVENT
BEGIN:VTIMEZONE
TZID:Europe/Berlin
X-LIC-LOCATION:Europe/Berlin
BEGIN:DAYLIGHT
DTSTART:19700329T020000
RRULE:FREQ=YEARLY;BYDAY=-1SU;BYMONTH=3
TZNAME:CEST
TZOFFSETFROM:+0100
TZOFFSETTO:+0200
END:DAYLIGHT
BEGIN:STANDARD
DTSTART:19701025T030000
RRULE:FREQ=YEARLY;BYDAY=-1SU;BYMONTH=10
TZNAME:CET
TZOFFSETFROM:+0200
TZOFFSETTO:+0100
END:STANDARD
END:VTIMEZONE
END:VCALENDAR
