BEGIN:VCALENDAR
VERSION:2.0
PRODID:-//destination.one//NONSGML destination.meta API//DE
X-WR-CALDESC:A calendar powered by destination.meta
X-WR-CALNAME:kiel-sailing-city Kalender via destination.meta
BEGIN:VEVENT
CATEGORIES:Kultur
DESCRIPTION:Gemütlicher Treff im Hof Akkerboom für Ehrenamtliche und die\, 
 die es werden möchten.\n\nmehr Informationen unter http://pages.destinatio
 n.one/de/kiel-sailing-city/streaming/detail/Event/e_100980513/ehrenamtskl-
 nschnack
DTEND;TZID=Europe/Berlin:20250304T183000
DTSTAMP:20260421T141626Z
DTSTART;TZID=Europe/Berlin:20250304T170000
GEO:54.328743;10.057075
LOCATION:Hof Akkerboom e.V.\, Stockholmstr. 159\, Kiel
ORGANIZER;CN=Hof Akkerboom e.V.:mailto:info@hof-akkerboom.de
SEQUENCE:0
SUMMARY:Ehrenamtsklönschnack
UID:e_100980513_iv0
URL:http://pages.destination.one/de/kiel-sailing-city/streaming/detail/Even
 t/e_100980513/ehrenamtskl-nschnack
END:VEVENT
BEGIN:VEVENT
CATEGORIES:Kultur
DESCRIPTION:Gemütlicher Treff im Hof Akkerboom für Ehrenamtliche und die\, 
 die es werden möchten.\n\nmehr Informationen unter http://pages.destinatio
 n.one/de/kiel-sailing-city/streaming/detail/Event/e_100980513/ehrenamtskl-
 nschnack
DTEND;TZID=Europe/Berlin:20260203T235900
DTSTAMP:20260421T141626Z
DTSTART;TZID=Europe/Berlin:20260203T170000
GEO:54.328743;10.057075
LOCATION:Hof Akkerboom e.V.\, Stockholmstr. 159\, Kiel
ORGANIZER;CN=Hof Akkerboom e.V.:mailto:info@hof-akkerboom.de
SEQUENCE:0
SUMMARY:Ehrenamtsklönschnack
UID:e_100980513_iv1
URL:http://pages.destination.one/de/kiel-sailing-city/streaming/detail/Even
 t/e_100980513/ehrenamtskl-nschnack
END:VEVENT
BEGIN:VEVENT
CATEGORIES:Kultur
DESCRIPTION:Gemütlicher Treff im Hof Akkerboom für Ehrenamtliche und die\, 
 die es werden möchten.\n\nmehr Informationen unter http://pages.destinatio
 n.one/de/kiel-sailing-city/streaming/detail/Event/e_100980513/ehrenamtskl-
 nschnack
DTEND;TZID=Europe/Berlin:20260414T180000
DTSTAMP:20260421T141626Z
DTSTART;TZID=Europe/Berlin:20260414T170000
GEO:54.328743;10.057075
LOCATION:Hof Akkerboom e.V.\, Stockholmstr. 159\, Kiel
ORGANIZER;CN=Hof Akkerboom e.V.:mailto:info@hof-akkerboom.de
SEQUENCE:0
SUMMARY:Ehrenamtsklönschnack
UID:e_100980513_iv2
URL:http://pages.destination.one/de/kiel-sailing-city/streaming/detail/Even
 t/e_100980513/ehrenamtskl-nschnack
END:VEVENT
BEGIN:VTIMEZONE
TZID:Europe/Berlin
X-LIC-LOCATION:Europe/Berlin
BEGIN:DAYLIGHT
DTSTART:19700329T020000
RRULE:FREQ=YEARLY;BYDAY=-1SU;BYMONTH=3
TZNAME:CEST
TZOFFSETFROM:+0100
TZOFFSETTO:+0200
END:DAYLIGHT
BEGIN:STANDARD
DTSTART:19701025T030000
RRULE:FREQ=YEARLY;BYDAY=-1SU;BYMONTH=10
TZNAME:CET
TZOFFSETFROM:+0200
TZOFFSETTO:+0100
END:STANDARD
END:VTIMEZONE
END:VCALENDAR
