BEGIN:VCALENDAR
VERSION:2.0
PRODID:-//destination.one//NONSGML destination.meta API//DE
X-WR-CALDESC:A calendar powered by destination.meta
X-WR-CALNAME:kiel-sailing-city Kalender via destination.meta
BEGIN:VEVENT
CATEGORIES:Kultur
DESCRIPTION:Historische norddeutsche Straßenbahnen werden nicht nur gezeigt
 \, sondern können auf einer eigenen Strecke erlebt werden\n\nmehr Informat
 ionen unter http://pages.destination.one/de/kiel-sailing-city/streaming/de
 tail/Event/e_101241957/stra-enbahn-erlebnisfahrten-mit-historischen-fahrze
 ugen
DTEND;TZID=Europe/Berlin:20260405T170000
DTSTAMP:20260422T084033Z
DTSTART;TZID=Europe/Berlin:20260405T110000
GEO:54.411170;10.412994
LOCATION:Museumsbahnhof Schönberger Strand \, Am Schierbek 1\, Schönberg (H
 olstein)
ORGANIZER;CN=Verein Verkehrsamateure und Museumsbahn e.V.:mailto:buchung@vv
 m-museumsbahn.de
SEQUENCE:0
SUMMARY:Straßenbahn Erlebnisfahrten mit historischen Fahrzeugen
UID:e_101241957_iv0
URL:http://pages.destination.one/de/kiel-sailing-city/streaming/detail/Even
 t/e_101241957/stra-enbahn-erlebnisfahrten-mit-historischen-fahrzeugen
END:VEVENT
BEGIN:VEVENT
CATEGORIES:Kultur
DESCRIPTION:Historische norddeutsche Straßenbahnen werden nicht nur gezeigt
 \, sondern können auf einer eigenen Strecke erlebt werden\n\nmehr Informat
 ionen unter http://pages.destination.one/de/kiel-sailing-city/streaming/de
 tail/Event/e_101241957/stra-enbahn-erlebnisfahrten-mit-historischen-fahrze
 ugen
DTEND;TZID=Europe/Berlin:20260406T170000
DTSTAMP:20260422T084033Z
DTSTART;TZID=Europe/Berlin:20260406T110000
GEO:54.411170;10.412994
LOCATION:Museumsbahnhof Schönberger Strand \, Am Schierbek 1\, Schönberg (H
 olstein)
ORGANIZER;CN=Verein Verkehrsamateure und Museumsbahn e.V.:mailto:buchung@vv
 m-museumsbahn.de
SEQUENCE:0
SUMMARY:Straßenbahn Erlebnisfahrten mit historischen Fahrzeugen
UID:e_101241957_iv1
URL:http://pages.destination.one/de/kiel-sailing-city/streaming/detail/Even
 t/e_101241957/stra-enbahn-erlebnisfahrten-mit-historischen-fahrzeugen
END:VEVENT
BEGIN:VEVENT
CATEGORIES:Kultur
DESCRIPTION:Historische norddeutsche Straßenbahnen werden nicht nur gezeigt
 \, sondern können auf einer eigenen Strecke erlebt werden\n\nmehr Informat
 ionen unter http://pages.destination.one/de/kiel-sailing-city/streaming/de
 tail/Event/e_101241957/stra-enbahn-erlebnisfahrten-mit-historischen-fahrze
 ugen
DTEND;TZID=Europe/Berlin:20260412T170000
DTSTAMP:20260422T084033Z
DTSTART;TZID=Europe/Berlin:20260412T110000
GEO:54.411170;10.412994
LOCATION:Museumsbahnhof Schönberger Strand \, Am Schierbek 1\, Schönberg (H
 olstein)
ORGANIZER;CN=Verein Verkehrsamateure und Museumsbahn e.V.:mailto:buchung@vv
 m-museumsbahn.de
RRULE:FREQ=WEEKLY;UNTIL=20261028T100000;BYDAY=WE,SU
SEQUENCE:0
SUMMARY:Straßenbahn Erlebnisfahrten mit historischen Fahrzeugen
UID:e_101241957_iv2
URL:http://pages.destination.one/de/kiel-sailing-city/streaming/detail/Even
 t/e_101241957/stra-enbahn-erlebnisfahrten-mit-historischen-fahrzeugen
END:VEVENT
BEGIN:VTIMEZONE
TZID:Europe/Berlin
X-LIC-LOCATION:Europe/Berlin
BEGIN:DAYLIGHT
DTSTART:19700329T020000
RRULE:FREQ=YEARLY;BYDAY=-1SU;BYMONTH=3
TZNAME:CEST
TZOFFSETFROM:+0100
TZOFFSETTO:+0200
END:DAYLIGHT
BEGIN:STANDARD
DTSTART:19701025T030000
RRULE:FREQ=YEARLY;BYDAY=-1SU;BYMONTH=10
TZNAME:CET
TZOFFSETFROM:+0200
TZOFFSETTO:+0100
END:STANDARD
END:VTIMEZONE
END:VCALENDAR
