BEGIN:VCALENDAR
VERSION:2.0
PRODID:-//destination.one//NONSGML destination.meta API//DE
X-WR-CALDESC:A calendar powered by destination.meta
X-WR-CALNAME:kiel-sailing-city Kalender via destination.meta
BEGIN:VEVENT
CATEGORIES:Ausstellung
CATEGORIES:Kultur
DESCRIPTION:Monika Krömer zeigt expressive Acrylmalerei\, Hans-Werner Malsk
 ies abstrakte Stein- und Holzskulpturen\n\nmehr Informationen unter http:/
 /pages.destination.one/de/kiel-sailing-city/streaming/detail/Event/e_10124
 2030/farbe-und-form-bilder-von-monika-kr-mer-skulpturen-von-hans-werner-ma
 lskies
DTEND;TZID=Europe/Berlin:20260404T180000
DTSTAMP:20260421T095700Z
DTSTART;TZID=Europe/Berlin:20260404T130000
GEO:54.406413;10.220220
LOCATION:Förderverein Freya-Frahm-Haus\, Strandstraße 15\, Laboe
ORGANIZER;CN=Förderverein Freya-Frahm-Haus Laboe:mailto:Info@freya-frahm-ha
 us.de
RRULE:FREQ=WEEKLY;UNTIL=20260404T160000;BYDAY=TH,FR,SA,SU
SEQUENCE:0
SUMMARY:Farbe und Form - Bilder von Monika Krömer\, Skulpturen von Hans-Wer
 ner Malskies
UID:e_101242030_iv0
URL:http://pages.destination.one/de/kiel-sailing-city/streaming/detail/Even
 t/e_101242030/farbe-und-form-bilder-von-monika-kr-mer-skulpturen-von-hans-
 werner-malskies
END:VEVENT
BEGIN:VEVENT
CATEGORIES:Ausstellung
CATEGORIES:Kultur
DESCRIPTION:Monika Krömer zeigt expressive Acrylmalerei\, Hans-Werner Malsk
 ies abstrakte Stein- und Holzskulpturen\n\nmehr Informationen unter http:/
 /pages.destination.one/de/kiel-sailing-city/streaming/detail/Event/e_10124
 2030/farbe-und-form-bilder-von-monika-kr-mer-skulpturen-von-hans-werner-ma
 lskies
DTEND;TZID=Europe/Berlin:20260405T180000
DTSTAMP:20260421T095700Z
DTSTART;TZID=Europe/Berlin:20260405T110000
GEO:54.406413;10.220220
LOCATION:Förderverein Freya-Frahm-Haus\, Strandstraße 15\, Laboe
ORGANIZER;CN=Förderverein Freya-Frahm-Haus Laboe:mailto:Info@freya-frahm-ha
 us.de
SEQUENCE:0
SUMMARY:Farbe und Form - Bilder von Monika Krömer\, Skulpturen von Hans-Wer
 ner Malskies
UID:e_101242030_iv1
URL:http://pages.destination.one/de/kiel-sailing-city/streaming/detail/Even
 t/e_101242030/farbe-und-form-bilder-von-monika-kr-mer-skulpturen-von-hans-
 werner-malskies
END:VEVENT
BEGIN:VEVENT
CATEGORIES:Ausstellung
CATEGORIES:Kultur
DESCRIPTION:Monika Krömer zeigt expressive Acrylmalerei\, Hans-Werner Malsk
 ies abstrakte Stein- und Holzskulpturen\n\nmehr Informationen unter http:/
 /pages.destination.one/de/kiel-sailing-city/streaming/detail/Event/e_10124
 2030/farbe-und-form-bilder-von-monika-kr-mer-skulpturen-von-hans-werner-ma
 lskies
DTEND;TZID=Europe/Berlin:20260409T180000
DTSTAMP:20260421T095700Z
DTSTART;TZID=Europe/Berlin:20260409T130000
GEO:54.406413;10.220220
LOCATION:Förderverein Freya-Frahm-Haus\, Strandstraße 15\, Laboe
ORGANIZER;CN=Förderverein Freya-Frahm-Haus Laboe:mailto:Info@freya-frahm-ha
 us.de
RRULE:FREQ=WEEKLY;UNTIL=20260411T160000;BYDAY=TH,FR,SA,SU
SEQUENCE:0
SUMMARY:Farbe und Form - Bilder von Monika Krömer\, Skulpturen von Hans-Wer
 ner Malskies
UID:e_101242030_iv2
URL:http://pages.destination.one/de/kiel-sailing-city/streaming/detail/Even
 t/e_101242030/farbe-und-form-bilder-von-monika-kr-mer-skulpturen-von-hans-
 werner-malskies
END:VEVENT
BEGIN:VEVENT
CATEGORIES:Ausstellung
CATEGORIES:Kultur
DESCRIPTION:Monika Krömer zeigt expressive Acrylmalerei\, Hans-Werner Malsk
 ies abstrakte Stein- und Holzskulpturen\n\nmehr Informationen unter http:/
 /pages.destination.one/de/kiel-sailing-city/streaming/detail/Event/e_10124
 2030/farbe-und-form-bilder-von-monika-kr-mer-skulpturen-von-hans-werner-ma
 lskies
DTEND;TZID=Europe/Berlin:20260412T180000
DTSTAMP:20260421T095700Z
DTSTART;TZID=Europe/Berlin:20260412T110000
GEO:54.406413;10.220220
LOCATION:Förderverein Freya-Frahm-Haus\, Strandstraße 15\, Laboe
ORGANIZER;CN=Förderverein Freya-Frahm-Haus Laboe:mailto:Info@freya-frahm-ha
 us.de
SEQUENCE:0
SUMMARY:Farbe und Form - Bilder von Monika Krömer\, Skulpturen von Hans-Wer
 ner Malskies
UID:e_101242030_iv3
URL:http://pages.destination.one/de/kiel-sailing-city/streaming/detail/Even
 t/e_101242030/farbe-und-form-bilder-von-monika-kr-mer-skulpturen-von-hans-
 werner-malskies
END:VEVENT
BEGIN:VEVENT
CATEGORIES:Ausstellung
CATEGORIES:Kultur
DESCRIPTION:Monika Krömer zeigt expressive Acrylmalerei\, Hans-Werner Malsk
 ies abstrakte Stein- und Holzskulpturen\n\nmehr Informationen unter http:/
 /pages.destination.one/de/kiel-sailing-city/streaming/detail/Event/e_10124
 2030/farbe-und-form-bilder-von-monika-kr-mer-skulpturen-von-hans-werner-ma
 lskies
DTEND;TZID=Europe/Berlin:20260416T180000
DTSTAMP:20260421T095700Z
DTSTART;TZID=Europe/Berlin:20260416T130000
GEO:54.406413;10.220220
LOCATION:Förderverein Freya-Frahm-Haus\, Strandstraße 15\, Laboe
ORGANIZER;CN=Förderverein Freya-Frahm-Haus Laboe:mailto:Info@freya-frahm-ha
 us.de
RRULE:FREQ=WEEKLY;UNTIL=20260418T160000;BYDAY=TH,FR,SA,SU
SEQUENCE:0
SUMMARY:Farbe und Form - Bilder von Monika Krömer\, Skulpturen von Hans-Wer
 ner Malskies
UID:e_101242030_iv4
URL:http://pages.destination.one/de/kiel-sailing-city/streaming/detail/Even
 t/e_101242030/farbe-und-form-bilder-von-monika-kr-mer-skulpturen-von-hans-
 werner-malskies
END:VEVENT
BEGIN:VEVENT
CATEGORIES:Ausstellung
CATEGORIES:Kultur
DESCRIPTION:Monika Krömer zeigt expressive Acrylmalerei\, Hans-Werner Malsk
 ies abstrakte Stein- und Holzskulpturen\n\nmehr Informationen unter http:/
 /pages.destination.one/de/kiel-sailing-city/streaming/detail/Event/e_10124
 2030/farbe-und-form-bilder-von-monika-kr-mer-skulpturen-von-hans-werner-ma
 lskies
DTEND;TZID=Europe/Berlin:20260419T180000
DTSTAMP:20260421T095700Z
DTSTART;TZID=Europe/Berlin:20260419T110000
GEO:54.406413;10.220220
LOCATION:Förderverein Freya-Frahm-Haus\, Strandstraße 15\, Laboe
ORGANIZER;CN=Förderverein Freya-Frahm-Haus Laboe:mailto:Info@freya-frahm-ha
 us.de
SEQUENCE:0
SUMMARY:Farbe und Form - Bilder von Monika Krömer\, Skulpturen von Hans-Wer
 ner Malskies
UID:e_101242030_iv5
URL:http://pages.destination.one/de/kiel-sailing-city/streaming/detail/Even
 t/e_101242030/farbe-und-form-bilder-von-monika-kr-mer-skulpturen-von-hans-
 werner-malskies
END:VEVENT
BEGIN:VTIMEZONE
TZID:Europe/Berlin
X-LIC-LOCATION:Europe/Berlin
BEGIN:DAYLIGHT
DTSTART:19700329T020000
RRULE:FREQ=YEARLY;BYDAY=-1SU;BYMONTH=3
TZNAME:CEST
TZOFFSETFROM:+0100
TZOFFSETTO:+0200
END:DAYLIGHT
BEGIN:STANDARD
DTSTART:19701025T030000
RRULE:FREQ=YEARLY;BYDAY=-1SU;BYMONTH=10
TZNAME:CET
TZOFFSETFROM:+0200
TZOFFSETTO:+0100
END:STANDARD
END:VTIMEZONE
END:VCALENDAR
