BEGIN:VCALENDAR
VERSION:2.0
PRODID:-//destination.one//NONSGML destination.meta API//DE
X-WR-CALDESC:A calendar powered by destination.meta
X-WR-CALNAME:kiel-sailing-city Kalender via destination.meta
BEGIN:VEVENT
CATEGORIES:Wissenschaft
CATEGORIES:Kultur
DESCRIPTION:Vortrag über sichere Medikamentenauswahl im Alter\, Risiken von
  Polypharmazie und mögliche Lösungen\n\nmehr Informationen unter http://pa
 ges.destination.one/de/kiel-sailing-city/streaming/detail/Event/e_10124204
 4/ben-tigt-der-alte-mensch-spezielle-medikamente-vortrag-von-prof-dr-ingol
 f-cascorbi
DTEND;TZID=Europe/Berlin:20260423T210000
DTSTAMP:20260421T140759Z
DTSTART;TZID=Europe/Berlin:20260423T193000
GEO:54.406413;10.220220
LOCATION:Förderverein Freya-Frahm-Haus\, Strandstraße 15\, Laboe
ORGANIZER;CN=Förderverein Freya-Frahm-Haus Laboe:mailto:Info@freya-frahm-ha
 us.de
SEQUENCE:0
SUMMARY:Benötigt der alte Mensch spezielle Medikamente? Vortrag von Prof. D
 r. Ingolf Cascorbi
UID:e_101242044_iv0
URL:http://pages.destination.one/de/kiel-sailing-city/streaming/detail/Even
 t/e_101242044/ben-tigt-der-alte-mensch-spezielle-medikamente-vortrag-von-p
 rof-dr-ingolf-cascorbi
END:VEVENT
BEGIN:VTIMEZONE
TZID:Europe/Berlin
X-LIC-LOCATION:Europe/Berlin
BEGIN:DAYLIGHT
DTSTART:19700329T020000
RRULE:FREQ=YEARLY;BYDAY=-1SU;BYMONTH=3
TZNAME:CEST
TZOFFSETFROM:+0100
TZOFFSETTO:+0200
END:DAYLIGHT
BEGIN:STANDARD
DTSTART:19701025T030000
RRULE:FREQ=YEARLY;BYDAY=-1SU;BYMONTH=10
TZNAME:CET
TZOFFSETFROM:+0200
TZOFFSETTO:+0100
END:STANDARD
END:VTIMEZONE
END:VCALENDAR
