BEGIN:VCALENDAR
VERSION:2.0
PRODID:-//destination.one//NONSGML destination.meta API//DE
X-WR-CALDESC:A calendar powered by destination.meta
X-WR-CALNAME:kiel-sailing-city Kalender via destination.meta
BEGIN:VEVENT
CATEGORIES:Lesungen
CATEGORIES:Kultur
DESCRIPTION:Der Vortrag zeigt die Bedeutung von Honig- und Wildbienen und g
 ibt Einblicke in Bienenhaltung und Naturpflege\n\nmehr Informationen unter
  http://pages.destination.one/de/kiel-sailing-city/streaming/detail/Event/
 e_101242047/ein-leben-f-r-die-k-nigin-vortrag-von-dr-reinhard-laszig
DTEND;TZID=Europe/Berlin:20260505T210000
DTSTAMP:20260422T084033Z
DTSTART;TZID=Europe/Berlin:20260505T190000
GEO:54.406413;10.220220
LOCATION:Förderverein Freya-Frahm-Haus\, Strandstraße 15\, Laboe
ORGANIZER;CN=Förderverein Freya-Frahm-Haus Laboe:mailto:Info@freya-frahm-ha
 us.de
SEQUENCE:0
SUMMARY:"Ein Leben für die Königin"\, Vortrag von Dr. Reinhard Laszig
UID:e_101242047_iv0
URL:http://pages.destination.one/de/kiel-sailing-city/streaming/detail/Even
 t/e_101242047/ein-leben-f-r-die-k-nigin-vortrag-von-dr-reinhard-laszig
END:VEVENT
BEGIN:VTIMEZONE
TZID:Europe/Berlin
X-LIC-LOCATION:Europe/Berlin
BEGIN:DAYLIGHT
DTSTART:19700329T020000
RRULE:FREQ=YEARLY;BYDAY=-1SU;BYMONTH=3
TZNAME:CEST
TZOFFSETFROM:+0100
TZOFFSETTO:+0200
END:DAYLIGHT
BEGIN:STANDARD
DTSTART:19701025T030000
RRULE:FREQ=YEARLY;BYDAY=-1SU;BYMONTH=10
TZNAME:CET
TZOFFSETFROM:+0200
TZOFFSETTO:+0100
END:STANDARD
END:VTIMEZONE
END:VCALENDAR
