BEGIN:VCALENDAR
VERSION:2.0
PRODID:-//destination.one//NONSGML destination.meta API//DE
X-WR-CALDESC:A calendar powered by destination.meta
X-WR-CALNAME:kiel-sailing-city Kalender via destination.meta
BEGIN:VEVENT
CATEGORIES:Führung/Besichtigung
CATEGORIES:Kultur
DESCRIPTION:Der Direktor der Stadtgalerie Kiel\, Dr. Peter Kruska\, und Sön
 ke Kniphals\, wissenschaftlicher Mitarbeiter\, führen gemeinsam durch die 
 Ausstellung. Im Anschluss bietet der Förderverein der Stadtgalerie Kiel de
 n Besucher*innen die Gelegenheit zu einem Gespräch bei Wasser oder Wein.\n
 \nmehr Informationen unter http://pages.destination.one/de/kiel-sailing-ci
 ty/streaming/detail/Event/e_101243438/kuratorenf-hrung-durch-die-ausstellu
 ng-human-behaviour
DTEND;TZID=Europe/Berlin:20260520T190000
DTSTAMP:20260421T125628Z
DTSTART;TZID=Europe/Berlin:20260520T180000
GEO:54.319039;10.134351
LOCATION:Stadtgalerie Kiel\, Andreas-Gayk-Straße 31\, Kiel
ORGANIZER;CN=Stadtgalerie Kiel:mailto:stadtgalerie@kiel.de
SEQUENCE:0
SUMMARY:Kuratorenführung durch die Ausstellung "Human Behaviour"
UID:e_101243438_iv0
URL:http://pages.destination.one/de/kiel-sailing-city/streaming/detail/Even
 t/e_101243438/kuratorenf-hrung-durch-die-ausstellung-human-behaviour
END:VEVENT
BEGIN:VTIMEZONE
TZID:Europe/Berlin
X-LIC-LOCATION:Europe/Berlin
BEGIN:DAYLIGHT
DTSTART:19700329T020000
RRULE:FREQ=YEARLY;BYDAY=-1SU;BYMONTH=3
TZNAME:CEST
TZOFFSETFROM:+0100
TZOFFSETTO:+0200
END:DAYLIGHT
BEGIN:STANDARD
DTSTART:19701025T030000
RRULE:FREQ=YEARLY;BYDAY=-1SU;BYMONTH=10
TZNAME:CET
TZOFFSETFROM:+0200
TZOFFSETTO:+0100
END:STANDARD
END:VTIMEZONE
END:VCALENDAR
