BEGIN:VCALENDAR
VERSION:2.0
PRODID:-//destination.one//NONSGML destination.meta API//DE
X-WR-CALDESC:A calendar powered by destination.meta
X-WR-CALNAME:kiel-sailing-city Kalender via destination.meta
BEGIN:VEVENT
CATEGORIES:Science Comes to Town
CATEGORIES:Talk
CATEGORIES:Wissenschaft
DESCRIPTION:Vortrag von PD Dr. Katja Heubel\, Christian-Albrechts-Universit
 ät zu Kiel (CAU) / FTZ Büsum | Ringvorlesung "Verantwortung für das Erbe M
 eer"\n\nmehr Informationen unter http://pages.destination.one/de/kiel-sail
 ing-city/streaming/detail/Event/e_101246066/infrastruktur-im-meer-kologisc
 he-konsequenzen-von-l-rmbelastung
DTEND;TZID=Europe/Berlin:20260413T193000
DTSTAMP:20260422T113037Z
DTSTART;TZID=Europe/Berlin:20260413T180000
GEO:54.338236;10.123757
LOCATION:Audimax der CAU | Hörsaal F\, Christian-Albrechts-Platz 2\, Kiel
ORGANIZER;CN=Green Office Uni Kiel:mailto:greenoffice@email.uni-kiel.de
SEQUENCE:0
SUMMARY:Infrastruktur im Meer: Ökologische Konsequenzen von Lärmbelastung
UID:e_101246066_iv0
URL:http://pages.destination.one/de/kiel-sailing-city/streaming/detail/Even
 t/e_101246066/infrastruktur-im-meer-kologische-konsequenzen-von-l-rmbelast
 ung
END:VEVENT
BEGIN:VTIMEZONE
TZID:Europe/Berlin
X-LIC-LOCATION:Europe/Berlin
BEGIN:DAYLIGHT
DTSTART:19700329T020000
RRULE:FREQ=YEARLY;BYDAY=-1SU;BYMONTH=3
TZNAME:CEST
TZOFFSETFROM:+0100
TZOFFSETTO:+0200
END:DAYLIGHT
BEGIN:STANDARD
DTSTART:19701025T030000
RRULE:FREQ=YEARLY;BYDAY=-1SU;BYMONTH=10
TZNAME:CET
TZOFFSETFROM:+0200
TZOFFSETTO:+0100
END:STANDARD
END:VTIMEZONE
END:VCALENDAR
