BEGIN:VCALENDAR
VERSION:2.0
PRODID:-//destination.one//NONSGML destination.meta API//DE
X-WR-CALDESC:A calendar powered by destination.meta
X-WR-CALNAME:kiel-sailing-city Kalender via destination.meta
BEGIN:VEVENT
CATEGORIES:Science Comes to Town
CATEGORIES:Talk
CATEGORIES:Wissenschaft
DESCRIPTION:Vortrag von Prof. Dr. Frank Meisel\, Christian-Albrechts-Univer
 sität zu Kiel | Ringvorlesung "Verantwortung für das Erbe Meer"\n\nmehr In
 formationen unter http://pages.destination.one/de/kiel-sailing-city/stream
 ing/detail/Event/e_101246086/wie-k-nnen-wir-die-schifffahrt-mit-erneuerbar
 en-energien-versorgen
DTEND;TZID=Europe/Berlin:20260427T193000
DTSTAMP:20260422T113123Z
DTSTART;TZID=Europe/Berlin:20260427T180000
GEO:54.338236;10.123757
LOCATION:Audimax der CAU | Hörsaal F\, Christian-Albrechts-Platz 2\, Kiel
ORGANIZER;CN=Green Office Uni Kiel:mailto:greenoffice@email.uni-kiel.de
SEQUENCE:0
SUMMARY:Wie können wir die Schifffahrt mit erneuerbaren Energien versorgen?
   
UID:e_101246086_iv0
URL:http://pages.destination.one/de/kiel-sailing-city/streaming/detail/Even
 t/e_101246086/wie-k-nnen-wir-die-schifffahrt-mit-erneuerbaren-energien-ver
 sorgen
END:VEVENT
BEGIN:VTIMEZONE
TZID:Europe/Berlin
X-LIC-LOCATION:Europe/Berlin
BEGIN:DAYLIGHT
DTSTART:19700329T020000
RRULE:FREQ=YEARLY;BYDAY=-1SU;BYMONTH=3
TZNAME:CEST
TZOFFSETFROM:+0100
TZOFFSETTO:+0200
END:DAYLIGHT
BEGIN:STANDARD
DTSTART:19701025T030000
RRULE:FREQ=YEARLY;BYDAY=-1SU;BYMONTH=10
TZNAME:CET
TZOFFSETFROM:+0200
TZOFFSETTO:+0100
END:STANDARD
END:VTIMEZONE
END:VCALENDAR
