BEGIN:VCALENDAR
VERSION:2.0
PRODID:-//destination.one//NONSGML destination.meta API//DE
X-WR-CALDESC:A calendar powered by destination.meta
X-WR-CALNAME:kiel-sailing-city Kalender via destination.meta
BEGIN:VEVENT
CATEGORIES:Kultur
CATEGORIES:Kinderprogramm
CATEGORIES:Sport/Freizeit
DESCRIPTION:Ein Open-Air-Kino mit drei Filmen für alle Altersgruppen und le
 ckeren Snacks findet auf dem Sportplatz des SV Friedrichsort statt\n\nmehr
  Informationen unter http://pages.destination.one/de/kiel-sailing-city/str
 eaming/detail/Event/e_101246245/open-air-kino-sv-friedrichsort-filmfest
DTEND;TZID=Europe/Berlin:20260613T235900
DTSTAMP:20260423T160709Z
DTSTART;TZID=Europe/Berlin:20260613T140000
GEO:54.391558;10.168478
LOCATION:SV Friedrichsort\, Harald-Lindenau-Weg 99\, Kiel
PRIORITY:4
SEQUENCE:0
SUMMARY:Open Air Kino – SV Friedrichsort Filmfest
UID:e_101246245_iv0
URL:http://pages.destination.one/de/kiel-sailing-city/streaming/detail/Even
 t/e_101246245/open-air-kino-sv-friedrichsort-filmfest
END:VEVENT
BEGIN:VTIMEZONE
TZID:Europe/Berlin
X-LIC-LOCATION:Europe/Berlin
BEGIN:DAYLIGHT
DTSTART:19700329T020000
RRULE:FREQ=YEARLY;BYDAY=-1SU;BYMONTH=3
TZNAME:CEST
TZOFFSETFROM:+0100
TZOFFSETTO:+0200
END:DAYLIGHT
BEGIN:STANDARD
DTSTART:19701025T030000
RRULE:FREQ=YEARLY;BYDAY=-1SU;BYMONTH=10
TZNAME:CET
TZOFFSETFROM:+0200
TZOFFSETTO:+0100
END:STANDARD
END:VTIMEZONE
END:VCALENDAR
