BEGIN:VCALENDAR
VERSION:2.0
PRODID:-//destination.one//NONSGML destination.meta API//DE
X-WR-CALDESC:A calendar powered by destination.meta
X-WR-CALNAME:kiel-sailing-city Kalender via destination.meta
BEGIN:VEVENT
CATEGORIES:Ausstellung
CATEGORIES:Kultur
DESCRIPTION:Die Ausstellung fragt danach\, welche Bedeutung die in den Gemä
 lden dargestellten Menschen für die Kieler Stadtgeschichte oder innerhalb 
 der städtischen Gesellschaft hatten und welche künstlerische Intention hin
 ter ihrer Darstellung steckte.\n\nmehr Informationen unter http://pages.de
 stination.one/de/kiel-sailing-city/streaming/detail/Event/e_101246297/die-
 stadt-und-ihre-menschen-gem-lde-aus-200-jahren-stadtgeschichte
DTEND;TZID=Europe/Berlin:20260619T180000
DTSTAMP:20260422T130217Z
DTSTART;TZID=Europe/Berlin:20260619T100000
GEO:54.324258;10.141110
LOCATION:Stadtmuseum Warleberger Hof\, Dänische Straße 19\, 24103 Kiel\, Ki
 el
ORGANIZER;CN=Stadt- und Schifffahrtsmuseum:mailto:stadt-undschiffahrtsmuseu
 m@kiel.de
RRULE:FREQ=WEEKLY;UNTIL=20270523T080000;BYDAY=TU,WE,TH,FR,SA,SU
SEQUENCE:0
SUMMARY:Die Stadt und ihre Menschen. Gemälde aus 200 Jahren Stadtgeschichte
UID:e_101246297_iv0
URL:http://pages.destination.one/de/kiel-sailing-city/streaming/detail/Even
 t/e_101246297/die-stadt-und-ihre-menschen-gem-lde-aus-200-jahren-stadtgesc
 hichte
END:VEVENT
BEGIN:VTIMEZONE
TZID:Europe/Berlin
X-LIC-LOCATION:Europe/Berlin
BEGIN:DAYLIGHT
DTSTART:19700329T020000
RRULE:FREQ=YEARLY;BYDAY=-1SU;BYMONTH=3
TZNAME:CEST
TZOFFSETFROM:+0100
TZOFFSETTO:+0200
END:DAYLIGHT
BEGIN:STANDARD
DTSTART:19701025T030000
RRULE:FREQ=YEARLY;BYDAY=-1SU;BYMONTH=10
TZNAME:CET
TZOFFSETFROM:+0200
TZOFFSETTO:+0100
END:STANDARD
END:VTIMEZONE
END:VCALENDAR
