BEGIN:VCALENDAR
VERSION:2.0
PRODID:-//destination.one//NONSGML destination.meta API//DE
X-WR-CALDESC:A calendar powered by destination.meta
X-WR-CALNAME:kiel-sailing-city Kalender via destination.meta
BEGIN:VEVENT
CATEGORIES:Konzert
DESCRIPTION:Bekannte Songs wie „Take on Me“ und „Final Countdown“\, live ge
 spielt von Flöten und Percussion\n\nmehr Informationen unter http://pages.
 destination.one/de/kiel-sailing-city/streaming/detail/Event/e_101246553/ba
 ck-to-the-hits-80s-konzert-der-kieler-sprotten
DTEND;TZID=Europe/Berlin:20260501T133000
DTSTAMP:20260423T160643Z
DTSTART;TZID=Europe/Berlin:20260501T120000
GEO:54.320500;10.132700
LOCATION:Kiel\, \, 
ORGANIZER;CN=Musikzug Kieler Sprotten:mailto:medien.sprotten@gmail.com
SEQUENCE:0
SUMMARY:Back to the Hits – 80s Konzert der Kieler Sprotten
UID:e_101246553_iv0
URL:http://pages.destination.one/de/kiel-sailing-city/streaming/detail/Even
 t/e_101246553/back-to-the-hits-80s-konzert-der-kieler-sprotten
END:VEVENT
BEGIN:VTIMEZONE
TZID:Europe/Berlin
X-LIC-LOCATION:Europe/Berlin
BEGIN:DAYLIGHT
DTSTART:19700329T020000
RRULE:FREQ=YEARLY;BYDAY=-1SU;BYMONTH=3
TZNAME:CEST
TZOFFSETFROM:+0100
TZOFFSETTO:+0200
END:DAYLIGHT
BEGIN:STANDARD
DTSTART:19701025T030000
RRULE:FREQ=YEARLY;BYDAY=-1SU;BYMONTH=10
TZNAME:CET
TZOFFSETFROM:+0200
TZOFFSETTO:+0100
END:STANDARD
END:VTIMEZONE
END:VCALENDAR
