BEGIN:VCALENDAR
VERSION:2.0
PRODID:-//destination.one//NONSGML destination.meta API//DE
X-WR-CALDESC:A calendar powered by destination.meta
X-WR-CALNAME:kiel-sailing-city Kalender via destination.meta
BEGIN:VEVENT
CATEGORIES:Comedy
CATEGORIES:Kultur
CATEGORIES:Talk
DESCRIPTION:Bei Pitch Your Single Friend präsentiert ihr euren Single in nu
 r 5 Minuten – kreativ\, humorvoll und mit allem\, was dazugehört:\nBilder\
 , Slides\, Fun Facts oder einfach eine gute Story.\n\nmehr Informationen u
 nter http://pages.destination.one/de/kiel-sailing-city/streaming/detail/Ev
 ent/e_101247740/pitch-your-single-friend
DTEND;TZID=Europe/Berlin:20260417T210000
DTSTAMP:20260422T125648Z
DTSTART;TZID=Europe/Berlin:20260417T190000
GEO:54.332452;10.111810
LOCATION:Max Nachttheater\, Eichhofstraße 1\, Kiel
SEQUENCE:0
SUMMARY:Pitch Your Single Friend
UID:e_101247740_iv0
URL:http://pages.destination.one/de/kiel-sailing-city/streaming/detail/Even
 t/e_101247740/pitch-your-single-friend
END:VEVENT
BEGIN:VTIMEZONE
TZID:Europe/Berlin
X-LIC-LOCATION:Europe/Berlin
BEGIN:DAYLIGHT
DTSTART:19700329T020000
RRULE:FREQ=YEARLY;BYDAY=-1SU;BYMONTH=3
TZNAME:CEST
TZOFFSETFROM:+0100
TZOFFSETTO:+0200
END:DAYLIGHT
BEGIN:STANDARD
DTSTART:19701025T030000
RRULE:FREQ=YEARLY;BYDAY=-1SU;BYMONTH=10
TZNAME:CET
TZOFFSETFROM:+0200
TZOFFSETTO:+0100
END:STANDARD
END:VTIMEZONE
END:VCALENDAR
