BEGIN:VCALENDAR
VERSION:2.0
PRODID:-//destination.one//NONSGML destination.meta API//DE
X-WR-CALDESC:A calendar powered by destination.meta
X-WR-CALNAME:kiel-sailing-city Kalender via destination.meta
BEGIN:VEVENT
CATEGORIES:Nachtleben
DESCRIPTION:Freut euch auf eine Nacht mit guter Musik\, entspanntem Publiku
 m und einer Atmosphäre\, in der man sich einfach wohlfühlt.\n\nmehr Inform
 ationen unter http://pages.destination.one/de/kiel-sailing-city/streaming/
 detail/Event/e_101247751/kiels-40-party
DTEND;TZID=Europe/Berlin:20260501T235900
DTSTAMP:20260422T094242Z
DTSTART;TZID=Europe/Berlin:20260501T210000
GEO:54.332452;10.111810
LOCATION:Max Nachttheater\, Eichhofstraße 1\, Kiel
SEQUENCE:0
SUMMARY:Kiels Ü40 Party
UID:e_101247751_iv0
URL:http://pages.destination.one/de/kiel-sailing-city/streaming/detail/Even
 t/e_101247751/kiels-40-party
END:VEVENT
BEGIN:VTIMEZONE
TZID:Europe/Berlin
X-LIC-LOCATION:Europe/Berlin
BEGIN:DAYLIGHT
DTSTART:19700329T020000
RRULE:FREQ=YEARLY;BYDAY=-1SU;BYMONTH=3
TZNAME:CEST
TZOFFSETFROM:+0100
TZOFFSETTO:+0200
END:DAYLIGHT
BEGIN:STANDARD
DTSTART:19701025T030000
RRULE:FREQ=YEARLY;BYDAY=-1SU;BYMONTH=10
TZNAME:CET
TZOFFSETFROM:+0200
TZOFFSETTO:+0100
END:STANDARD
END:VTIMEZONE
END:VCALENDAR
