BEGIN:VCALENDAR
VERSION:2.0
PRODID:-//destination.one//NONSGML destination.meta API//DE
X-WR-CALDESC:A calendar powered by destination.meta
X-WR-CALNAME:kiel-sailing-city Kalender via destination.meta
BEGIN:VEVENT
CATEGORIES:Flohmarkt
CATEGORIES:Kultursommer
CATEGORIES:Märkte
CATEGORIES:Nachhaltigkeit
CATEGORIES:Kultur
DESCRIPTION:Pflanzenflohmarkt: Nutz- & Zimmerpflanzen\n\nmehr Informationen
  unter http://pages.destination.one/de/kiel-sailing-city/streaming/detail/
 Event/e_101255228/pflanzenflohmarkt-f-r-fr-hliche-naturfreund-innen-nutzpf
 lanzen-zimmerpflanzen-blument-pfe-kuchenbuffett-in-der-kneipe
DTEND;TZID=Europe/Berlin:20260502T180000
DTSTAMP:20260421T124036Z
DTSTART;TZID=Europe/Berlin:20260502T130000
GEO:54.335233;10.127672
LOCATION:Kommunikationszentrum Hansastrasse 48 e. V.\, Hansastraße 48\, Kie
 l
SEQUENCE:0
SUMMARY:Pflanzenflohmarkt für fröhliche Naturfreund:innen \, Nutzpflanzen &
  Zimmerpflanzen\, Blumentöpfe + Kuchenbuffett in der Kneipe
UID:e_101255228_iv0
URL:http://pages.destination.one/de/kiel-sailing-city/streaming/detail/Even
 t/e_101255228/pflanzenflohmarkt-f-r-fr-hliche-naturfreund-innen-nutzpflanz
 en-zimmerpflanzen-blument-pfe-kuchenbuffett-in-der-kneipe
END:VEVENT
BEGIN:VTIMEZONE
TZID:Europe/Berlin
X-LIC-LOCATION:Europe/Berlin
BEGIN:DAYLIGHT
DTSTART:19700329T020000
RRULE:FREQ=YEARLY;BYDAY=-1SU;BYMONTH=3
TZNAME:CEST
TZOFFSETFROM:+0100
TZOFFSETTO:+0200
END:DAYLIGHT
BEGIN:STANDARD
DTSTART:19701025T030000
RRULE:FREQ=YEARLY;BYDAY=-1SU;BYMONTH=10
TZNAME:CET
TZOFFSETFROM:+0200
TZOFFSETTO:+0100
END:STANDARD
END:VTIMEZONE
END:VCALENDAR
