BEGIN:VCALENDAR
VERSION:2.0
PRODID:-//destination.one//NONSGML destination.meta API//DE
X-WR-CALDESC:A calendar powered by destination.meta
X-WR-CALNAME:kiel-sailing-city Kalender via destination.meta
BEGIN:VEVENT
CATEGORIES:Konzert
CATEGORIES:Kultur
DESCRIPTION:Texte\, Cello & Gesang\, eigene Songs und kreative Cover\n\nmeh
 r Informationen unter http://pages.destination.one/de/kiel-sailing-city/st
 reaming/detail/Event/e_101255251/konzert-vocellize
DTEND;TZID=Europe/Berlin:20260508T223000
DTSTAMP:20260423T081457Z
DTSTART;TZID=Europe/Berlin:20260508T200000
GEO:54.395107;10.174006
LOCATION:Kulturladen Leuchtturm \, An der Schanze 44\, Kiel
ORGANIZER;CN=Kulturladen Leuchtturm:mailto:kulturladen.leuchtturm@gmx.de
SEQUENCE:0
SUMMARY:Konzert: vocellize
UID:e_101255251_iv0
URL:http://pages.destination.one/de/kiel-sailing-city/streaming/detail/Even
 t/e_101255251/konzert-vocellize
END:VEVENT
BEGIN:VTIMEZONE
TZID:Europe/Berlin
X-LIC-LOCATION:Europe/Berlin
BEGIN:DAYLIGHT
DTSTART:19700329T020000
RRULE:FREQ=YEARLY;BYDAY=-1SU;BYMONTH=3
TZNAME:CEST
TZOFFSETFROM:+0100
TZOFFSETTO:+0200
END:DAYLIGHT
BEGIN:STANDARD
DTSTART:19701025T030000
RRULE:FREQ=YEARLY;BYDAY=-1SU;BYMONTH=10
TZNAME:CET
TZOFFSETFROM:+0200
TZOFFSETTO:+0100
END:STANDARD
END:VTIMEZONE
END:VCALENDAR
