BEGIN:VCALENDAR
VERSION:2.0
PRODID:-//destination.one//NONSGML destination.meta API//DE
X-WR-CALDESC:A calendar powered by destination.meta
X-WR-CALNAME:kiel-sailing-city Kalender via destination.meta
BEGIN:VEVENT
CATEGORIES:Kultur
CATEGORIES:Talk
DESCRIPTION:Durch das Teilen von Speisen erkunden wir die Themen „Nachbarsc
 haft“ und Zusammenhalt in Krisenzeiten\n\nmehr Informationen unter http://
 pages.destination.one/de/kiel-sailing-city/streaming/detail/Event/e_101255
 266/culturitical-pr-sentiert-there-is-a-table-in-this-house-eine-interakti
 ve-choreo-lesung-mit-der-k-nstlerin-autorin-und-kuratorin-hn-lyonga
DTEND;TZID=Europe/Berlin:20260506T230000
DTSTAMP:20260421T142037Z
DTSTART;TZID=Europe/Berlin:20260506T200000
GEO:54.335233;10.127672
LOCATION:Kommunikationszentrum Hansastrasse 48 e. V.\, Hansastraße 48\, Kie
 l
SEQUENCE:0
SUMMARY:Culturitical präsentiert: „There is a table in this house“ – eine i
 nteraktive Choreo-Lesung mit der Künstlerin\, Autorin und Kuratorin hn.lyo
 nga
UID:e_101255266_iv0
URL:http://pages.destination.one/de/kiel-sailing-city/streaming/detail/Even
 t/e_101255266/culturitical-pr-sentiert-there-is-a-table-in-this-house-eine
 -interaktive-choreo-lesung-mit-der-k-nstlerin-autorin-und-kuratorin-hn-lyo
 nga
END:VEVENT
BEGIN:VTIMEZONE
TZID:Europe/Berlin
X-LIC-LOCATION:Europe/Berlin
BEGIN:DAYLIGHT
DTSTART:19700329T020000
RRULE:FREQ=YEARLY;BYDAY=-1SU;BYMONTH=3
TZNAME:CEST
TZOFFSETFROM:+0100
TZOFFSETTO:+0200
END:DAYLIGHT
BEGIN:STANDARD
DTSTART:19701025T030000
RRULE:FREQ=YEARLY;BYDAY=-1SU;BYMONTH=10
TZNAME:CET
TZOFFSETFROM:+0200
TZOFFSETTO:+0100
END:STANDARD
END:VTIMEZONE
END:VCALENDAR
