BEGIN:VCALENDAR
VERSION:2.0
PRODID:-//destination.one//NONSGML destination.meta API//DE
X-WR-CALDESC:A calendar powered by destination.meta
X-WR-CALNAME:kiel-sailing-city Kalender via destination.meta
BEGIN:VEVENT
CATEGORIES:Kultur
CATEGORIES:Sport/Freizeit
DESCRIPTION:Poetischer Coming-of-Age-Doku am Meer über Ehrgeiz und Selbstze
 rstörung\n\nmehr Informationen unter http://pages.destination.one/de/kiel-
 sailing-city/streaming/detail/Event/e_101255278/cinemare-das-international
 e-meeresfilmfestival-pr-sentiert-the-wind-in-her-hands-80-min-vorfilm-drif
 t-bottles-and-ships-3-min
DTEND;TZID=Europe/Berlin:20260507T200000
DTSTAMP:20260421T142307Z
DTSTART;TZID=Europe/Berlin:20260507T180000
GEO:54.335233;10.127672
LOCATION:Kommunikationszentrum Hansastrasse 48 e. V.\, Hansastraße 48\, Kie
 l
SEQUENCE:0
SUMMARY:Cinemare - das internationale Meeresfilmfestival präsentiert: \,The
  Wind in her Hands‘ (80 Min) + Vorfilm \,Drift Bottles And Ships‘ (3 Min) 
UID:e_101255278_iv0
URL:http://pages.destination.one/de/kiel-sailing-city/streaming/detail/Even
 t/e_101255278/cinemare-das-internationale-meeresfilmfestival-pr-sentiert-t
 he-wind-in-her-hands-80-min-vorfilm-drift-bottles-and-ships-3-min
END:VEVENT
BEGIN:VTIMEZONE
TZID:Europe/Berlin
X-LIC-LOCATION:Europe/Berlin
BEGIN:DAYLIGHT
DTSTART:19700329T020000
RRULE:FREQ=YEARLY;BYDAY=-1SU;BYMONTH=3
TZNAME:CEST
TZOFFSETFROM:+0100
TZOFFSETTO:+0200
END:DAYLIGHT
BEGIN:STANDARD
DTSTART:19701025T030000
RRULE:FREQ=YEARLY;BYDAY=-1SU;BYMONTH=10
TZNAME:CET
TZOFFSETFROM:+0200
TZOFFSETTO:+0100
END:STANDARD
END:VTIMEZONE
END:VCALENDAR
