BEGIN:VCALENDAR
VERSION:2.0
PRODID:-//destination.one//NONSGML destination.meta API//DE
X-WR-CALDESC:A calendar powered by destination.meta
X-WR-CALNAME:kiel-sailing-city Kalender via destination.meta
BEGIN:VEVENT
CATEGORIES:Kultur
CATEGORIES:Nachtleben
DESCRIPTION:Mit dem Trio Ilia Viazov (RU)\; Paulina Andrzejak (PL)\; Diego 
 Alejandro Morales Castillo (NI) (ca. 50 Min)\n\nmehr Informationen unter h
 ttp://pages.destination.one/de/kiel-sailing-city/streaming/detail/Event/e_
 101255291/frequenz-festival-external-operator-performance
DTEND;TZID=Europe/Berlin:20260509T233000
DTSTAMP:20260423T081505Z
DTSTART;TZID=Europe/Berlin:20260509T220000
GEO:54.335233;10.127672
LOCATION:Kommunikationszentrum Hansastrasse 48 e. V.\, Hansastraße 48\, Kie
 l
SEQUENCE:0
SUMMARY:FREQUENZ-FESTIVAL // External Operator (Performance) 
UID:e_101255291_iv0
URL:http://pages.destination.one/de/kiel-sailing-city/streaming/detail/Even
 t/e_101255291/frequenz-festival-external-operator-performance
END:VEVENT
BEGIN:VTIMEZONE
TZID:Europe/Berlin
X-LIC-LOCATION:Europe/Berlin
BEGIN:DAYLIGHT
DTSTART:19700329T020000
RRULE:FREQ=YEARLY;BYDAY=-1SU;BYMONTH=3
TZNAME:CEST
TZOFFSETFROM:+0100
TZOFFSETTO:+0200
END:DAYLIGHT
BEGIN:STANDARD
DTSTART:19701025T030000
RRULE:FREQ=YEARLY;BYDAY=-1SU;BYMONTH=10
TZNAME:CET
TZOFFSETFROM:+0200
TZOFFSETTO:+0100
END:STANDARD
END:VTIMEZONE
END:VCALENDAR
