BEGIN:VCALENDAR
VERSION:2.0
PRODID:-//destination.one//NONSGML destination.meta API//DE
X-WR-CALDESC:A calendar powered by destination.meta
X-WR-CALNAME:kiel-sailing-city Kalender via destination.meta
BEGIN:VEVENT
CATEGORIES:Kultur
CATEGORIES:Theater
DESCRIPTION:11 kleine Tragikomödien nach „Animal Stories“ von Don Nigro\n\n
 mehr Informationen unter http://pages.destination.one/de/kiel-sailing-city
 /streaming/detail/Event/e_101255767/luft-theater-pr-sentiert-premiere-in-k
 iel-die-geschichten-der-fluchttiere-in-ukrainischer-sprache-mit-deutschen-
 bertiteln
DTEND;TZID=Europe/Berlin:20260515T220000
DTSTAMP:20260422T083653Z
DTSTART;TZID=Europe/Berlin:20260515T190000
GEO:54.335233;10.127672
LOCATION:Kommunikationszentrum Hansastrasse 48 e. V.\, Hansastraße 48\, Kie
 l
SEQUENCE:0
SUMMARY:LUFT Theater präsentiert - ***Premiere*** in Kiel: Die Geschichten 
 der Fluchttiere (In ukrainischer Sprache mit deutschen Übertiteln)
UID:e_101255767_iv0
URL:http://pages.destination.one/de/kiel-sailing-city/streaming/detail/Even
 t/e_101255767/luft-theater-pr-sentiert-premiere-in-kiel-die-geschichten-de
 r-fluchttiere-in-ukrainischer-sprache-mit-deutschen-bertiteln
END:VEVENT
BEGIN:VTIMEZONE
TZID:Europe/Berlin
X-LIC-LOCATION:Europe/Berlin
BEGIN:DAYLIGHT
DTSTART:19700329T020000
RRULE:FREQ=YEARLY;BYDAY=-1SU;BYMONTH=3
TZNAME:CEST
TZOFFSETFROM:+0100
TZOFFSETTO:+0200
END:DAYLIGHT
BEGIN:STANDARD
DTSTART:19701025T030000
RRULE:FREQ=YEARLY;BYDAY=-1SU;BYMONTH=10
TZNAME:CET
TZOFFSETFROM:+0200
TZOFFSETTO:+0100
END:STANDARD
END:VTIMEZONE
END:VCALENDAR
