BEGIN:VCALENDAR
VERSION:2.0
PRODID:-//destination.one//NONSGML destination.meta API//DE
X-WR-CALDESC:A calendar powered by destination.meta
X-WR-CALNAME:kiel-sailing-city Kalender via destination.meta
BEGIN:VEVENT
CATEGORIES:Science Comes to Town
CATEGORIES:Wissenschaft
DESCRIPTION:Einblicke in das Programm vom food:labor\n\nmehr Informationen 
 unter http://pages.destination.one/de/kiel-sailing-city/streaming/detail/E
 vent/e_101256188/t-ren-auf-wissenschaft-f-r-alle-die-kieler-forschungswerk
 statt-l-dt-ein
DTEND;TZID=Europe/Berlin:20260423T190000
DTSTAMP:20260419T122612Z
DTSTART;TZID=Europe/Berlin:20260423T170000
GEO:54.348543;10.116599
LOCATION:Kieler Forschungswerkstatt\, Am Botanischen Garten 16i\, Kiel
ORGANIZER;CN=Kieler Forschungswerkstatt:mailto:info@forschungs-werkstatt.de
SEQUENCE:0
SUMMARY:Türen auf – Wissenschaft für alle: Die Kieler Forschungswerkstatt l
 ädt ein!
UID:e_101256188_iv0
URL:http://pages.destination.one/de/kiel-sailing-city/streaming/detail/Even
 t/e_101256188/t-ren-auf-wissenschaft-f-r-alle-die-kieler-forschungswerksta
 tt-l-dt-ein
END:VEVENT
BEGIN:VTIMEZONE
TZID:Europe/Berlin
X-LIC-LOCATION:Europe/Berlin
BEGIN:DAYLIGHT
DTSTART:19700329T020000
RRULE:FREQ=YEARLY;BYDAY=-1SU;BYMONTH=3
TZNAME:CEST
TZOFFSETFROM:+0100
TZOFFSETTO:+0200
END:DAYLIGHT
BEGIN:STANDARD
DTSTART:19701025T030000
RRULE:FREQ=YEARLY;BYDAY=-1SU;BYMONTH=10
TZNAME:CET
TZOFFSETFROM:+0200
TZOFFSETTO:+0100
END:STANDARD
END:VTIMEZONE
END:VCALENDAR
