BEGIN:VCALENDAR
VERSION:2.0
PRODID:-//destination.one//NONSGML destination.meta API//DE
X-WR-CALDESC:A calendar powered by destination.meta
X-WR-CALNAME:kiel-sailing-city Kalender via destination.meta
BEGIN:VEVENT
CATEGORIES:Kirche
CATEGORIES:Konzert
CATEGORIES:Kultur
DESCRIPTION:Konzert zur Wiedereinweihung der sanierten Orgeln\n\nmehr Infor
 mationen unter http://pages.destination.one/de/kiel-sailing-city/streaming
 /detail/Event/e_101256999/konzert-zur-wiedereinweihung-der-sanierten-orgel
 n
DTEND;TZID=Europe/Berlin:20260629T213000
DTSTAMP:20260421T140320Z
DTSTART;TZID=Europe/Berlin:20260629T200000
GEO:54.322768;10.140102
LOCATION:Offene Kirche St. Nikolai\, Alter Markt\, Kiel
ORGANIZER;CN=Offene Kirche St. Nikolai:mailto:veranstaltungen.nikolai@altho
 lstein.de
SEQUENCE:0
SUMMARY:Konzert zur Wiedereinweihung der sanierten Orgeln
UID:e_101256999_iv0
URL:http://pages.destination.one/de/kiel-sailing-city/streaming/detail/Even
 t/e_101256999/konzert-zur-wiedereinweihung-der-sanierten-orgeln
END:VEVENT
BEGIN:VTIMEZONE
TZID:Europe/Berlin
X-LIC-LOCATION:Europe/Berlin
BEGIN:DAYLIGHT
DTSTART:19700329T020000
RRULE:FREQ=YEARLY;BYDAY=-1SU;BYMONTH=3
TZNAME:CEST
TZOFFSETFROM:+0100
TZOFFSETTO:+0200
END:DAYLIGHT
BEGIN:STANDARD
DTSTART:19701025T030000
RRULE:FREQ=YEARLY;BYDAY=-1SU;BYMONTH=10
TZNAME:CET
TZOFFSETFROM:+0200
TZOFFSETTO:+0100
END:STANDARD
END:VTIMEZONE
END:VCALENDAR
