BEGIN:VCALENDAR
VERSION:2.0
PRODID:-//destination.one//NONSGML destination.meta API//DE
X-WR-CALDESC:A calendar powered by destination.meta
X-WR-CALNAME:kiel-sailing-city Kalender via destination.meta
BEGIN:VEVENT
CATEGORIES:Konzert
CATEGORIES:Nachtleben
CATEGORIES:Kultur
DESCRIPTION:Acoustic Punk‑\, Metal‑ & Rock‑Klassiker\n\nmehr Informationen 
 unter http://pages.destination.one/de/kiel-sailing-city/streaming/detail/E
 vent/e_101257699/kneipenkonzert-141-mit-pathfinders-of-mosh-romanticlovely
 fireplacerockpunkmetal
DTEND;TZID=Europe/Berlin:20260522T233000
DTSTAMP:20260422T083625Z
DTSTART;TZID=Europe/Berlin:20260522T210000
GEO:54.335233;10.127672
LOCATION:Kommunikationszentrum Hansastrasse 48 e. V.\, Hansastraße 48\, Kie
 l
SEQUENCE:0
SUMMARY:Kneipenkonzert #141 mit Pathfinders Of Mosh (RomanticLovelyFireplac
 eRockPunkMetal) 
UID:e_101257699_iv0
URL:http://pages.destination.one/de/kiel-sailing-city/streaming/detail/Even
 t/e_101257699/kneipenkonzert-141-mit-pathfinders-of-mosh-romanticlovelyfir
 eplacerockpunkmetal
END:VEVENT
BEGIN:VTIMEZONE
TZID:Europe/Berlin
X-LIC-LOCATION:Europe/Berlin
BEGIN:DAYLIGHT
DTSTART:19700329T020000
RRULE:FREQ=YEARLY;BYDAY=-1SU;BYMONTH=3
TZNAME:CEST
TZOFFSETFROM:+0100
TZOFFSETTO:+0200
END:DAYLIGHT
BEGIN:STANDARD
DTSTART:19701025T030000
RRULE:FREQ=YEARLY;BYDAY=-1SU;BYMONTH=10
TZNAME:CET
TZOFFSETFROM:+0200
TZOFFSETTO:+0100
END:STANDARD
END:VTIMEZONE
END:VCALENDAR
