BEGIN:VCALENDAR
VERSION:2.0
PRODID:-//destination.one//NONSGML destination.meta API//DE
X-WR-CALDESC:A calendar powered by destination.meta
X-WR-CALNAME:kiel-sailing-city Kalender via destination.meta
BEGIN:VEVENT
CATEGORIES:Kultur
CATEGORIES:Lesungen
DESCRIPTION:Literaturshow mit Open Mic\, Texten & Tönen – live\, laut\, ung
 ebremst\n\nmehr Informationen unter http://pages.destination.one/de/kiel-s
 ailing-city/streaming/detail/Event/e_101257703/die-dritte-ausgabe-federkie
 l-latenight-literaturshow-hansa48
DTEND;TZID=Europe/Berlin:20260527T230000
DTSTAMP:20260421T140259Z
DTSTART;TZID=Europe/Berlin:20260527T200000
GEO:54.335233;10.127672
LOCATION:Kommunikationszentrum Hansastrasse 48 e. V.\, Hansastraße 48\, Kie
 l
SEQUENCE:0
SUMMARY:Die dritte Ausgabe Federkiel Latenight-Literaturshow @Hansa48
UID:e_101257703_iv0
URL:http://pages.destination.one/de/kiel-sailing-city/streaming/detail/Even
 t/e_101257703/die-dritte-ausgabe-federkiel-latenight-literaturshow-hansa48
END:VEVENT
BEGIN:VTIMEZONE
TZID:Europe/Berlin
X-LIC-LOCATION:Europe/Berlin
BEGIN:DAYLIGHT
DTSTART:19700329T020000
RRULE:FREQ=YEARLY;BYDAY=-1SU;BYMONTH=3
TZNAME:CEST
TZOFFSETFROM:+0100
TZOFFSETTO:+0200
END:DAYLIGHT
BEGIN:STANDARD
DTSTART:19701025T030000
RRULE:FREQ=YEARLY;BYDAY=-1SU;BYMONTH=10
TZNAME:CET
TZOFFSETFROM:+0200
TZOFFSETTO:+0100
END:STANDARD
END:VTIMEZONE
END:VCALENDAR
