BEGIN:VCALENDAR
VERSION:2.0
PRODID:-//destination.one//NONSGML destination.meta API//DE
X-WR-CALDESC:A calendar powered by destination.meta
X-WR-CALNAME:kiel-sailing-city Kalender via destination.meta
BEGIN:VEVENT
CATEGORIES:Kultur
CATEGORIES:Theater
DESCRIPTION:In London wird eine Frau ermordet\, und die Polizei sucht nach 
 einem Verdächtigen. Während Mollie und Giles Ralston ihre Pension eröffnen
 \, schneit es die Gäste ein\, sodass niemand abreisen kann. Die Spannung s
 teigt mit dem Eintreffen eines Polizisten und bald folgt eine weitere Leic
 he: Wer wird als Nächstes in die tödliche Falle geraten?\n\nmehr Informati
 onen unter http://pages.destination.one/de/kiel-sailing-city/streaming/det
 ail/Event/e_101258053/die-mausefalle
DTEND;TZID=Europe/Berlin:20260918T220000
DTSTAMP:20260421T134722Z
DTSTART;TZID=Europe/Berlin:20260918T193000
GEO:54.313945;10.135660
LOCATION:Lore & Lay Theater-Frachter\, Willy-Brandt-Ufer / Ecke Germaniahaf
 en\, Kiel
ORGANIZER;CN=Lore & Lay Theater-Frachter:mailto:info@loreundlay-theater.de
SEQUENCE:0
SUMMARY: Die Mausefalle
UID:e_101258053_iv0
URL:http://pages.destination.one/de/kiel-sailing-city/streaming/detail/Even
 t/e_101258053/die-mausefalle
END:VEVENT
BEGIN:VEVENT
CATEGORIES:Kultur
CATEGORIES:Theater
DESCRIPTION:In London wird eine Frau ermordet\, und die Polizei sucht nach 
 einem Verdächtigen. Während Mollie und Giles Ralston ihre Pension eröffnen
 \, schneit es die Gäste ein\, sodass niemand abreisen kann. Die Spannung s
 teigt mit dem Eintreffen eines Polizisten und bald folgt eine weitere Leic
 he: Wer wird als Nächstes in die tödliche Falle geraten?\n\nmehr Informati
 onen unter http://pages.destination.one/de/kiel-sailing-city/streaming/det
 ail/Event/e_101258053/die-mausefalle
DTEND;TZID=Europe/Berlin:20260919T183000
DTSTAMP:20260421T134722Z
DTSTART;TZID=Europe/Berlin:20260919T160000
GEO:54.313945;10.135660
LOCATION:Lore & Lay Theater-Frachter\, Willy-Brandt-Ufer / Ecke Germaniahaf
 en\, Kiel
ORGANIZER;CN=Lore & Lay Theater-Frachter:mailto:info@loreundlay-theater.de
SEQUENCE:0
SUMMARY: Die Mausefalle
UID:e_101258053_iv1
URL:http://pages.destination.one/de/kiel-sailing-city/streaming/detail/Even
 t/e_101258053/die-mausefalle
END:VEVENT
BEGIN:VEVENT
CATEGORIES:Kultur
CATEGORIES:Theater
DESCRIPTION:In London wird eine Frau ermordet\, und die Polizei sucht nach 
 einem Verdächtigen. Während Mollie und Giles Ralston ihre Pension eröffnen
 \, schneit es die Gäste ein\, sodass niemand abreisen kann. Die Spannung s
 teigt mit dem Eintreffen eines Polizisten und bald folgt eine weitere Leic
 he: Wer wird als Nächstes in die tödliche Falle geraten?\n\nmehr Informati
 onen unter http://pages.destination.one/de/kiel-sailing-city/streaming/det
 ail/Event/e_101258053/die-mausefalle
DTEND;TZID=Europe/Berlin:20260919T220000
DTSTAMP:20260421T134722Z
DTSTART;TZID=Europe/Berlin:20260919T193000
GEO:54.313945;10.135660
LOCATION:Lore & Lay Theater-Frachter\, Willy-Brandt-Ufer / Ecke Germaniahaf
 en\, Kiel
ORGANIZER;CN=Lore & Lay Theater-Frachter:mailto:info@loreundlay-theater.de
SEQUENCE:0
SUMMARY: Die Mausefalle
UID:e_101258053_iv2
URL:http://pages.destination.one/de/kiel-sailing-city/streaming/detail/Even
 t/e_101258053/die-mausefalle
END:VEVENT
BEGIN:VEVENT
CATEGORIES:Kultur
CATEGORIES:Theater
DESCRIPTION:In London wird eine Frau ermordet\, und die Polizei sucht nach 
 einem Verdächtigen. Während Mollie und Giles Ralston ihre Pension eröffnen
 \, schneit es die Gäste ein\, sodass niemand abreisen kann. Die Spannung s
 teigt mit dem Eintreffen eines Polizisten und bald folgt eine weitere Leic
 he: Wer wird als Nächstes in die tödliche Falle geraten?\n\nmehr Informati
 onen unter http://pages.destination.one/de/kiel-sailing-city/streaming/det
 ail/Event/e_101258053/die-mausefalle
DTEND;TZID=Europe/Berlin:20260925T220000
DTSTAMP:20260421T134722Z
DTSTART;TZID=Europe/Berlin:20260925T193000
GEO:54.313945;10.135660
LOCATION:Lore & Lay Theater-Frachter\, Willy-Brandt-Ufer / Ecke Germaniahaf
 en\, Kiel
ORGANIZER;CN=Lore & Lay Theater-Frachter:mailto:info@loreundlay-theater.de
SEQUENCE:0
SUMMARY: Die Mausefalle
UID:e_101258053_iv3
URL:http://pages.destination.one/de/kiel-sailing-city/streaming/detail/Even
 t/e_101258053/die-mausefalle
END:VEVENT
BEGIN:VEVENT
CATEGORIES:Kultur
CATEGORIES:Theater
DESCRIPTION:In London wird eine Frau ermordet\, und die Polizei sucht nach 
 einem Verdächtigen. Während Mollie und Giles Ralston ihre Pension eröffnen
 \, schneit es die Gäste ein\, sodass niemand abreisen kann. Die Spannung s
 teigt mit dem Eintreffen eines Polizisten und bald folgt eine weitere Leic
 he: Wer wird als Nächstes in die tödliche Falle geraten?\n\nmehr Informati
 onen unter http://pages.destination.one/de/kiel-sailing-city/streaming/det
 ail/Event/e_101258053/die-mausefalle
DTEND;TZID=Europe/Berlin:20260926T183000
DTSTAMP:20260421T134722Z
DTSTART;TZID=Europe/Berlin:20260926T160000
GEO:54.313945;10.135660
LOCATION:Lore & Lay Theater-Frachter\, Willy-Brandt-Ufer / Ecke Germaniahaf
 en\, Kiel
ORGANIZER;CN=Lore & Lay Theater-Frachter:mailto:info@loreundlay-theater.de
SEQUENCE:0
SUMMARY: Die Mausefalle
UID:e_101258053_iv4
URL:http://pages.destination.one/de/kiel-sailing-city/streaming/detail/Even
 t/e_101258053/die-mausefalle
END:VEVENT
BEGIN:VEVENT
CATEGORIES:Kultur
CATEGORIES:Theater
DESCRIPTION:In London wird eine Frau ermordet\, und die Polizei sucht nach 
 einem Verdächtigen. Während Mollie und Giles Ralston ihre Pension eröffnen
 \, schneit es die Gäste ein\, sodass niemand abreisen kann. Die Spannung s
 teigt mit dem Eintreffen eines Polizisten und bald folgt eine weitere Leic
 he: Wer wird als Nächstes in die tödliche Falle geraten?\n\nmehr Informati
 onen unter http://pages.destination.one/de/kiel-sailing-city/streaming/det
 ail/Event/e_101258053/die-mausefalle
DTEND;TZID=Europe/Berlin:20260926T220000
DTSTAMP:20260421T134722Z
DTSTART;TZID=Europe/Berlin:20260926T193000
GEO:54.313945;10.135660
LOCATION:Lore & Lay Theater-Frachter\, Willy-Brandt-Ufer / Ecke Germaniahaf
 en\, Kiel
ORGANIZER;CN=Lore & Lay Theater-Frachter:mailto:info@loreundlay-theater.de
SEQUENCE:0
SUMMARY: Die Mausefalle
UID:e_101258053_iv5
URL:http://pages.destination.one/de/kiel-sailing-city/streaming/detail/Even
 t/e_101258053/die-mausefalle
END:VEVENT
BEGIN:VEVENT
CATEGORIES:Kultur
CATEGORIES:Theater
DESCRIPTION:In London wird eine Frau ermordet\, und die Polizei sucht nach 
 einem Verdächtigen. Während Mollie und Giles Ralston ihre Pension eröffnen
 \, schneit es die Gäste ein\, sodass niemand abreisen kann. Die Spannung s
 teigt mit dem Eintreffen eines Polizisten und bald folgt eine weitere Leic
 he: Wer wird als Nächstes in die tödliche Falle geraten?\n\nmehr Informati
 onen unter http://pages.destination.one/de/kiel-sailing-city/streaming/det
 ail/Event/e_101258053/die-mausefalle
DTEND;TZID=Europe/Berlin:20261002T220000
DTSTAMP:20260421T134722Z
DTSTART;TZID=Europe/Berlin:20261002T193000
GEO:54.313945;10.135660
LOCATION:Lore & Lay Theater-Frachter\, Willy-Brandt-Ufer / Ecke Germaniahaf
 en\, Kiel
ORGANIZER;CN=Lore & Lay Theater-Frachter:mailto:info@loreundlay-theater.de
SEQUENCE:0
SUMMARY: Die Mausefalle
UID:e_101258053_iv6
URL:http://pages.destination.one/de/kiel-sailing-city/streaming/detail/Even
 t/e_101258053/die-mausefalle
END:VEVENT
BEGIN:VEVENT
CATEGORIES:Kultur
CATEGORIES:Theater
DESCRIPTION:In London wird eine Frau ermordet\, und die Polizei sucht nach 
 einem Verdächtigen. Während Mollie und Giles Ralston ihre Pension eröffnen
 \, schneit es die Gäste ein\, sodass niemand abreisen kann. Die Spannung s
 teigt mit dem Eintreffen eines Polizisten und bald folgt eine weitere Leic
 he: Wer wird als Nächstes in die tödliche Falle geraten?\n\nmehr Informati
 onen unter http://pages.destination.one/de/kiel-sailing-city/streaming/det
 ail/Event/e_101258053/die-mausefalle
DTEND;TZID=Europe/Berlin:20261003T183000
DTSTAMP:20260421T134722Z
DTSTART;TZID=Europe/Berlin:20261003T160000
GEO:54.313945;10.135660
LOCATION:Lore & Lay Theater-Frachter\, Willy-Brandt-Ufer / Ecke Germaniahaf
 en\, Kiel
ORGANIZER;CN=Lore & Lay Theater-Frachter:mailto:info@loreundlay-theater.de
SEQUENCE:0
SUMMARY: Die Mausefalle
UID:e_101258053_iv7
URL:http://pages.destination.one/de/kiel-sailing-city/streaming/detail/Even
 t/e_101258053/die-mausefalle
END:VEVENT
BEGIN:VTIMEZONE
TZID:Europe/Berlin
X-LIC-LOCATION:Europe/Berlin
BEGIN:DAYLIGHT
DTSTART:19700329T020000
RRULE:FREQ=YEARLY;BYDAY=-1SU;BYMONTH=3
TZNAME:CEST
TZOFFSETFROM:+0100
TZOFFSETTO:+0200
END:DAYLIGHT
BEGIN:STANDARD
DTSTART:19701025T030000
RRULE:FREQ=YEARLY;BYDAY=-1SU;BYMONTH=10
TZNAME:CET
TZOFFSETFROM:+0200
TZOFFSETTO:+0100
END:STANDARD
END:VTIMEZONE
END:VCALENDAR
