BEGIN:VCALENDAR
VERSION:2.0
PRODID:-//destination.one//NONSGML destination.meta API//DE
X-WR-CALDESC:A calendar powered by destination.meta
X-WR-CALNAME:kiel-sailing-city Kalender via destination.meta
BEGIN:VEVENT
CATEGORIES:Kultursommer
CATEGORIES:Ausstellung
CATEGORIES:Sport/Freizeit
DESCRIPTION:Bis zu 60 frei fliegende\, farbenprächtige Arten – vom Ei bis z
 um Falter hautnah erleben\n\nmehr Informationen unter http://pages.destina
 tion.one/de/kiel-sailing-city/streaming/detail/Event/e_101258340/schmetter
 lingsausstellung
DTEND;TZID=Europe/Berlin:20260625T173000
DTSTAMP:20260421T135530Z
DTSTART;TZID=Europe/Berlin:20260625T093000
GEO:54.347408;10.115061
LOCATION:Botanischer Garten der Universität Kiel\, Am Botanischen Garten 2\
 , Kiel
RRULE:FREQ=WEEKLY;UNTIL=20260823T153000;BYDAY=MO,TU,WE,TH,FR,SA,SU
SEQUENCE:0
SUMMARY:Schmetterlingsausstellung 
UID:e_101258340_iv0
URL:http://pages.destination.one/de/kiel-sailing-city/streaming/detail/Even
 t/e_101258340/schmetterlingsausstellung
END:VEVENT
BEGIN:VTIMEZONE
TZID:Europe/Berlin
X-LIC-LOCATION:Europe/Berlin
BEGIN:DAYLIGHT
DTSTART:19700329T020000
RRULE:FREQ=YEARLY;BYDAY=-1SU;BYMONTH=3
TZNAME:CEST
TZOFFSETFROM:+0100
TZOFFSETTO:+0200
END:DAYLIGHT
BEGIN:STANDARD
DTSTART:19701025T030000
RRULE:FREQ=YEARLY;BYDAY=-1SU;BYMONTH=10
TZNAME:CET
TZOFFSETFROM:+0200
TZOFFSETTO:+0100
END:STANDARD
END:VTIMEZONE
END:VCALENDAR
