BEGIN:VCALENDAR
VERSION:2.0
PRODID:-//destination.one//NONSGML destination.meta API//DE
X-WR-CALDESC:A calendar powered by destination.meta
X-WR-CALNAME:kiel-sailing-city Kalender via destination.meta
BEGIN:VEVENT
CATEGORIES:Kultur
CATEGORIES:Sport/Freizeit
DESCRIPTION:Im Erdgeschoss des CITTI-PARKs erwartet dich ein spannendes Frü
 hlings-Abenteuer voller Bewegung und Action\n\nmehr Informationen unter ht
 tp://pages.destination.one/de/kiel-sailing-city/streaming/detail/Event/e_1
 01258357/ninja-parcour-im-citti-park-kiel
DTEND;TZID=Europe/Berlin:20260504T200000
DTSTAMP:20260421T135534Z
DTSTART;TZID=Europe/Berlin:20260504T090000
GEO:54.311997;10.098683
LOCATION:CITTI-PARK\, Mühlendamm 1\, Kiel
RRULE:FREQ=WEEKLY;UNTIL=20260509T180000;BYDAY=MO,TU,WE,TH,FR,SA
SEQUENCE:0
SUMMARY:Ninja Parcour im CITTI-PARK Kiel
UID:e_101258357_iv0
URL:http://pages.destination.one/de/kiel-sailing-city/streaming/detail/Even
 t/e_101258357/ninja-parcour-im-citti-park-kiel
END:VEVENT
BEGIN:VTIMEZONE
TZID:Europe/Berlin
X-LIC-LOCATION:Europe/Berlin
BEGIN:DAYLIGHT
DTSTART:19700329T020000
RRULE:FREQ=YEARLY;BYDAY=-1SU;BYMONTH=3
TZNAME:CEST
TZOFFSETFROM:+0100
TZOFFSETTO:+0200
END:DAYLIGHT
BEGIN:STANDARD
DTSTART:19701025T030000
RRULE:FREQ=YEARLY;BYDAY=-1SU;BYMONTH=10
TZNAME:CET
TZOFFSETFROM:+0200
TZOFFSETTO:+0100
END:STANDARD
END:VTIMEZONE
END:VCALENDAR
