BEGIN:VCALENDAR
VERSION:2.0
PRODID:-//destination.one//NONSGML destination.meta API//DE
X-WR-CALDESC:A calendar powered by destination.meta
X-WR-CALNAME:kiel-sailing-city Kalender via destination.meta
BEGIN:VEVENT
CATEGORIES:Kultur
CATEGORIES:Sport/Freizeit
DESCRIPTION:Neueste Rennfahrzeuge des Rennteam Raceyard und Motorsport‑Einb
 licke\n\nmehr Informationen unter http://pages.destination.one/de/kiel-sai
 ling-city/streaming/detail/Event/e_101258369/raceyard-im-citti-park-kiel
DTEND;TZID=Europe/Berlin:20260521T200000
DTSTAMP:20260421T135621Z
DTSTART;TZID=Europe/Berlin:20260521T090000
GEO:54.311997;10.098683
LOCATION:CITTI-PARK\, Mühlendamm 1\, Kiel
SEQUENCE:0
SUMMARY:Raceyard im CITTI-PARK Kiel
UID:e_101258369_iv0
URL:http://pages.destination.one/de/kiel-sailing-city/streaming/detail/Even
 t/e_101258369/raceyard-im-citti-park-kiel
END:VEVENT
BEGIN:VEVENT
CATEGORIES:Kultur
CATEGORIES:Sport/Freizeit
DESCRIPTION:Neueste Rennfahrzeuge des Rennteam Raceyard und Motorsport‑Einb
 licke\n\nmehr Informationen unter http://pages.destination.one/de/kiel-sai
 ling-city/streaming/detail/Event/e_101258369/raceyard-im-citti-park-kiel
DTEND;TZID=Europe/Berlin:20260522T200000
DTSTAMP:20260421T135621Z
DTSTART;TZID=Europe/Berlin:20260522T090000
GEO:54.311997;10.098683
LOCATION:CITTI-PARK\, Mühlendamm 1\, Kiel
SEQUENCE:0
SUMMARY:Raceyard im CITTI-PARK Kiel
UID:e_101258369_iv1
URL:http://pages.destination.one/de/kiel-sailing-city/streaming/detail/Even
 t/e_101258369/raceyard-im-citti-park-kiel
END:VEVENT
BEGIN:VEVENT
CATEGORIES:Kultur
CATEGORIES:Sport/Freizeit
DESCRIPTION:Neueste Rennfahrzeuge des Rennteam Raceyard und Motorsport‑Einb
 licke\n\nmehr Informationen unter http://pages.destination.one/de/kiel-sai
 ling-city/streaming/detail/Event/e_101258369/raceyard-im-citti-park-kiel
DTEND;TZID=Europe/Berlin:20260523T200000
DTSTAMP:20260421T135621Z
DTSTART;TZID=Europe/Berlin:20260523T090000
GEO:54.311997;10.098683
LOCATION:CITTI-PARK\, Mühlendamm 1\, Kiel
SEQUENCE:0
SUMMARY:Raceyard im CITTI-PARK Kiel
UID:e_101258369_iv2
URL:http://pages.destination.one/de/kiel-sailing-city/streaming/detail/Even
 t/e_101258369/raceyard-im-citti-park-kiel
END:VEVENT
BEGIN:VTIMEZONE
TZID:Europe/Berlin
X-LIC-LOCATION:Europe/Berlin
BEGIN:DAYLIGHT
DTSTART:19700329T020000
RRULE:FREQ=YEARLY;BYDAY=-1SU;BYMONTH=3
TZNAME:CEST
TZOFFSETFROM:+0100
TZOFFSETTO:+0200
END:DAYLIGHT
BEGIN:STANDARD
DTSTART:19701025T030000
RRULE:FREQ=YEARLY;BYDAY=-1SU;BYMONTH=10
TZNAME:CET
TZOFFSETFROM:+0200
TZOFFSETTO:+0100
END:STANDARD
END:VTIMEZONE
END:VCALENDAR
