BEGIN:VCALENDAR
VERSION:2.0
PRODID:-//destination.one//NONSGML destination.meta API//DE
X-WR-CALDESC:A calendar powered by destination.meta
X-WR-CALNAME:kiel-sailing-city Kalender via destination.meta
BEGIN:VEVENT
CATEGORIES:Kultur
CATEGORIES:Sport/Freizeit
DESCRIPTION:Mit dem Rad durch die Probstei: Historische Tour zum Gut Schmoe
 l\n\nmehr Informationen unter http://pages.destination.one/de/kiel-sailing
 -city/streaming/detail/Event/e_101258484/historische-radwanderung-des-prob
 stei-museums-nach-schmoel
DTEND;TZID=Europe/Berlin:20260428T235900
DTSTAMP:20260421T135711Z
DTSTART;TZID=Europe/Berlin:20260428T140000
GEO:54.394602;10.370235
LOCATION:Probstei Museum Schönberg\, Ostseestr. 8-10\, Schönberg (Holstein)
SEQUENCE:0
SUMMARY:Historische Radwanderung des Probstei Museums nach Schmoel  
UID:e_101258484_iv0
URL:http://pages.destination.one/de/kiel-sailing-city/streaming/detail/Even
 t/e_101258484/historische-radwanderung-des-probstei-museums-nach-schmoel
END:VEVENT
BEGIN:VTIMEZONE
TZID:Europe/Berlin
X-LIC-LOCATION:Europe/Berlin
BEGIN:DAYLIGHT
DTSTART:19700329T020000
RRULE:FREQ=YEARLY;BYDAY=-1SU;BYMONTH=3
TZNAME:CEST
TZOFFSETFROM:+0100
TZOFFSETTO:+0200
END:DAYLIGHT
BEGIN:STANDARD
DTSTART:19701025T030000
RRULE:FREQ=YEARLY;BYDAY=-1SU;BYMONTH=10
TZNAME:CET
TZOFFSETFROM:+0200
TZOFFSETTO:+0100
END:STANDARD
END:VTIMEZONE
END:VCALENDAR
