BEGIN:VCALENDAR
VERSION:2.0
PRODID:-//destination.one//NONSGML destination.meta API//DE
X-WR-CALDESC:A calendar powered by destination.meta
X-WR-CALNAME:kiel-sailing-city Kalender via destination.meta
BEGIN:VEVENT
CATEGORIES:Kultur
CATEGORIES:Sport/Freizeit
CATEGORIES:Kieler-Woche
DESCRIPTION:Windjammerparade erleben bei einem Segeltörn auf der Kieler För
 de inkl. Brunch\n\nmehr Informationen unter http://pages.destination.one/d
 e/kiel-sailing-city/streaming/detail/Event/e_101258603/mare-frisium-segelt
 -rn-zur-windjammerparade-mit-brunch
DTEND;TZID=Europe/Berlin:20260627T150000
DTSTAMP:20260421T140041Z
DTSTART;TZID=Europe/Berlin:20260627T110000
GEO:54.321363;10.143477
LOCATION:Sartorikai\, Liegeplatz 26\, Kiel
PRIORITY:4
SEQUENCE:0
SUMMARY:Mare Frisium - Segeltörn zur Windjammerparade mit Brunch
UID:e_101258603_iv0
URL:http://pages.destination.one/de/kiel-sailing-city/streaming/detail/Even
 t/e_101258603/mare-frisium-segelt-rn-zur-windjammerparade-mit-brunch
END:VEVENT
BEGIN:VTIMEZONE
TZID:Europe/Berlin
X-LIC-LOCATION:Europe/Berlin
BEGIN:DAYLIGHT
DTSTART:19700329T020000
RRULE:FREQ=YEARLY;BYDAY=-1SU;BYMONTH=3
TZNAME:CEST
TZOFFSETFROM:+0100
TZOFFSETTO:+0200
END:DAYLIGHT
BEGIN:STANDARD
DTSTART:19701025T030000
RRULE:FREQ=YEARLY;BYDAY=-1SU;BYMONTH=10
TZNAME:CET
TZOFFSETFROM:+0200
TZOFFSETTO:+0100
END:STANDARD
END:VTIMEZONE
END:VCALENDAR
