BEGIN:VCALENDAR
VERSION:2.0
PRODID:-//destination.one//NONSGML destination.meta API//DE
X-WR-CALDESC:A calendar powered by destination.meta
X-WR-CALNAME:kiel-sailing-city Kalender via destination.meta
BEGIN:VEVENT
CATEGORIES:Führung/Besichtigung
DESCRIPTION:\n\nmehr Informationen unter http://pages.destination.one/de/ki
 el-sailing-city/streaming/detail/Event/e_101258673/baustellenbegehung-stra
 nd-hasselfelde
DTEND;TZID=Europe/Berlin:20260504T183000
DTSTAMP:20260421T152254Z
DTSTART;TZID=Europe/Berlin:20260504T170000
GEO:54.343350;10.175314
LOCATION:Strand Hasselfelde\, Hasselfelde\, Kiel
ORGANIZER;CN=Grünflächenamt der Landeshauptstadt Kiel:mailto:gruenflaechena
 mt@kiel.de
SEQUENCE:0
SUMMARY:Baustellenbegehung Strand Hasselfelde
UID:e_101258673_iv0
URL:http://pages.destination.one/de/kiel-sailing-city/streaming/detail/Even
 t/e_101258673/baustellenbegehung-strand-hasselfelde
END:VEVENT
BEGIN:VTIMEZONE
TZID:Europe/Berlin
X-LIC-LOCATION:Europe/Berlin
BEGIN:DAYLIGHT
DTSTART:19700329T020000
RRULE:FREQ=YEARLY;BYDAY=-1SU;BYMONTH=3
TZNAME:CEST
TZOFFSETFROM:+0100
TZOFFSETTO:+0200
END:DAYLIGHT
BEGIN:STANDARD
DTSTART:19701025T030000
RRULE:FREQ=YEARLY;BYDAY=-1SU;BYMONTH=10
TZNAME:CET
TZOFFSETFROM:+0200
TZOFFSETTO:+0100
END:STANDARD
END:VTIMEZONE
END:VCALENDAR
