BEGIN:VCALENDAR
VERSION:2.0
PRODID:-//destination.one//NONSGML destination.meta API//DE
X-WR-CALDESC:A calendar powered by destination.meta
X-WR-CALNAME:kiel-sailing-city Kalender via destination.meta
BEGIN:VEVENT
CATEGORIES:Führung/Besichtigung
CATEGORIES:Segeln
CATEGORIES:Sport/Freizeit
CATEGORIES:Kultursommer
CATEGORIES:Kultur
DESCRIPTION:Wir fahren mit euch in die Kieler Bucht und genießen den Blick 
 vom Wasser.\n\nmehr Informationen unter http://pages.destination.one/de/ki
 el-sailing-city/streaming/detail/Event/e_101258714/historische-hansekogge-
 laboe-vom-wasser-aus-genie-en
DTEND;TZID=Europe/Berlin:20260717T130000
DTSTAMP:20260424T080600Z
DTSTART;TZID=Europe/Berlin:20260717T113000
GEO:54.321363;10.143477
LOCATION:Sartorikai\, Liegeplatz 26\, Kiel
ORGANIZER;CN=Förderverein Historische Hansekogge Kiel e.V.:mailto:buero@han
 sekogge.de
PRIORITY:4
RRULE:FREQ=DAILY;UNTIL=20260718T093000
SEQUENCE:0
SUMMARY:Historische Hansekogge - Laboe vom Wasser aus genießen
UID:e_101258714_iv0
URL:http://pages.destination.one/de/kiel-sailing-city/streaming/detail/Even
 t/e_101258714/historische-hansekogge-laboe-vom-wasser-aus-genie-en
END:VEVENT
BEGIN:VEVENT
CATEGORIES:Führung/Besichtigung
CATEGORIES:Segeln
CATEGORIES:Sport/Freizeit
CATEGORIES:Kultursommer
CATEGORIES:Kultur
DESCRIPTION:Wir fahren mit euch in die Kieler Bucht und genießen den Blick 
 vom Wasser.\n\nmehr Informationen unter http://pages.destination.one/de/ki
 el-sailing-city/streaming/detail/Event/e_101258714/historische-hansekogge-
 laboe-vom-wasser-aus-genie-en
DTEND;TZID=Europe/Berlin:20260717T163000
DTSTAMP:20260424T080600Z
DTSTART;TZID=Europe/Berlin:20260717T150000
GEO:54.321363;10.143477
LOCATION:Sartorikai\, Liegeplatz 26\, Kiel
ORGANIZER;CN=Förderverein Historische Hansekogge Kiel e.V.:mailto:buero@han
 sekogge.de
PRIORITY:4
RRULE:FREQ=DAILY;UNTIL=20260718T130000
SEQUENCE:0
SUMMARY:Historische Hansekogge - Laboe vom Wasser aus genießen
UID:e_101258714_iv1
URL:http://pages.destination.one/de/kiel-sailing-city/streaming/detail/Even
 t/e_101258714/historische-hansekogge-laboe-vom-wasser-aus-genie-en
END:VEVENT
BEGIN:VTIMEZONE
TZID:Europe/Berlin
X-LIC-LOCATION:Europe/Berlin
BEGIN:DAYLIGHT
DTSTART:19700329T020000
RRULE:FREQ=YEARLY;BYDAY=-1SU;BYMONTH=3
TZNAME:CEST
TZOFFSETFROM:+0100
TZOFFSETTO:+0200
END:DAYLIGHT
BEGIN:STANDARD
DTSTART:19701025T030000
RRULE:FREQ=YEARLY;BYDAY=-1SU;BYMONTH=10
TZNAME:CET
TZOFFSETFROM:+0200
TZOFFSETTO:+0100
END:STANDARD
END:VTIMEZONE
END:VCALENDAR
