BEGIN:VCALENDAR
VERSION:2.0
PRODID:-//destination.one//NONSGML destination.meta API//DE
X-WR-CALDESC:A calendar powered by destination.meta
X-WR-CALNAME:kiel-sailing-city Kalender via destination.meta
BEGIN:VEVENT
CATEGORIES:Führung/Besichtigung
CATEGORIES:Segeln
CATEGORIES:Sport/Freizeit
CATEGORIES:Kultursommer
DESCRIPTION:Erlebt das Piraten-Dasein aus erster Hand\n\nmehr Informationen
  unter http://pages.destination.one/de/kiel-sailing-city/streaming/detail/
 Event/e_101258718/historische-hansekogge-piratenfahrt
DTEND;TZID=Europe/Berlin:20260731T143000
DTSTAMP:20260422T112039Z
DTSTART;TZID=Europe/Berlin:20260731T130000
GEO:54.474165;9.834609
LOCATION:Hafen Eckernförde\, \, Eckernförde
ORGANIZER;CN=Förderverein Historische Hansekogge e.V.:mailto:buero@hansekog
 ge.de
SEQUENCE:0
SUMMARY:Historische Hansekogge - Piratenfahrt
UID:e_101258718_iv0
URL:http://pages.destination.one/de/kiel-sailing-city/streaming/detail/Even
 t/e_101258718/historische-hansekogge-piratenfahrt
END:VEVENT
BEGIN:VEVENT
CATEGORIES:Führung/Besichtigung
CATEGORIES:Segeln
CATEGORIES:Sport/Freizeit
CATEGORIES:Kultursommer
DESCRIPTION:Erlebt das Piraten-Dasein aus erster Hand\n\nmehr Informationen
  unter http://pages.destination.one/de/kiel-sailing-city/streaming/detail/
 Event/e_101258718/historische-hansekogge-piratenfahrt
DTEND;TZID=Europe/Berlin:20260801T133000
DTSTAMP:20260422T112039Z
DTSTART;TZID=Europe/Berlin:20260801T120000
GEO:54.474165;9.834609
LOCATION:Hafen Eckernförde\, \, Eckernförde
ORGANIZER;CN=Förderverein Historische Hansekogge e.V.:mailto:buero@hansekog
 ge.de
RRULE:FREQ=DAILY;UNTIL=20260802T100000
SEQUENCE:0
SUMMARY:Historische Hansekogge - Piratenfahrt
UID:e_101258718_iv1
URL:http://pages.destination.one/de/kiel-sailing-city/streaming/detail/Even
 t/e_101258718/historische-hansekogge-piratenfahrt
END:VEVENT
BEGIN:VEVENT
CATEGORIES:Führung/Besichtigung
CATEGORIES:Segeln
CATEGORIES:Sport/Freizeit
CATEGORIES:Kultursommer
DESCRIPTION:Erlebt das Piraten-Dasein aus erster Hand\n\nmehr Informationen
  unter http://pages.destination.one/de/kiel-sailing-city/streaming/detail/
 Event/e_101258718/historische-hansekogge-piratenfahrt
DTEND;TZID=Europe/Berlin:20260801T163000
DTSTAMP:20260422T112039Z
DTSTART;TZID=Europe/Berlin:20260801T150000
GEO:54.474165;9.834609
LOCATION:Hafen Eckernförde\, \, Eckernförde
ORGANIZER;CN=Förderverein Historische Hansekogge e.V.:mailto:buero@hansekog
 ge.de
RRULE:FREQ=DAILY;UNTIL=20260802T130000
SEQUENCE:0
SUMMARY:Historische Hansekogge - Piratenfahrt
UID:e_101258718_iv2
URL:http://pages.destination.one/de/kiel-sailing-city/streaming/detail/Even
 t/e_101258718/historische-hansekogge-piratenfahrt
END:VEVENT
BEGIN:VEVENT
CATEGORIES:Führung/Besichtigung
CATEGORIES:Segeln
CATEGORIES:Sport/Freizeit
CATEGORIES:Kultursommer
DESCRIPTION:Erlebt das Piraten-Dasein aus erster Hand\n\nmehr Informationen
  unter http://pages.destination.one/de/kiel-sailing-city/streaming/detail/
 Event/e_101258718/historische-hansekogge-piratenfahrt
DTEND;TZID=Europe/Berlin:20260801T193000
DTSTAMP:20260422T112039Z
DTSTART;TZID=Europe/Berlin:20260801T180000
GEO:54.474165;9.834609
LOCATION:Hafen Eckernförde\, \, Eckernförde
ORGANIZER;CN=Förderverein Historische Hansekogge e.V.:mailto:buero@hansekog
 ge.de
RRULE:FREQ=DAILY;UNTIL=20260802T160000
SEQUENCE:0
SUMMARY:Historische Hansekogge - Piratenfahrt
UID:e_101258718_iv3
URL:http://pages.destination.one/de/kiel-sailing-city/streaming/detail/Even
 t/e_101258718/historische-hansekogge-piratenfahrt
END:VEVENT
BEGIN:VTIMEZONE
TZID:Europe/Berlin
X-LIC-LOCATION:Europe/Berlin
BEGIN:DAYLIGHT
DTSTART:19700329T020000
RRULE:FREQ=YEARLY;BYDAY=-1SU;BYMONTH=3
TZNAME:CEST
TZOFFSETFROM:+0100
TZOFFSETTO:+0200
END:DAYLIGHT
BEGIN:STANDARD
DTSTART:19701025T030000
RRULE:FREQ=YEARLY;BYDAY=-1SU;BYMONTH=10
TZNAME:CET
TZOFFSETFROM:+0200
TZOFFSETTO:+0100
END:STANDARD
END:VTIMEZONE
END:VCALENDAR
