BEGIN:VCALENDAR
VERSION:2.0
PRODID:-//destination.one//NONSGML destination.meta API//DE
X-WR-CALDESC:A calendar powered by destination.meta
X-WR-CALNAME:kiel-sailing-city Kalender via destination.meta
BEGIN:VEVENT
CATEGORIES:Kultur
CATEGORIES:Lesungen
CATEGORIES:Kultursommer
DESCRIPTION:Tote Ex-Bürgermeisterin im Riesenrad\, entführte Tochter – Mord
 spiel beim Seebrückenfest an der Ostsee\n\nmehr Informationen unter http:/
 /pages.destination.one/de/kiel-sailing-city/streaming/detail/Event/e_10125
 9146/sch-nberg-kulturell-lea-jansen-autorinnenlesung-seebr-ckentod
DTEND;TZID=Europe/Berlin:20260801T213000
DTSTAMP:20260423T173415Z
DTSTART;TZID=Europe/Berlin:20260801T200000
GEO:54.395665;10.370482
LOCATION:Blitz Lichtspiele\, Am Markt 1\, Schönberg (Holstein)
ORGANIZER;CN=Tourist-Service Ostseebad Schönberg Kultur- & Veranstaltungen:
 mailto:kultur@schoenberg.de
SEQUENCE:0
SUMMARY:Schönberg kulturell: Lea Jansen - Autorinnenlesung "Seebrückentod"
UID:e_101259146_iv0
URL:http://pages.destination.one/de/kiel-sailing-city/streaming/detail/Even
 t/e_101259146/sch-nberg-kulturell-lea-jansen-autorinnenlesung-seebr-ckento
 d
END:VEVENT
BEGIN:VTIMEZONE
TZID:Europe/Berlin
X-LIC-LOCATION:Europe/Berlin
BEGIN:DAYLIGHT
DTSTART:19700329T020000
RRULE:FREQ=YEARLY;BYDAY=-1SU;BYMONTH=3
TZNAME:CEST
TZOFFSETFROM:+0100
TZOFFSETTO:+0200
END:DAYLIGHT
BEGIN:STANDARD
DTSTART:19701025T030000
RRULE:FREQ=YEARLY;BYDAY=-1SU;BYMONTH=10
TZNAME:CET
TZOFFSETFROM:+0200
TZOFFSETTO:+0100
END:STANDARD
END:VTIMEZONE
END:VCALENDAR
