BEGIN:VCALENDAR
VERSION:2.0
PRODID:-//destination.one//NONSGML destination.meta API//DE
X-WR-CALDESC:A calendar powered by destination.meta
X-WR-CALNAME:kiel-sailing-city Kalender via destination.meta
BEGIN:VEVENT
CATEGORIES:Kultur
CATEGORIES:Sport/Freizeit
DESCRIPTION:Swiftie-Abend: Eras-Kerzen dippen\, Songtexte tattooieren & ver
 packen\n\nmehr Informationen unter http://pages.destination.one/de/kiel-sa
 iling-city/streaming/detail/Event/e_101259324/swifty-night-era-candle-work
 shop
DTEND;TZID=Europe/Berlin:20260522T190000
DTSTAMP:20260422T094223Z
DTSTART;TZID=Europe/Berlin:20260522T170000
GEO:54.341649;10.136463
LOCATION:Werkshop Kiel \, Blücherplatz 1\, Kiel
SEQUENCE:0
SUMMARY:Swifty Night - Era Candle Workshop
UID:e_101259324_iv0
URL:http://pages.destination.one/de/kiel-sailing-city/streaming/detail/Even
 t/e_101259324/swifty-night-era-candle-workshop
END:VEVENT
BEGIN:VTIMEZONE
TZID:Europe/Berlin
X-LIC-LOCATION:Europe/Berlin
BEGIN:DAYLIGHT
DTSTART:19700329T020000
RRULE:FREQ=YEARLY;BYDAY=-1SU;BYMONTH=3
TZNAME:CEST
TZOFFSETFROM:+0100
TZOFFSETTO:+0200
END:DAYLIGHT
BEGIN:STANDARD
DTSTART:19701025T030000
RRULE:FREQ=YEARLY;BYDAY=-1SU;BYMONTH=10
TZNAME:CET
TZOFFSETFROM:+0200
TZOFFSETTO:+0100
END:STANDARD
END:VTIMEZONE
END:VCALENDAR
