BEGIN:VCALENDAR
VERSION:2.0
PRODID:-//destination.one//NONSGML destination.meta API//DE
X-WR-CALDESC:A calendar powered by destination.meta
X-WR-CALNAME:kiel-sailing-city Kalender via destination.meta
BEGIN:VEVENT
CATEGORIES:Comedy
CATEGORIES:Kultur
DESCRIPTION:Die ostwestfälischen Stimmungskanone aus der Humorhochburg Biel
 efeld kommt mit seiner Live-Show.\n\nmehr Informationen unter http://pages
 .destination.one/de/kiel-sailing-city/streaming/detail/Event/e_101259352/s
 ch-nberg-kulturell-ingo-oschmann-wunderbar-es-ist-ja-so
DTEND;TZID=Europe/Berlin:20260926T220000
DTSTAMP:20260422T112039Z
DTSTART;TZID=Europe/Berlin:20260926T200000
GEO:54.398280;10.371222
LOCATION:AULA der Gemeinschaftsschule Probstei\, Friedhofsweg 6\, Schönberg
  (Holstein)
ORGANIZER;CN=Tourist-Service Ostseebad Schönberg - Kultur & Veranstaltungen
 :mailto:kultur@schoenberg.de
SEQUENCE:0
SUMMARY:Schönberg kulturell: Ingo Oschmann - "Wunderbar - Es ist ja so"
UID:e_101259352_iv0
URL:http://pages.destination.one/de/kiel-sailing-city/streaming/detail/Even
 t/e_101259352/sch-nberg-kulturell-ingo-oschmann-wunderbar-es-ist-ja-so
END:VEVENT
BEGIN:VTIMEZONE
TZID:Europe/Berlin
X-LIC-LOCATION:Europe/Berlin
BEGIN:DAYLIGHT
DTSTART:19700329T020000
RRULE:FREQ=YEARLY;BYDAY=-1SU;BYMONTH=3
TZNAME:CEST
TZOFFSETFROM:+0100
TZOFFSETTO:+0200
END:DAYLIGHT
BEGIN:STANDARD
DTSTART:19701025T030000
RRULE:FREQ=YEARLY;BYDAY=-1SU;BYMONTH=10
TZNAME:CET
TZOFFSETFROM:+0200
TZOFFSETTO:+0100
END:STANDARD
END:VTIMEZONE
END:VCALENDAR
