BEGIN:VCALENDAR
VERSION:2.0
PRODID:-//destination.one//NONSGML destination.meta API//DE
X-WR-CALDESC:A calendar powered by destination.meta
X-WR-CALNAME:kiel-sailing-city Kalender via destination.meta
BEGIN:VEVENT
CATEGORIES:Kultur
DESCRIPTION:12. Schönberger Dichter*innen-Wettstreit\n\nmehr Informationen 
 unter http://pages.destination.one/de/kiel-sailing-city/streaming/detail/E
 vent/e_101259381/sch-nberg-kulturell-poetry-slam
DTEND;TZID=Europe/Berlin:20261114T220000
DTSTAMP:20260423T160107Z
DTSTART;TZID=Europe/Berlin:20261114T200000
GEO:54.392773;10.372320
LOCATION:Villa Tripaldi (ehemals Hotel am Rathaus)\, Knüll 2\, Schönberg (H
 olstein)
ORGANIZER;CN=Tourist-Service Ostseebad Schönberg - Kultur & Veranstaltungen
 :mailto:kultur@schoenberg.de
SEQUENCE:0
SUMMARY:Schönberg kulturell: Poetry Slam
UID:e_101259381_iv0
URL:http://pages.destination.one/de/kiel-sailing-city/streaming/detail/Even
 t/e_101259381/sch-nberg-kulturell-poetry-slam
END:VEVENT
BEGIN:VTIMEZONE
TZID:Europe/Berlin
X-LIC-LOCATION:Europe/Berlin
BEGIN:DAYLIGHT
DTSTART:19700329T020000
RRULE:FREQ=YEARLY;BYDAY=-1SU;BYMONTH=3
TZNAME:CEST
TZOFFSETFROM:+0100
TZOFFSETTO:+0200
END:DAYLIGHT
BEGIN:STANDARD
DTSTART:19701025T030000
RRULE:FREQ=YEARLY;BYDAY=-1SU;BYMONTH=10
TZNAME:CET
TZOFFSETFROM:+0200
TZOFFSETTO:+0100
END:STANDARD
END:VTIMEZONE
END:VCALENDAR
