BEGIN:VCALENDAR
VERSION:2.0
PRODID:-//destination.one//NONSGML destination.meta API//DE
X-WR-CALDESC:A calendar powered by destination.meta
X-WR-CALNAME:kiel-sailing-city Kalender via destination.meta
BEGIN:VEVENT
CATEGORIES:Kultur
CATEGORIES:Sport/Freizeit
DESCRIPTION:Ein Spaziergang über den Alten Urnenfriedhof mit Informationen 
 zur Geschichte und zu einzelnen Anlagen\n\nmehr Informationen unter http:/
 /pages.destination.one/de/kiel-sailing-city/streaming/detail/Event/e_10125
 9452/m-rchenspaziergang-ber-den-alten-urnenfriedhof
DTEND;TZID=Europe/Berlin:20260507T170000
DTSTAMP:20260423T160119Z
DTSTART;TZID=Europe/Berlin:20260507T160000
GEO:54.334843;10.106735
LOCATION:Alter Urnenfriedhof Kiel\, Eichhofstraße\, \, Kiel
ORGANIZER;CN=Brigitte Harkou:mailto:bharkou@yahoo.de
SEQUENCE:0
SUMMARY:Märchenspaziergang über den Alten Urnenfriedhof
UID:e_101259452_iv0
URL:http://pages.destination.one/de/kiel-sailing-city/streaming/detail/Even
 t/e_101259452/m-rchenspaziergang-ber-den-alten-urnenfriedhof
END:VEVENT
BEGIN:VTIMEZONE
TZID:Europe/Berlin
X-LIC-LOCATION:Europe/Berlin
BEGIN:DAYLIGHT
DTSTART:19700329T020000
RRULE:FREQ=YEARLY;BYDAY=-1SU;BYMONTH=3
TZNAME:CEST
TZOFFSETFROM:+0100
TZOFFSETTO:+0200
END:DAYLIGHT
BEGIN:STANDARD
DTSTART:19701025T030000
RRULE:FREQ=YEARLY;BYDAY=-1SU;BYMONTH=10
TZNAME:CET
TZOFFSETFROM:+0200
TZOFFSETTO:+0100
END:STANDARD
END:VTIMEZONE
END:VCALENDAR
