BEGIN:VCALENDAR
VERSION:2.0
PRODID:-//destination.one//NONSGML destination.meta API//DE
X-WR-CALDESC:A calendar powered by destination.meta
X-WR-CALNAME:kiel-sailing-city Kalender via destination.meta
BEGIN:VEVENT
CATEGORIES:Kultur
CATEGORIES:Führung/Besichtigung
DESCRIPTION:Spaziergang im Alten Botanischen Garten mit frei erzählten Früh
 lingsmärchen aus aller Welt\n\nmehr Informationen unter http://pages.desti
 nation.one/de/kiel-sailing-city/streaming/detail/Event/e_101259456/m-rchen
 spaziergang-durch-den-alten-botanischen-garten
DTEND;TZID=Europe/Berlin:20260521T170000
DTSTAMP:20260423T160107Z
DTSTART;TZID=Europe/Berlin:20260521T160000
GEO:54.330915;10.147440
LOCATION:Alter Botanischer Garten\, Schwanenweg 14\, Kiel
ORGANIZER;CN=Brigitte Harkou:mailto:bharkou@yahoo.de
SEQUENCE:0
SUMMARY:Märchenspaziergang durch den Alten Botanischen Garten
UID:e_101259456_iv0
URL:http://pages.destination.one/de/kiel-sailing-city/streaming/detail/Even
 t/e_101259456/m-rchenspaziergang-durch-den-alten-botanischen-garten
END:VEVENT
BEGIN:VTIMEZONE
TZID:Europe/Berlin
X-LIC-LOCATION:Europe/Berlin
BEGIN:DAYLIGHT
DTSTART:19700329T020000
RRULE:FREQ=YEARLY;BYDAY=-1SU;BYMONTH=3
TZNAME:CEST
TZOFFSETFROM:+0100
TZOFFSETTO:+0200
END:DAYLIGHT
BEGIN:STANDARD
DTSTART:19701025T030000
RRULE:FREQ=YEARLY;BYDAY=-1SU;BYMONTH=10
TZNAME:CET
TZOFFSETFROM:+0200
TZOFFSETTO:+0100
END:STANDARD
END:VTIMEZONE
END:VCALENDAR
