BEGIN:VCALENDAR
VERSION:2.0
PRODID:-//destination.one//NONSGML destination.meta API//DE
X-WR-CALDESC:A calendar powered by destination.meta
X-WR-CALNAME:kiel-sailing-city Kalender via destination.meta
BEGIN:VEVENT
CATEGORIES:Kultur
CATEGORIES:Märkte
CATEGORIES:Messe
CATEGORIES:Nachhaltigkeit
CATEGORIES:Talk
DESCRIPTION:Austausch\, Kaffee und Ideen Tiny Rathaus\n\nmehr Informationen
  unter http://pages.destination.one/de/kiel-sailing-city/streaming/detail/
 Event/e_101259935/tiny-rathaus-auf-dem-bl-cherplatz-auf-einen-schnack-mit-
 der-koordinierungsstelle-f-r-mitwirkung
DTEND;TZID=Europe/Berlin:20260603T130000
DTSTAMP:20260423T160119Z
DTSTART;TZID=Europe/Berlin:20260603T090000
GEO:54.342744;10.137817
LOCATION:Blücherplatz\, Blücherstraße 2\, Kiel
ORGANIZER;CN=Koordinierungsstelle  für Mitwirkung:mailto:mitwirkung@kiel.de
SEQUENCE:0
SUMMARY:Tiny Rathaus auf dem Blücherplatz: Auf einen Schnack mit der Koordi
 nierungsstelle für Mitwirkung
UID:e_101259935_iv0
URL:http://pages.destination.one/de/kiel-sailing-city/streaming/detail/Even
 t/e_101259935/tiny-rathaus-auf-dem-bl-cherplatz-auf-einen-schnack-mit-der-
 koordinierungsstelle-f-r-mitwirkung
END:VEVENT
BEGIN:VTIMEZONE
TZID:Europe/Berlin
X-LIC-LOCATION:Europe/Berlin
BEGIN:DAYLIGHT
DTSTART:19700329T020000
RRULE:FREQ=YEARLY;BYDAY=-1SU;BYMONTH=3
TZNAME:CEST
TZOFFSETFROM:+0100
TZOFFSETTO:+0200
END:DAYLIGHT
BEGIN:STANDARD
DTSTART:19701025T030000
RRULE:FREQ=YEARLY;BYDAY=-1SU;BYMONTH=10
TZNAME:CET
TZOFFSETFROM:+0200
TZOFFSETTO:+0100
END:STANDARD
END:VTIMEZONE
END:VCALENDAR
