BEGIN:VCALENDAR
VERSION:2.0
PRODID:-//destination.one//NONSGML destination.meta API//DE
X-WR-CALDESC:A calendar powered by destination.meta
X-WR-CALNAME:kiel-sailing-city Kalender via destination.meta
BEGIN:VEVENT
CATEGORIES:Konzert
CATEGORIES:Kultur
DESCRIPTION:\n\nmehr Informationen unter http://pages.destination.one/de/ki
 el-sailing-city/streaming/detail/Event/e_101260321/heinz-ratz-strom-wasser
 -der-lauf-gegen-die-soziale-k-lte
DTEND;TZID=Europe/Berlin:20260429T210000
DTSTAMP:20260424T075032Z
DTSTART;TZID=Europe/Berlin:20260429T193000
GEO:54.324486;10.138300
LOCATION:Die Pumpe e.V. - Kultur- und Kommunikationszentrum\, Haßstr. 22\, 
 Kiel
SEQUENCE:0
SUMMARY:Heinz Ratz / Strom & Wasser "Der Lauf gegen die soziale Kälte"
UID:e_101260321_iv0
URL:http://pages.destination.one/de/kiel-sailing-city/streaming/detail/Even
 t/e_101260321/heinz-ratz-strom-wasser-der-lauf-gegen-die-soziale-k-lte
END:VEVENT
BEGIN:VTIMEZONE
TZID:Europe/Berlin
X-LIC-LOCATION:Europe/Berlin
BEGIN:DAYLIGHT
DTSTART:19700329T020000
RRULE:FREQ=YEARLY;BYDAY=-1SU;BYMONTH=3
TZNAME:CEST
TZOFFSETFROM:+0100
TZOFFSETTO:+0200
END:DAYLIGHT
BEGIN:STANDARD
DTSTART:19701025T030000
RRULE:FREQ=YEARLY;BYDAY=-1SU;BYMONTH=10
TZNAME:CET
TZOFFSETFROM:+0200
TZOFFSETTO:+0100
END:STANDARD
END:VTIMEZONE
END:VCALENDAR
