BEGIN:VCALENDAR
VERSION:2.0
PRODID:-//destination.one//NONSGML destination.meta API//DE
X-WR-CALDESC:A calendar powered by destination.meta
X-WR-CALNAME:kiel-sailing-city Kalender via destination.meta
BEGIN:VEVENT
CATEGORIES:Führung/Besichtigung
CATEGORIES:Segeln
CATEGORIES:Sport/Freizeit
DESCRIPTION:Wir fahren mit Ihnen/Euch raus und genießen den Blick vom Wasse
 r\n\nmehr Informationen unter http://pages.destination.one/de/kiel-sailing
 -city/streaming/detail/Event/e_101260354/hanse-sailing
DTEND;TZID=Europe/Berlin:20260808T140000
DTSTAMP:20260424T091446Z
DTSTART;TZID=Europe/Berlin:20260808T100000
GEO:54.322747;10.143675
LOCATION:Förderverein Historische Hansekogge e.V.\, Wall 65\, Kiel
ORGANIZER;CN=Förderverein Historische Hansekogge Kiel e.V.:mailto:buero@han
 sekogge.de
RRULE:FREQ=DAILY;UNTIL=20260809T080000
SEQUENCE:0
SUMMARY:Hanse Sailing
UID:e_101260354_iv0
URL:http://pages.destination.one/de/kiel-sailing-city/streaming/detail/Even
 t/e_101260354/hanse-sailing
END:VEVENT
BEGIN:VTIMEZONE
TZID:Europe/Berlin
X-LIC-LOCATION:Europe/Berlin
BEGIN:DAYLIGHT
DTSTART:19700329T020000
RRULE:FREQ=YEARLY;BYDAY=-1SU;BYMONTH=3
TZNAME:CEST
TZOFFSETFROM:+0100
TZOFFSETTO:+0200
END:DAYLIGHT
BEGIN:STANDARD
DTSTART:19701025T030000
RRULE:FREQ=YEARLY;BYDAY=-1SU;BYMONTH=10
TZNAME:CET
TZOFFSETFROM:+0200
TZOFFSETTO:+0100
END:STANDARD
END:VTIMEZONE
END:VCALENDAR
