BEGIN:VCALENDAR
VERSION:2.0
PRODID:-//destination.one//NONSGML destination.meta API//DE
X-WR-CALDESC:A calendar powered by destination.meta
X-WR-CALNAME:kiel-sailing-city Kalender via destination.meta
BEGIN:VEVENT
CATEGORIES:Ausstellung
CATEGORIES:Führung/Besichtigung
CATEGORIES:Kultur
CATEGORIES:Nachtleben
CATEGORIES:Sport/Freizeit
CATEGORIES:Wissenschaft
CATEGORIES:Kultursommer
DESCRIPTION:Entdecken Sie das Holzschiff am Sartorikai mit Hansegeschichte 
 und Ratten-Suchspiel für Kinder.\n\nmehr Informationen unter http://pages.
 destination.one/de/kiel-sailing-city/streaming/detail/Event/e_101260355/mu
 seumsnacht-auf-der-hansekogge
DTEND;TZID=Europe/Berlin:20260828T235900
DTSTAMP:20260424T091353Z
DTSTART;TZID=Europe/Berlin:20260828T180000
GEO:54.321363;10.143477
LOCATION:Sartorikai\, Liegeplatz 26\, Kiel
ORGANIZER;CN=Förderverein Historische Hansekogge Kiel e.V.:mailto:buero@han
 sekogge.de
SEQUENCE:0
SUMMARY:Museumsnacht auf der Hansekogge
UID:e_101260355_iv0
URL:http://pages.destination.one/de/kiel-sailing-city/streaming/detail/Even
 t/e_101260355/museumsnacht-auf-der-hansekogge
END:VEVENT
BEGIN:VTIMEZONE
TZID:Europe/Berlin
X-LIC-LOCATION:Europe/Berlin
BEGIN:DAYLIGHT
DTSTART:19700329T020000
RRULE:FREQ=YEARLY;BYDAY=-1SU;BYMONTH=3
TZNAME:CEST
TZOFFSETFROM:+0100
TZOFFSETTO:+0200
END:DAYLIGHT
BEGIN:STANDARD
DTSTART:19701025T030000
RRULE:FREQ=YEARLY;BYDAY=-1SU;BYMONTH=10
TZNAME:CET
TZOFFSETFROM:+0200
TZOFFSETTO:+0100
END:STANDARD
END:VTIMEZONE
END:VCALENDAR
