BEGIN:VCALENDAR
VERSION:2.0
PRODID:-//destination.one//NONSGML destination.meta API//DE
X-WR-CALDESC:A calendar powered by destination.meta
X-WR-CALNAME:kiel-sailing-city Kalender via destination.meta
BEGIN:VEVENT
CATEGORIES:Führung/Besichtigung
CATEGORIES:Kultur
CATEGORIES:Märkte
CATEGORIES:Sport/Freizeit
CATEGORIES:Kultursommer
DESCRIPTION:Entdecken Sie das Holzschiff mit Hansegeschichte\n\nmehr Inform
 ationen unter http://pages.destination.one/de/kiel-sailing-city/streaming/
 detail/Event/e_101260356/historische-hansekogge-ahoi-seefischmarkt
DTEND;TZID=Europe/Berlin:20260830T170000
DTSTAMP:20260424T091445Z
DTSTART;TZID=Europe/Berlin:20260830T110000
GEO:54.327370;10.182411
LOCATION:Seefischmarkt Kiel\, Wischhofstr. 1-3\, Kiel
ORGANIZER;CN=Förderverein Historische Hansekogge Kiel e.V.:mailto:buero@han
 sekogge.de
SEQUENCE:0
SUMMARY:Historische Hansekogge - Ahoi Seefischmarkt
UID:e_101260356_iv0
URL:http://pages.destination.one/de/kiel-sailing-city/streaming/detail/Even
 t/e_101260356/historische-hansekogge-ahoi-seefischmarkt
END:VEVENT
BEGIN:VTIMEZONE
TZID:Europe/Berlin
X-LIC-LOCATION:Europe/Berlin
BEGIN:DAYLIGHT
DTSTART:19700329T020000
RRULE:FREQ=YEARLY;BYDAY=-1SU;BYMONTH=3
TZNAME:CEST
TZOFFSETFROM:+0100
TZOFFSETTO:+0200
END:DAYLIGHT
BEGIN:STANDARD
DTSTART:19701025T030000
RRULE:FREQ=YEARLY;BYDAY=-1SU;BYMONTH=10
TZNAME:CET
TZOFFSETFROM:+0200
TZOFFSETTO:+0100
END:STANDARD
END:VTIMEZONE
END:VCALENDAR
